Workbook

Sheet 겉표지
A3: 어시장의 동태
A7: 2020년도

Sheet 참고사항
C3: 이용자를 위한 참고사항
A8: 1. 1963년 11월 1일 개장 이래 1964년부터 1978년까지 15
A9: 개년간의 사업실적을 1979년 총괄하여 발간한 바 있습니다.
A12: 2. 그 이후 분은 당해연도 사업실적을 수록한 동태지를 매년
A13: 발간하고 있습니다.
A16: 3. 본 책자는 2019년도 말 현재의 자료를 수록하였습니다.
A19: 4. 수록된 자료는 표시 단위 미만을 반올림하였으므로 합계수치와
A20: 내용의 수치가 일치하지 않는 경우도 있습니다.

Sheet 차례
A1: 차 례
A4: 제1장 | B4: 위탁판매사업 | D4: 2. | E4: 2019년도 월별 동결·냉장 어종별 출고량‥‥‥‥‥‥‥‥‥‥‥‥ | F4: 42
A5: 1. | B5: 연도별 어업별 위판고 ‥‥‥‥‥‥‥‥‥‥‥‥‥‥‥‥‥‥ | C5: 6 | D5: 3. | E5: 2019년도 월별 인조빙 판매량 및 금액 ‥‥‥‥‥‥‥‥‥‥‥‥ | F5: 43
A6: 2. | B6: 연도별 월별 위판고 (최근 10개년) ‥‥‥‥‥‥‥‥‥‥‥‥‥ | C6: 10 | D6: 4. | E6: 2019년도 월별 어업별 어선 급수량 및 금액‥‥‥‥‥‥‥‥‥‥‥‥ | F6: 44
A7: 3. | B7: 2019년도 월별 어업별 위판고 ‥‥‥‥‥‥‥‥‥‥‥‥‥‥‥‥ | C7: 12 | D7: 5. | E7: 2019년도 상자별(규격별) 이용료율‥‥‥‥‥‥‥‥‥‥‥‥‥‥‥‥‥‥‥‥ | F7: 46
A8: 4. | B8: 2019년도 월별 수협별 위판고 ‥‥‥‥‥‥‥‥‥‥‥‥‥‥‥‥ | C8: 14 | D8: 제5장 | E8: 중도매인 및 매매참가인
A9: 5. | B9: 2019년도 월별 어종별 위판고 및 단가 ‥‥‥‥‥‥‥‥‥‥‥‥‥‥‥ | C9: 16 | D9: 1. | E9: 2019년도 중도매인 및 매매참가인 수 ‥‥‥‥‥‥‥‥‥‥‥‥‥‥ | F9: 48
A10: 6. | B10: 2019년도 1일 최고·최저 위판고 ‥‥‥‥‥‥‥‥‥‥‥‥‥‥ | C10: 20 | D10: 2. | E10: 2019년도 중도매인 분포‥‥‥‥‥‥‥‥‥‥‥‥‥‥‥‥. | F10: 48
A11: 7. | B11: 2019년도 1일 평균 위판고 ‥‥‥‥‥‥‥‥‥‥‥‥‥‥‥‥‥‥ | C11: 20 | D11: 3. | E11: 중도매인 현황 ‥‥‥‥‥‥‥‥‥‥‥‥‥‥‥‥‥‥‥‥‥‥‥‥‥‥ | F11: 49
A12: 8. | B12: 2019년도 월중 1일 최고·최저 위판고‥‥‥‥‥‥‥‥‥‥‥‥‥‥‥‥ | C12: 21 | D12: 4. | E12: 매매참가인 현황 ‥‥‥‥‥‥‥‥‥‥‥‥‥‥‥‥‥‥‥‥‥‥ | F12: 51
A13: 9. | B13: 2019년도 월별 어업별 척당 1회 평균 위판고 ‥‥‥‥‥‥‥‥‥‥‥‥‥‥ | C13: 22 | D13: 5. | E13: 2019년도 중도매인 1인 최고 및 평균 매상고 ‥‥‥‥‥‥‥‥ | F13: 52
A14: 10. | B14: 2019년도 월별 어종별 선상 경매 현황 ‥‥‥‥‥‥‥‥‥‥‥‥‥‥‥ | C14: 24 | D14: 제6장 | E14: 기 타
A15: 11. | B15: 연도별 월별 수입수산물 위판고 ‥‥‥‥‥‥‥‥‥‥‥‥‥‥‥‥‥‥‥ | C15: 26 | D15: 1. | E15: 2019년도 월별 취업 근로자 수 ‥‥‥‥‥‥‥‥‥‥‥‥‥‥‥‥ | F15: 54
A16: 제2장 | B16: 어가동향 | D16: 2. | E16: 2019년도 작업 부문별 노임 ‥‥‥‥‥‥‥‥‥‥‥‥‥‥‥‥‥‥‥‥ | F16: 55
A17: 1. | B17: 2019년도 월별 어업별 평균어가 ‥‥‥‥‥‥‥‥‥‥‥‥‥‥‥‥‥‥ | C17: 28 | D17: 3. | E17: 2019년도 어상자 사용량 및 단가 ‥‥‥‥‥‥‥‥‥‥‥‥‥‥‥‥ | F17: 55
A18: 2. | B18: 2019년도 월별 어종별 평균어가 ‥‥‥‥‥‥‥‥‥‥‥‥‥‥‥‥‥ | C18: 30 | D18: 4. | E18: 2019년도 환원 사업 ‥‥‥‥‥‥‥‥‥‥‥‥‥‥‥‥‥‥‥‥ | F18: 56
A19: 제3장 | B19: 어선입항 | D19: 제7장 | E19: 부 록
A20: 1. | B20: 2019년도 월별 어업별 입항 척수 ‥‥‥‥‥‥‥‥‥‥‥‥‥‥‥‥‥‥ | C20: 36 | D20: 1. | E20: 임원 현황 ‥‥‥‥‥‥‥‥‥‥‥‥‥‥‥‥‥‥‥‥‥‥‥‥‥‥ | F20: 58
A21: 제4장 | B21: 이용가공사업 | D21: 2. | E21: 간부직원 현황 ‥‥‥‥‥‥‥‥‥‥‥‥‥‥‥‥‥‥‥‥‥‥‥‥‥‥‥‥‥‥ | F21: 59
A22: 1. | B22: 2019년도 월별 어종별 동결·냉장량 및 금액 ‥‥‥‥‥‥‥‥‥‥ | C22: 40

Sheet 제1장 위탁판매사업
A8: 제1장 위 탁 판 매 사 업

Sheet 1. 연도별 어업별 위판고
A1: 1. 연도별 어업 | L1: 별 위판고
A2: (단위 - 수량 : 톤, 금액 : 천원)
A3: 구 분 | B3: 계 | D3: 대 형 선 망 | F3: 대 형 기 선 저 인 망 | N3: 중형기선저인망 | P3: 안 강 망 | R3: 상어유망 | T3: 기 타
F4: 소 계 | H4: 외 끌 이 | J4: 쌍 끌 이 | L4: 대형트롤
B5: 수 량 | C5: 금 액 | D5: 수 량 | E5: 금 액 | F5: 수 량 | G5: 금 액 | H5: 수 량 | I5: 금 액 | J5: 수 량 | K5: 금 액 | L5: 수 량 | M5: 금 액 | N5: 수 량 | O5: 금 액 | P5: 수 량 | Q5: 금 액 | R5: 수 량 | S5: 금 액 | T5: 수 량 | U5: 금 액
A6: 1974 | B6: 197948 | C6: 13658083 | D6: 78386 | E6: 5204034 | F6: 79715 | G6: 5837317 | H6: 23099 | I6: 1448082 | J6: 56616 | K6: 4389235 | L6: 0 | M6: 0 | N6: 2372 | O6: 153247 | P6: 30223 | Q6: 1639781 | R6: 4120 | S6: 592779 | T6: 3132 | U6: 230925
A7: 1975 | B7: 182276 | C7: 18288879 | D7: 70067 | E7: 7430900 | F7: 79413 | G7: 7718141 | H7: 30147 | I7: 2116494 | J7: 49266 | K7: 5601647 | L7: 0 | M7: 0 | N7: 2531 | O7: 188630 | P7: 22234 | Q7: 1960681 | R7: 3073 | S7: 640320 | T7: 4958 | U7: 350207
A8: 1976 | B8: 222549 | C8: 26895325 | D8: 110311 | E8: 12243196 | F8: 84874 | G8: 11233581 | H8: 29200 | I8: 2353071 | J8: 55674 | K8: 8880510 | L8: 0 | M8: 0 | N8: 1846 | O8: 145469 | P8: 15444 | Q8: 1830439 | R8: 4477 | S8: 899218 | T8: 5597 | U8: 543422
A9: 1977 | B9: 260563 | C9: 40236529 | D9: 151376 | E9: 18613484 | F9: 81905 | G9: 16585556 | H9: 28964 | I9: 4426670 | J9: 52941 | K9: 12158886 | L9: 0 | M9: 0 | N9: 830 | O9: 99138 | P9: 15316 | Q9: 2937953 | R9: 3513 | S9: 866474 | T9: 7623 | U9: 1133924
A10: 1978 | B10: 251347 | C10: 45227336 | D10: 159930 | E10: 21600681 | F10: 69878 | G10: 18205710 | H10: 26593 | I10: 4671766 | J10: 43285 | K10: 13533944 | L10: 0 | M10: 0 | N10: 561 | O10: 79899 | P10: 14726 | Q10: 3435659 | R10: 3972 | S10: 1516132 | T10: 2280 | U10: 389255
A11: 1979 | B11: 256320 | C11: 50972461 | D11: 164356 | E11: 26555087 | F11: 68283 | G11: 19082993 | H11: 23478 | I11: 4932470 | J11: 42098 | K11: 13686198 | L11: 2707 | M11: 464325 | N11: 6 | O11: 1929 | P11: 18185 | Q11: 3864637 | R11: 3001 | S11: 897507 | T11: 2489 | U11: 570308
A12: 1980 | B12: 263529 | C12: 73593137 | D12: 177019 | E12: 42542174 | F12: 67914 | G12: 24569205 | H12: 17722 | I12: 5498047 | J12: 43559 | K12: 17521240 | L12: 6633 | M12: 1549918 | N12: 0 | O12: 0 | P12: 14827 | Q12: 4697101 | R12: 2342 | S12: 1278938 | T12: 1427 | U12: 505719
A13: 1981 | B13: 296415 | C13: 97296949 | D13: 204216 | E13: 52724976 | F13: 70943 | G13: 34772893 | H13: 17168 | I13: 6415068 | J13: 43099 | K13: 25321539 | L13: 10676 | M13: 3036286 | N13: 0 | O13: 0 | P13: 16785 | Q13: 7555615 | R13: 1854 | S13: 1326005 | T13: 2617 | U13: 917460
A14: 1982 | B14: 293975 | C14: 109157920 | D14: 212816 | E14: 64319729 | F14: 64932 | G14: 35966152 | H14: 13756 | I14: 5477836 | J14: 39499 | K14: 26197413 | L14: 11677 | M14: 4290903 | N14: 61 | O14: 9008 | P14: 11871 | Q14: 6236490 | R14: 2782 | S14: 1946774 | T14: 1513 | U14: 679767
A15: 1983 | B15: 335636 | C15: 116150346 | D15: 242920 | E15: 63236036 | F15: 74244 | G15: 41684769 | H15: 13660 | I15: 6558469 | J15: 44568 | K15: 30091441 | L15: 16016 | M15: 5034859 | N15: 121 | O15: 24872 | P15: 15602 | Q15: 9222210 | R15: 2644 | S15: 1915892 | T15: 105 | U15: 66567
A16: 1984 | B16: 350369 | C16: 125399448 | D16: 258303 | E16: 72932499 | F16: 68889 | G16: 40915595 | H16: 11694 | I16: 6003061 | J16: 44520 | K16: 30788786 | L16: 12675 | M16: 4123748 | N16: 0 | O16: 0 | P16: 21222 | Q16: 9614651 | R16: 1955 | S16: 1936703 | T16: 0 | U16: 0
A17: 1985 | B17: 298694 | C17: 150268189 | D17: 208274 | E17: 92733449 | F17: 68769 | G17: 45098820 | H17: 10786 | I17: 6591475 | J17: 49070 | K17: 34994211 | L17: 8913 | M17: 3513134 | N17: 0 | O17: 0 | P17: 19895 | Q17: 10503247 | R17: 1756 | S17: 1932673 | T17: 0 | U17: 0
... A29: 1997 | B29: 311358 | C29: 320141470 | D29: 147674 | E29: 107790301 | F29: 149886 | G29: 193771994 | H29: 6246 | I29: 16710526 | J29: 52265 | K29: 95124358 | L29: 91375 | M29: 81937110 | N29: 366 | O29: 953480 | P29: 1292 | Q29: 1639827 | R29: 185 | S29: 1098023 | T29: 11955 | U29: 14887845
A30: 연도별 어업별 | L30: 위판고 (계속)
A31: (단위 - 수량 : 톤, 금액 : 천원)
A32: 구 분 | B32: 계 | D32: 대 형 선 망 | F32: 대 형 기 선 저 인 망 | N32: 중형기선저인망 | P32: 안 강 망 | R32: 상어유망 | T32: 기 타
F33: 소 계 | H33: 외 끌 이 | J33: 쌍 끌 이 | L33: 대형트롤
B34: 수 량 | C34: 금 액 | D34: 수 량 | E34: 금 액 | F34: 수 량 | G34: 금 액 | H34: 수 량 | I34: 금 액 | J34: 수 량 | K34: 금 액 | L34: 수 량 | M34: 금 액 | N34: 수 량 | O34: 금 액 | P34: 수 량 | Q34: 금 액 | R34: 수 량 | S34: 금 액 | T34: 수 량 | U34: 금 액
A35: 1998 | B35: 313894 | C35: 373824198 | D35: 172667 | E35: 172363964 | F35: 132644 | G35: 187147717 | H35: 7945 | I35: 18386309 | J35: 57507 | K35: 86478461 | L35: 67192 | M35: 82282947 | N35: 0 | O35: 0 | P35: 1251 | Q35: 1817967 | R35: 177 | S35: 633702 | T35: 7155 | U35: 11860848
A36: 1999 | B36: 332277 | C36: 329954243 | D36: 182672 | E36: 149515503 | F36: 140174 | G36: 164772546 | H36: 5064 | I36: 12751469 | J36: 51652 | K36: 68094729 | L36: 83458 | M36: 83926348 | N36: 633 | O36: 1906466 | P36: 478 | Q36: 523615 | R36: 115 | S36: 379058 | T36: 8205 | U36: 12857055
A37: 2000 | B37: 282682 | C37: 311764259 | D37: 146248 | E37: 155691075 | F37: 127476 | G37: 143230103 | H37: 4731 | I37: 13852852 | J37: 45679 | K37: 59060744 | L37: 77066 | M37: 70316507 | N37: 1277 | O37: 3962373 | P37: 384 | Q37: 604488 | R37: 0 | S37: 0 | T37: 7297 | U37: 8276220
A38: 2001 | B38: 301280 | C38: 302399406 | D38: 181005 | E38: 172728887 | F38: 114493 | G38: 119997809 | H38: 3723 | I38: 12405864 | J38: 39020 | K38: 45342627 | L38: 71750 | M38: 62249318 | N38: 1019 | O38: 4260134 | P38: 320 | Q38: 548036 | R38: 0 | S38: 0 | T38: 4443 | U38: 4864540
A39: 2002 | B39: 258253 | C39: 300929816 | D39: 152622 | E39: 177595103 | F39: 99231 | G39: 109574988 | H39: 2358 | I39: 7679388 | J39: 38375 | K39: 46224358 | L39: 58498 | M39: 55671242 | N39: 1618 | O39: 6393443 | P39: 138 | Q39: 219501 | R39: 0 | S39: 0 | T39: 4644 | U39: 7146781
A40: 2003 | B40: 233119 | C40: 278427967 | D40: 147365 | E40: 170588212 | F40: 77745 | G40: 91762813 | H40: 3197 | I40: 9046395 | J40: 31565 | K40: 36701105 | L40: 42983 | M40: 46015313 | N40: 1791 | O40: 6207461 | P40: 146 | Q40: 236867 | R40: 0 | S40: 0 | T40: 6072 | U40: 9632614
A41: 2004 | B41: 246896 | C41: 342262321 | D41: 177955 | E41: 227700283 | F41: 55605 | G41: 90675046 | H41: 3315 | I41: 8837913 | J41: 27787 | K41: 40250963 | L41: 24503 | M41: 41586170 | N41: 2379 | O41: 7769414 | P41: 58 | Q41: 112284 | R41: 0 | S41: 0 | T41: 10899 | U41: 16005294
A42: 2005 | B42: 209804 | C42: 276712943 | D42: 144776 | E42: 171828106 | F42: 54176 | G42: 83052207 | H42: 4509 | I42: 13007191 | J42: 30717 | K42: 41756060 | L42: 18950 | M42: 28288956 | N42: 2383 | O42: 8457808 | P42: 445 | Q42: 637031 | R42: 0 | S42: 0 | T42: 8024 | U42: 12737791
A43: 2006 | B43: 194872 | C43: 259144340 | D43: 121905 | E43: 155600709 | F43: 62363 | G43: 81421258 | H43: 5116 | I43: 13608847 | J43: 38126 | K43: 45794320 | L43: 19121 | M43: 22018091 | N43: 2382 | O43: 7254117 | P43: 1133 | Q43: 1623392 | R43: 0 | S43: 0 | T43: 7089 | U43: 13244864
A44: 2007 | B44: 228000 | C44: 282856968 | D44: 153161 | E44: 179277125 | F44: 59628 | G44: 79428417 | H44: 4529 | I44: 13283817 | J44: 30658 | K44: 41587842 | L44: 24441 | M44: 24556758 | N44: 3614 | O44: 10481601 | P44: 1264 | Q44: 1559429 | R44: 0 | S44: 0 | T44: 10333 | U44: 12110396
A45: 2008 | B45: 254141 | C45: 337731136 | D45: 189959 | E45: 218084006 | F45: 43591 | G45: 83292181 | H45: 5601 | I45: 16588868 | J45: 21153 | K45: 41058647 | L45: 16837 | M45: 25644666 | N45: 3824 | O45: 11899744 | P45: 2205 | Q45: 5416835 | R45: 0 | S45: 0 | T45: 14562 | U45: 19038370
A46: 2009 | B46: 263325 | C46: 437419229 | D46: 198333 | E46: 295620803 | F46: 53170 | G46: 118629234 | H46: 5564 | I46: 21182700 | J46: 24193 | K46: 55563805 | L46: 23413 | M46: 41882729 | N46: 2005 | O46: 8134121 | P46: 532 | Q46: 1797510 | R46: 0 | S46: 0 | T46: 9285 | U46: 13237562
... A55: 2018 | B55: 189595 | C55: 271909330 | D55: 171634 | E55: 191819069 | F55: 12951 | G55: 55023551 | H55: 2057 | I55: 11164246 | J55: 9519 | K55: 39022719 | L55: 1375 | M55: 4836586 | N55: 3254 | O55: 18720761 | P55: 867 | Q55: 3787288 | R55: 0 | S55: 0 | T55: 889 | U55: 2558661
A56: 2019 | B56: =D56+F56+N56+P56+R56+T56 -> 124328 | C56: =E56+G56+O56+Q56+S56+U56 -> 233469708 | D56: ='3.어업별 위판고'!D18 -> 105541 | E56: ='3.어업별 위판고'!E18 -> 153424988 | F56: =H56+J56+L56 -> 13639 | G56: =I56+K56+M56 -> 55247529 | H56: 2152 | I56: 10566839 | J56: 9711 | K56: 40269765 | L56: 1776 | M56: 4410925 | N56: 3734 | O56: 19499707 | P56: 531 | Q56: 2464101 | R56: 0 | S56: 0 | T56: 883 | U56: 2833383

Sheet 2. 연도별 월별 위판고
A1: 2. 연도별 월별 | L1: 위판고 (최근 10개년)
A2: (단위 - 수량 : 톤, 금액 : 천원)
A3: 구 분 | B3: 2010년 | D3: 2011년 | F3: 2012년 | H3: 2013년 | J3: 2014년 | L3: 2015년 | N3: 2016년 | P3: 2017년 | R3: 2018년 | T3: 2019년 | W3: 어업별 | Y3: 수협별 | AA3: 어종별
B4: 수 량 | C4: 금 액 | D4: 수 량 | E4: 금 액 | F4: 수 량 | G4: 금 액 | H4: 수 량 | I4: 금 액 | J4: 수 량 | K4: 금 액 | L4: 수 량 | M4: 금 액 | N4: 수 량 | O4: 금 액 | P4: 수 량 | Q4: 금 액 | R4: 수 량 | S4: 금 액 | T4: 수 량 | U4: 금 액 | W4: 수량 | X4: 금액 | Y4: 수량 | Z4: 금액 | AA4: 수량 | AB4: 금액
A5: 1월 | B5: 23586 | C5: 39676439 | D5: 22263 | E5: 55037633 | F5: 32483 | G5: 56590453 | H5: 33687 | I5: 51910611 | J5: 16704 | K5: 36874978 | L5: 18545 | M5: 35196208 | N5: 26680 | O5: 32912999 | P5: 14103 | Q5: 24350030 | R5: 22438 | S5: 21566566 | T5: 26923 | U5: 33999520 | V5: =A5 -> 1월 | W5: ='3.어업별 위판고'!B6 -> 26923 | X5: ='3.어업별 위판고'!C6 -> 33999520 | Y5: ='4. 수협별 위판고'!B5 -> 26923 | Z5: ='4. 수협별 위판고'!C5 -> 33999520 | AA5: ='5.어종별 위판고 및 단가'!B5 -> 26923.184 | AB5: ='5.어종별 위판고 및 단가'!C5 -> 33999520
A6: 2월 | B6: 13572 | C6: 27029546 | D6: 12588 | E6: 30112375 | F6: 15863 | G6: 34996729 | H6: 10375 | I6: 22471715 | J6: 8746 | K6: 18604741 | L6: 12891 | M6: 30002258 | N6: 8535 | O6: 22971723 | P6: 5254 | Q6: 14387760 | R6: 7882 | S6: 23611739 | T6: 6590 | U6: 18188483 | V6: =A6 -> 2월 | W6: ='3.어업별 위판고'!B7 -> 6590 | X6: ='3.어업별 위판고'!C7 -> 18188483 | Y6: ='4. 수협별 위판고'!B6 -> 6590 | Z6: ='4. 수협별 위판고'!C6 -> 18188483 | AA6: ='5.어종별 위판고 및 단가'!B6 -> 6589.39 | AB6: ='5.어종별 위판고 및 단가'!C6 -> 18188482
A7: 3월 | B7: 6872 | C7: 19340494 | D7: 11785 | E7: 27385343 | F7: 16001 | G7: 28285151 | H7: 14055 | I7: 24705707 | J7: 8949 | K7: 21952548 | L7: 21802 | M7: 31190743 | N7: 8829 | O7: 21719595 | P7: 5580 | Q7: 17604674 | R7: 14683 | S7: 21170490 | T7: 5272 | U7: 17345733 | V7: =A7 -> 3월 | W7: ='3.어업별 위판고'!B8 -> 5272 | X7: ='3.어업별 위판고'!C8 -> 17345733 | Y7: ='4. 수협별 위판고'!B7 -> 5272 | Z7: ='4. 수협별 위판고'!C7 -> 17345733 | AA7: ='5.어종별 위판고 및 단가'!B7 -> 5272.058 | AB7: ='5.어종별 위판고 및 단가'!C7 -> 17345733
A8: 4월 | B8: 3510 | C8: 11102520 | D8: 6646 | E8: 17743890 | F8: 3315 | G8: 9825071 | H8: 6762 | I8: 18194523 | J8: 4492 | K8: 13392246 | L8: 13676 | M8: 17429661 | N8: 8828 | O8: 15111316 | P8: 2717 | Q8: 7508297 | R8: 4582 | S8: 8657555 | T8: 4332 | U8: 10945116 | V8: =A8 -> 4월 | W8: ='3.어업별 위판고'!B9 -> 4332 | X8: ='3.어업별 위판고'!C9 -> 10945116 | Y8: ='4. 수협별 위판고'!B8 -> 4332 | Z8: ='4. 수협별 위판고'!C8 -> 10945116 | AA8: ='5.어종별 위판고 및 단가'!B8 -> 4331.62 | AB8: ='5.어종별 위판고 및 단가'!C8 -> 10945116
A9: 5월 | B9: 1958 | C9: 7109791 | D9: 3752 | E9: 11034063 | F9: 9227 | G9: 20577935 | H9: 1697 | I9: 6941297 | J9: 3971 | K9: 8643316 | L9: 964 | M9: 3775626 | N9: 2836 | O9: 7827417 | P9: 3713 | Q9: 7438161 | R9: 568 | S9: 3095745 | T9: 756 | U9: 3596288 | V9: =A9 -> 5월 | W9: ='3.어업별 위판고'!B10 -> 756 | X9: ='3.어업별 위판고'!C10 -> 3596288 | Y9: ='4. 수협별 위판고'!B9 -> 756 | Z9: ='4. 수협별 위판고'!C9 -> 3596288 | AA9: ='5.어종별 위판고 및 단가'!B9 -> 756.38 | AB9: ='5.어종별 위판고 및 단가'!C9 -> 3596288
A10: 6월 | B10: 5632 | C10: 14452874 | D10: 5668 | E10: 16741771 | F10: 8777 | G10: 23228976 | H10: 4246 | I10: 11668205 | J10: 5179 | K10: 12687525 | L10: 14885 | M10: 15081143 | N10: 6181 | O10: 13374107 | P10: 7404 | Q10: 18368943 | R10: 739 | S10: 4001730 | T10: 485 | U10: 2680959 | V10: =A10 -> 6월 | W10: ='3.어업별 위판고'!B11 -> 485 | X10: ='3.어업별 위판고'!C11 -> 2680959 | Y10: ='4. 수협별 위판고'!B10 -> 485 | Z10: ='4. 수협별 위판고'!C10 -> 2680959 | AA10: ='5.어종별 위판고 및 단가'!B10 -> 484.874 | AB10: ='5.어종별 위판고 및 단가'!C10 -> 2680959
A11: 7월 | B11: 7204 | C11: 18806368 | D11: 5417 | E11: 18649468 | F11: 9431 | G11: 24441799 | H11: 6757 | I11: 17921182 | J11: 8670 | K11: 20805470 | L11: 11457 | M11: 17269772 | N11: 6966 | O11: 15790541 | P11: 8334 | Q11: 19740048 | R11: 13184 | S11: 21726286 | T11: 3951 | U11: 13150487 | V11: =A11 -> 7월 | W11: ='3.어업별 위판고'!B12 -> 3951 | X11: ='3.어업별 위판고'!C12 -> 13150487 | Y11: ='4. 수협별 위판고'!B11 -> 3951 | Z11: ='4. 수협별 위판고'!C11 -> 13150487 | AA11: ='5.어종별 위판고 및 단가'!B11 -> 3950.868 | AB11: ='5.어종별 위판고 및 단가'!C11 -> 13150487
A12: 8월 | B12: 14288 | C12: 25661148 | D12: 13154 | E12: 27817337 | F12: 10667 | G12: 23969388 | H12: 14152 | I12: 29494666 | J12: 16334 | K12: 26534088 | L12: 18365 | M12: 20709450 | N12: 11279 | O12: 17956339 | P12: 15432 | Q12: 31766735 | R12: 14450 | S12: 21238804 | T12: 9213 | U12: 21411865 | V12: =A12 -> 8월 | W12: ='3.어업별 위판고'!B13 -> 9213 | X12: ='3.어업별 위판고'!C13 -> 21411865 | Y12: ='4. 수협별 위판고'!B12 -> 9213 | Z12: ='4. 수협별 위판고'!C12 -> 21411865 | AA12: ='5.어종별 위판고 및 단가'!B12 -> 9213 | AB12: ='5.어종별 위판고 및 단가'!C12 -> 21411865
A13: 9월 | B13: 20167 | C13: 30985124 | D13: 27183 | E13: 56725717 | F13: 15109 | G13: 42057223 | H13: 21334 | I13: 32929817 | J13: 16319 | K13: 24938145 | L13: 16247 | M13: 31706028 | N13: 18406 | O13: 26119658 | P13: 15968 | Q13: 32158639 | R13: 29520 | S13: 37731478 | T13: 6732 | U13: 15952811 | V13: =A13 -> 9월 | W13: ='3.어업별 위판고'!B14 -> 6732 | X13: ='3.어업별 위판고'!C14 -> 15952811 | Y13: ='4. 수협별 위판고'!B13 -> 6732 | Z13: ='4. 수협별 위판고'!C13 -> 15952811 | AA13: ='5.어종별 위판고 및 단가'!B13 -> 6732 | AB13: ='5.어종별 위판고 및 단가'!C13 -> 15952811
A14: 10월 | B14: 43163 | C14: 60522377 | D14: 41093 | E14: 73994590 | F14: 22717 | G14: 55834136 | H14: 16154 | I14: 32799379 | J14: 16827 | K14: 35105468 | L14: 15940 | M14: 37405259 | N14: 21578 | O14: 32470404 | P14: 10786 | Q14: 24668062 | R14: 25919 | S14: 39503092 | T14: 11359 | U14: 26435525 | V14: =A14 -> 10월 | W14: ='3.어업별 위판고'!B15 -> 11359 | X14: ='3.어업별 위판고'!C15 -> 26435525 | Y14: ='4. 수협별 위판고'!B14 -> 11359 | Z14: ='4. 수협별 위판고'!C14 -> 26435525 | AA14: ='5.어종별 위판고 및 단가'!B14 -> 11359 | AB14: ='5.어종별 위판고 및 단가'!C14 -> 26435525
A15: 11월 | B15: 31656 | C15: 65332230 | D15: 25950 | E15: 68615523 | F15: 20490 | G15: 55680286 | H15: 19431 | I15: 46576655 | J15: 28171 | K15: 54585398 | L15: 16800 | M15: 34389643 | N15: 32438 | O15: 46921378 | P15: 17397 | Q15: 31113928 | R15: 35843 | S15: 42627086 | T15: 13328 | U15: 26886228 | V15: =A15 -> 11월 | W15: ='3.어업별 위판고'!B16 -> 13328 | X15: ='3.어업별 위판고'!C16 -> 26886228 | Y15: ='4. 수협별 위판고'!B15 -> 13328 | Z15: ='4. 수협별 위판고'!C15 -> 26886228 | AA15: ='5.어종별 위판고 및 단가'!B15 -> 13328 | AB15: ='5.어종별 위판고 및 단가'!C15 -> 26886228
A16: 12월 | B16: 24999 | C16: 60725201 | D16: 46468 | E16: 68428346 | F16: 35853 | G16: 62029770 | H16: 37405 | I16: 51445954 | J16: 35208 | K16: 47678419 | L16: 29268 | M16: 47893331 | N16: 31384 | O16: 48184504 | P16: 31836 | Q16: 38915486 | R16: 19787 | S16: 26978759 | T16: 35387 | U16: 42876693 | V16: =A16 -> 12월 | W16: ='3.어업별 위판고'!B17 -> 35387 | X16: ='3.어업별 위판고'!C17 -> 42876693 | Y16: ='4. 수협별 위판고'!B16 -> 35387 | Z16: ='4. 수협별 위판고'!C16 -> 42876693 | AA16: ='5.어종별 위판고 및 단가'!B16 -> 35387 | AB16: ='5.어종별 위판고 및 단가'!C16 -> 42876693
A17: 합 계 | B17: 196607 | C17: 380744112 | D17: 221967 | E17: 472286056 | F17: 199933 | G17: 437516917 | H17: 186055 | I17: 347059711 | J17: 169570 | K17: 321802342 | L17: 190840 | M17: 322049122 | N17: 183940 | O17: 301359981 | P17: 138524 | Q17: 268020763 | R17: 189595 | S17: 271909330 | T17: =SUM(T5:T16) -> 124328 | U17: =SUM(U5:U16) -> 233469708 | V17: =A17 -> 합 계 | W17: ='3.어업별 위판고'!B18 -> 124328 | X17: ='3.어업별 위판고'!C18 -> 233469708 | Y17: ='4. 수협별 위판고'!B17 -> 124328 | Z17: ='4. 수협별 위판고'!C17 -> 233469708 | AA17: ='5.어종별 위판고 및 단가'!B17 -> 124327.37 | AB17: ='5.어종별 위판고 및 단가'!C17 -> 2.3346971e+08

Sheet 3.어업별 위판고
A1: 3. 2019년도 월별 | J1: 어업별 위판고
A2: (단위 - 수량 : 톤, 금액 : 천원)
A3: 구 분 | B3: 계 | D3: 대 형 선 망 | F3: 대 형 기 선 | J3: 저 인 망 | N3: 중형기선저인망 | P3: 근 해 안 강 망 | R3: 기 타
F4: 소 계 | H4: 외 끌 이 | J4: 쌍 끌 이 | L4: 대형트롤
B5: 수 량 | C5: 금 액 | D5: 수 량 | E5: 금 액 | F5: 수 량 | G5: 금 액 | H5: 수 량 | I5: 금 액 | J5: 수 량 | K5: 금 액 | L5: 수 량 | M5: 금 액 | N5: 수 량 | O5: 금 액 | P5: 수 량 | Q5: 금 액 | R5: 수 량 | S5: 금 액
A6: 1월 | B6: =SUM(D6,F6,N6,P6,R6) -> 26923 | C6: =SUM(E6,G6,O6,Q6,S6) -> 33999520 | D6: 25195 | E6: 27038568 | F6: =SUM(H6,J6,L6) -> 1266 | G6: =SUM(I6,K6,M6) -> 5076380 | H6: 93 | I6: 692686 | J6: 1110 | K6: 4002025 | L6: 63 | M6: 381669 | N6: 284 | O6: 1614525 | P6: 14 | Q6: 49626 | R6: 164 | S6: 220421
A7: 2월 | B7: =SUM(D7,F7,N7,P7,R7) -> 6590 | C7: =SUM(E7,G7,O7,Q7,S7) -> 18188483 | D7: 5716 | E7: 14720480 | F7: =SUM(H7,J7,L7) -> 681 | G7: =SUM(I7,K7,M7) -> 2569017 | H7: 138 | I7: 795915 | J7: 525 | K7: 1679052 | L7: 18 | M7: 94050 | N7: 187 | O7: 867039 | P7: 0 | Q7: 0 | R7: 6 | S7: 31947
A8: 3월 | B8: =SUM(D8,F8,N8,P8,R8) -> 5272 | C8: =SUM(E8,G8,O8,Q8,S8) -> 17345733 | D8: 4376 | E8: 13634093 | F8: =SUM(H8,J8,L8) -> 614 | G8: =SUM(I8,K8,M8) -> 2173216 | H8: 136 | I8: 872147 | J8: 405 | K8: 1016837 | L8: 73 | M8: 284232 | N8: 245 | O8: 1365174 | P8: 8 | Q8: 36288 | R8: 29 | S8: 136962
A9: 4월 | B9: =SUM(D9,F9,N9,P9,R9) -> 4332 | C9: =SUM(E9,G9,O9,Q9,S9) -> 10945116 | D9: 3072 | E9: 5912490 | F9: =SUM(H9,J9,L9) -> 914 | G9: =SUM(I9,K9,M9) -> 3499501 | H9: 161 | I9: 1036600 | J9: 722 | K9: 2339445 | L9: 31 | M9: 123456 | N9: 316 | O9: 1400173 | P9: 20 | Q9: 105050 | R9: 10 | S9: 27902
A10: 5월 | B10: =SUM(D10,F10,N10,P10,R10) -> 756 | C10: =SUM(E10,G10,O10,Q10,S10) -> 3596288 | D10: 0 | E10: 0 | F10: =SUM(H10,J10,L10) -> 232 | G10: =SUM(I10,K10,M10) -> 1080282 | H10: 152 | I10: 846880 | J10: 80 | K10: 233402 | L10: 0 | M10: 0 | N10: 384 | O10: 2050469 | P10: 24 | Q10: 90499 | R10: 116 | S10: 375038
A11: 6월 | B11: =SUM(D11,F11,N11,P11,R11) -> 485 | C11: =SUM(E11,G11,O11,Q11,S11) -> 2680959 | D11: 0 | E11: 0 | F11: =SUM(H11,J11,L11) -> 14 | G11: =SUM(I11,K11,M11) -> 67569 | H11: 10 | I11: 33707 | J11: 4 | K11: 33862 | L11: 0 | M11: 0 | N11: 279 | O11: 1901029 | P11: 38 | Q11: 124091 | R11: 154 | S11: 588270
A12: 7월 | B12: =SUM(D12,F12,N12,P12,R12) -> 3951 | C12: =SUM(E12,G12,O12,Q12,S12) -> 13150487 | D12: 2666 | E12: 4762669 | F12: =SUM(H12,J12,L12) -> 746 | G12: =SUM(I12,K12,M12) -> 4331847 | H12: 174 | I12: 1131417 | J12: 572 | K12: 3200430 | L12: 0 | M12: 0 | N12: 490 | O12: 3848407 | P12: 0 | Q12: 0 | R12: 49 | S12: 207564
A13: 8월 | B13: =SUM(D13,F13,N13,P13,R13) -> 9213 | C13: =SUM(E13,G13,O13,Q13,S13) -> 21411865 | D13: 7583 | E13: 12024756 | F13: =SUM(H13,J13,L13) -> 1401 | G13: =SUM(I13,K13,M13) -> 8085673 | H13: 216 | I13: 1150553 | J13: 1184 | K13: 6930640 | L13: 1 | M13: 4480 | N13: 145 | O13: 1033308 | P13: 22 | Q13: 106088 | R13: 62 | S13: 162040
A14: 9월 | B14: =SUM(D14,F14,N14,P14,R14) -> 6732 | C14: =SUM(E14,G14,O14,Q14,S14) -> 15952811 | D14: 5387 | E14: 9252039 | F14: =SUM(H14,J14,L14) -> 1065 | G14: =SUM(I14,K14,M14) -> 5416911 | H14: 162 | I14: 779400 | J14: 835 | K14: 4498501 | L14: 68 | M14: 139010 | N14: 154 | O14: 770974 | P14: 85 | Q14: 370042 | R14: 41 | S14: 142845
A15: 10월 | B15: =SUM(D15,F15,N15,P15,R15)+1 -> 11359 | C15: =SUM(E15,G15,O15,Q15,S15) -> 26435525 | D15: 8039 | E15: 14593022 | F15: =SUM(H15,J15,L15) -> 2683 | G15: =SUM(I15,K15,M15) -> 9316403 | H15: 300 | I15: 1000859 | J15: 2306 | K15: 8111855 | L15: 77 | M15: 203689 | N15: 365 | O15: 1288639 | P15: 196 | Q15: 975488 | R15: 75 | S15: 261973
A16: 11월 | B16: =SUM(D16,F16,N16,P16,R16) -> 13328 | C16: =SUM(E16,G16,O16,Q16,S16) -> 26886228 | D16: 10796 | E16: 18251096 | F16: =SUM(H16,J16,L16) -> 1927 | G16: =SUM(I16,K16,M16) -> 6449015 | H16: 270 | I16: 977851 | J16: 971 | K16: 4002444 | L16: 686 | M16: 1468720 | N16: 457 | O16: 1561698 | P16: 36 | Q16: 225780 | R16: 112 | S16: 398639
A17: 12월 | B17: =SUM(D17,F17,N17,P17,R17)-1 -> 35387 | C17: =SUM(E17,G17,O17,Q17,S17) -> 42876693 | D17: 32711 | E17: 33235775 | F17: =SUM(H17,J17,L17) -> 2096 | G17: =SUM(I17,K17,M17) -> 7181715 | H17: 340 | I17: 1248824 | J17: 997 | K17: 4221272 | L17: 759 | M17: 1711619 | N17: 428 | O17: 1798272 | P17: 88 | Q17: 381149 | R17: 65 | S17: 279782
A18: 합 계 | B18: =SUM(B6:B17) -> 124328 | C18: =SUM(C6:C17) -> 233469708 | D18: 105541 | E18: 153424988 | F18: =SUM(F6:F17) -> 13639 | G18: =SUM(G6:G17) -> 55247529 | H18: =SUM(H6:H17) -> 2152 | I18: =SUM(I6:I17) -> 10566839 | J18: =SUM(J6:J17) -> 9711 | K18: =SUM(K6:K17) -> 40269765 | L18: =SUM(L6:L17) -> 1776 | M18: =SUM(M6:M17) -> 4410925 | ... S18: =SUM(S6:S17) -> 2833383

Sheet 4. 수협별 위판고
A1: 4. 2019년도 월별 | H1: 수협별 위판고
A2: (단위 - 수량 : 톤, 금액 : 천원)
A3: 구 분 | B3: 계 | D3: 대형선망수협 | F3: 대형기선저인망수협 | H3: 서남구기선저인망수협 | J3: 근해안강망수협 | L3: 기 타
B4: 수 량 | C4: 금 액 | D4: 수 량 | E4: 금 액 | F4: 수 량 | G4: 금 액 | H4: 수 량 | I4: 금 액 | J4: 수 량 | K4: 금 액 | L4: 수 량 | M4: 금 액
A5: 1월 | B5: =SUM(D5,F5,H5,J5,L5) -> 26923 | C5: =SUM(E5,G5,I5,K5,M5) -> 33999520 | D5: 25195 | E5: 27038568 | F5: 1266 | G5: 5076380 | H5: 284 | I5: 1614525 | J5: 14 | K5: 49626 | L5: 164 | M5: 220421
A6: 2월 | B6: =SUM(D6,F6,H6,J6,L6) -> 6590 | C6: =SUM(E6,G6,I6,K6,M6) -> 18188483 | D6: 5716 | E6: 14720480 | F6: 681 | G6: 2569017 | H6: 187 | I6: 867039 | J6: 0 | K6: 0 | L6: 6 | M6: 31947
A7: 3월 | B7: =SUM(D7,F7,H7,J7,L7) -> 5272 | C7: =SUM(E7,G7,I7,K7,M7) -> 17345733 | D7: 4376 | E7: 13634093 | F7: 614 | G7: 2173216 | H7: 245 | I7: 1365174 | J7: 8 | K7: 36288 | L7: 29 | M7: 136962
A8: 4월 | B8: =SUM(D8,F8,H8,J8,L8) -> 4332 | C8: =SUM(E8,G8,I8,K8,M8) -> 10945116 | D8: 3072 | E8: 5912490 | F8: 914 | G8: 3499501 | H8: 316 | I8: 1400173 | J8: 20 | K8: 105050 | L8: 10 | M8: 27902
A9: 5월 | B9: =SUM(D9,F9,H9,J9,L9) -> 756 | C9: =SUM(E9,G9,I9,K9,M9) -> 3596288 | D9: 0 | E9: 0 | F9: 232 | G9: 1080282 | H9: 384 | I9: 2050469 | J9: 24 | K9: 90499 | L9: 116 | M9: 375038
A10: 6월 | B10: =SUM(D10,F10,H10,J10,L10) -> 485 | C10: =SUM(E10,G10,I10,K10,M10) -> 2680959 | D10: 0 | E10: 0 | F10: 14 | G10: 67569 | H10: 278 | I10: 1901029 | J10: 38 | K10: 124091 | L10: 155 | M10: 588270
A11: 7월 | B11: =SUM(D11,F11,H11,J11,L11) -> 3951 | C11: =SUM(E11,G11,I11,K11,M11) -> 13150487 | D11: 2666 | E11: 4762669 | F11: 746 | G11: 4331847 | H11: 490 | I11: 3848407 | J11: 0 | K11: 0 | L11: 49 | M11: 207564
A12: 8월 | B12: =SUM(D12,F12,H12,J12,L12) -> 9213 | C12: =SUM(E12,G12,I12,K12,M12) -> 21411865 | D12: 7583 | E12: 12024756 | F12: 1401 | G12: 8085673 | H12: 145 | I12: 1033308 | J12: 22 | K12: 106088 | L12: 62 | M12: 162040
A13: 9월 | B13: =SUM(D13,F13,H13,J13,L13) -> 6732 | C13: =SUM(E13,G13,I13,K13,M13) -> 15952811 | D13: 5387 | E13: 9252039 | F13: 1065 | G13: 5416911 | H13: 154 | I13: 770974 | J13: 85 | K13: 370042 | L13: 41 | M13: 142845
A14: 10월 | B14: =SUM(D14,F14,H14,J14,L14) -> 11359 | C14: =SUM(E14,G14,I14,K14,M14) -> 26435525 | D14: 8039 | E14: 14593022 | F14: 2684 | G14: 9316403 | H14: 365 | I14: 1288639 | J14: 196 | K14: 975488 | L14: 75 | M14: 261973
A15: 11월 | B15: =SUM(D15,F15,H15,J15,L15) -> 13328 | C15: =SUM(E15,G15,I15,K15,M15) -> 26886228 | D15: 10796 | E15: 18251096 | F15: 1927 | G15: 6449015 | H15: 457 | I15: 1561698 | J15: 36 | K15: 225780 | L15: 112 | M15: 398639
A16: 12월 | B16: =SUM(D16,F16,H16,J16,L16) -> 35387 | C16: =SUM(E16,G16,I16,K16,M16) -> 42876693 | D16: 32711 | E16: 33235775 | F16: 2095 | G16: 7181715 | H16: =428+1 -> 429 | I16: 1798272 | J16: 88 | K16: 381149 | L16: =65-1 -> 64 | M16: 279782
A17: 합 계 | B17: =SUM(B5:B16) -> 124328 | C17: =SUM(C5:C16) -> 233469708 | D17: =SUM(D5:D16) -> 105541 | E17: =SUM(E5:E16) -> 153424988 | F17: =SUM(F5:F16) -> 13639 | G17: =SUM(G5:G16) -> 55247529 | H17: =SUM(H5:H16) -> 3734 | I17: =SUM(I5:I16) -> 19499707 | ... M17: =SUM(M5:M16) -> 2833383

Sheet 5.어종별 위판고 및 단가
A1: 5. 2019년도 월별 어종 | N1: 별 위판고 및 단가
A2: (단위 - 수량 : 톤, 금액 : 천원, 단가 : 원/kg)
A3: 구 분 | B3: 계 | E3: 고 등 어 류 | H3: 삼 치 류 | K3: 오 징 어 | N3: 눈 볼 대 | Q3: 전 갱 이 류 | T3: 방 어 | W3: 갈 치
B4: 수 량 | C4: 금 액 | D4: 단 가 | E4: 수 량 | F4: 금 액 | G4: 단 가 | H4: 수 량 | I4: 금 액 | J4: 단 가 | K4: 수 량 | L4: 금 액 | M4: 단 가 | N4: 수 량 | O4: 금 액 | P4: 단 가 | Q4: 수 량 | R4: 금 액 | S4: 단 가 | T4: 수 량 | U4: 금 액 | V4: 단 가 | W4: 수 량 | X4: 금 액 | Y4: 단 가
A5: 1월 | B5: =SUM(E5,H5,K5,N5,Q5,T5,W5,B22,E22,H22,K22,N22,Q22,T22,W22) -> 26923.184 | C5: =SUM(F5,I5,L5,O5,R5,U5,X5,C22,F22,I22,L22,O22,R22,U22,X22) -> 33999520 | D5: =C5/B5 -> 1262.8343 | E5: 18018 | F5: 18660692 | G5: =F5/E5 -> 1035.6694 | H5: 1216 | I5: 5795039 | J5: =I5/H5 -> 4765.6571 | K5: 30.272 | L5: 212027 | M5: =L5/K5 -> 7004.0632 | N5: 63.288 | O5: 657366 | P5: =O5/N5 -> 10386.898 | Q5: 352.494 | R5: 311523.9 | S5: =R5/Q5 -> 883.77079 | T5: 434.142 | U5: 880532.7 | V5: =U5/T5 -> 2028.2136 | W5: 822.473 | X5: 873326.4 | Y5: =X5/W5 -> 1061.8299
A6: 2월 | B6: =SUM(E6,H6,K6,N6,Q6,T6,W6,B23,E23,H23,K23,N23,Q23,T23,W23) -> 6589.39 | C6: =SUM(F6,I6,L6,O6,R6,U6,X6,C23,F23,I23,L23,O23,R23,U23,X23) -> 18188482 | D6: =C6/B6 -> 2760.268 | E6: 2486 | F6: 3930066 | G6: =F6/E6 -> 1580.8793 | H6: 1800 | I6: 8224476.8 | J6: =I6/H6 -> 4569.1538 | K6: 28.42 | L6: 183476 | M6: =L6/K6 -> 6455.8761 | N6: 24.804 | O6: 291576 | P6: =O6/N6 -> 11755.201 | Q6: 169.992 | R6: 157244.7 | S6: =R6/Q6 -> 925.01235 | T6: 1090.602 | U6: 2035996.2 | V6: =U6/T6 -> 1866.8554 | W6: 121.572 | X6: 153356.4 | Y6: =X6/W6 -> 1261.4451
A7: 3월 | B7: =SUM(E7,H7,K7,N7,Q7,T7,W7,B24,E24,H24,K24,N24,Q24,T24,W24) -> 5272.058 | C7: =SUM(F7,I7,L7,O7,R7,U7,X7,C24,F24,I24,L24,O24,R24,U24,X24) -> 17345733 | D7: =C7/B7 -> 3290.1256 | E7: 1970.598 | F7: 3709161 | G7: =F7/E7 -> 1882.2515 | H7: 958 | I7: 4640416 | J7: =I7/H7 -> 4843.858 | K7: 30.976 | L7: 185670 | M7: =L7/K7 -> 5993.9954 | N7: 38.286 | O7: 351168 | P7: =O7/N7 -> 9172.2301 | Q7: 136.224 | R7: 171687.4 | S7: =R7/Q7 -> 1260.3315 | T7: 696.786 | U7: 1037264 | V7: =U7/T7 -> 1488.6407 | W7: 606.33 | X7: 3785785 | Y7: =X7/W7 -> 6243.7699
A8: 4월 | B8: =SUM(E8,H8,K8,N8,Q8,T8,W8,B25,E25,H25,K25,N25,Q25,T25,W25) -> 4331.62 | C8: =SUM(F8,I8,L8,O8,R8,U8,X8,C25,F25,I25,L25,O25,R25,U25,X25) -> 10945116 | D8: =C8/B8 -> 2526.7951 | E8: 905.526 | F8: 1858940 | G8: =F8/E8 -> 2052.8842 | H8: 601 | I8: 3181368.5 | J8: =I8/H8 -> 5293.4584 | K8: 2.492 | L8: 18761 | M8: =L8/K8 -> 7528.4912 | N8: 137.52 | O8: 808666 | P8: =O8/N8 -> 5880.3519 | Q8: 389.766 | R8: 390347.1 | S8: =R8/Q8 -> 1001.4909 | T8: 335.928 | U8: 622048.5 | V8: =U8/T8 -> 1851.7316 | W8: 163.182 | X8: 285308 | Y8: =X8/W8 -> 1748.4036
A9: 5월 | B9: =SUM(E9,H9,K9,N9,Q9,T9,W9,B26,E26,H26,K26,N26,Q26,T26,W26) -> 756.38 | C9: =SUM(F9,I9,L9,O9,R9,U9,X9,C26,F26,I26,L26,O26,R26,U26,X26) -> 3596288 | D9: =C9/B9 -> 4754.6048 | E9: 52.974 | F9: 209239 | G9: =F9/E9 -> 3949.8433 | H9: 83 | I9: 259429 | J9: =I9/H9 -> 3125.6506 | K9: 9.238 | L9: 56659 | M9: =L9/K9 -> 6133.254 | N9: 248.256 | O9: 1601907 | P9: =O9/N9 -> 6452.6416 | Q9: 0.054 | R9: 188 | S9: =R9/Q9 -> 3481.4815 | T9: 0.504 | U9: 664 | V9: =U9/T9 -> 1317.4603 | W9: 10.332 | X9: 36778 | Y9: =X9/W9 -> 3559.6206
A10: 6월 | B10: =SUM(E10,H10,K10,N10,Q10,T10,W10,B27,E27,H27,K27,N27,Q27,T27,W27) -> 484.874 | C10: =SUM(F10,I10,L10,O10,R10,U10,X10,C27,F27,I27,L27,O27,R27,U27,X27) -> 2680959 | D10: =C10/B10 -> 5529.187 | E10: 42.552 | F10: 213405 | G10: =F10/E10 -> 5015.1579 | H10: 1 | I10: 942 | J10: =I10/H10 -> 942 | K10: 43.416 | L10: 254402 | M10: =L10/K10 -> 5859.637 | N10: 126.522 | O10: 1118298 | P10: =O10/N10 -> 8838.7632 | Q10: 27.378 | R10: 36680 | S10: =R10/Q10 -> 1339.7619 | T10: 2.754 | U10: 2459 | V10: =U10/T10 -> 892.88308 | W10: 67.956 | X10: 313508.9 | Y10: =X10/W10 -> 4613.4101
A11: 7월 | B11: =SUM(E11,H11,K11,N11,Q11,T11,W11,B28,E28,H28,K28,N28,Q28,T28,W28) -> 3950.868 | C11: =SUM(F11,I11,L11,O11,R11,U11,X11,C28,F28,I28,L28,O28,R28,U28,X28) -> 13150487 | D11: =C11/B11 -> 3328.5058 | E11: 1468.77 | F11: 2596334.8 | G11: =F11/E11 -> 1767.6932 | H11: 6 | I11: 8708 | J11: =I11/H11 -> 1451.3333 | K11: 596.852 | L11: 3364461.5 | M11: =L11/K11 -> 5637.0114 | N11: 415.71 | O11: 3897512 | P11: =O11/N11 -> 9375.5551 | Q11: 1176.78 | R11: 2085748.7 | S11: =R11/Q11 -> 1772.4202 | T11: 3.006 | U11: 6319 | V11: =U11/T11 -> 2102.1291 | W11: 27.756 | X11: 139475.5 | Y11: =X11/W11 -> 5025.0576
A12: 8월 | B12: 9213 | C12: =SUM(F12,I12,L12,O12,R12,U12,X12,C29,F29,I29,L29,O29,R29,U29,X29) -> 21411865 | D12: =C12/B12 -> 2324.0926 | E12: 4675.386 | F12: 7048540.2 | G12: =F12/E12 -> 1507.5847 | H12: 96 | I12: 197159 | J12: =I12/H12 -> 2053.7396 | K12: 1183.532 | L12: 7315751.9 | M12: =L12/K12 -> 6181.2878 | N12: 131.544 | O12: 1254564 | P12: =O12/N12 -> 9537.2195 | Q12: 2514.018 | R12: 3655170.5 | S12: =R12/Q12 -> 1453.9158 | T12: 2.826 | U12: 6448 | V12: =U12/T12 -> 2281.6702 | W12: 173.448 | X12: 714508 | Y12: =X12/W12 -> 4119.4364
A13: 9월 | B13: 6732 | C13: =SUM(F13,I13,L13,O13,R13,U13,X13,C30,F30,I30,L30,O30,R30,U30,X30) -> 15952811 | D13: =C13/B13 -> 2369.6986 | E13: 3649.392 | F13: 6878594 | G13: =F13/E13 -> 1884.8603 | H13: 483 | I13: 1589672.4 | J13: =I13/H13 -> 3291.2472 | K13: 425.942 | L13: 3363098 | M13: =L13/K13 -> 7895.6712 | N13: 74.358 | O13: 668714 | P13: =O13/N13 -> 8993.1682 | Q13: 1265.664 | R13: 1411422.7 | S13: =R13/Q13 -> 1115.1638 | T13: 3.114 | U13: 5497 | V13: =U13/T13 -> 1765.2537 | W13: 245.502 | X13: 616546.7 | Y13: =X13/W13 -> 2511.3714
A14: 10월 | B14: 11359 | C14: 26435525 | D14: =C14/B14 -> 2327.2757 | E14: 6130 | F14: 11957196 | G14: =F14/E14 -> 1950.6029 | H14: 2163 | I14: 6923538.1 | J14: =I14/H14 -> 3200.896 | K14: 187.948 | L14: 1409755 | M14: =L14/K14 -> 7500.7715 | N14: 66.348 | O14: 481782 | P14: =O14/N14 -> 7261.4397 | Q14: 1185.414 | R14: 1136008.8 | S14: =R14/Q14 -> 958.32241 | T14: 148.14 | U14: 284501 | V14: =U14/T14 -> 1920.4874 | W14: 368.658 | X14: 1153125.9 | Y14: =X14/W14 -> 3127.9015
A15: 11월 | B15: 13328 | C15: 26886228 | D15: =C15/B15 -> 2017.274 | E15: 9630 | F15: 16440386 | G15: =F15/E15 -> 1707.2052 | H15: 1090 | I15: 4177966.5 | J15: =I15/H15 -> 3832.9968 | K15: 11.128 | L15: 88612 | M15: =L15/K15 -> 7962.9763 | N15: 42.93 | O15: 349009 | P15: =O15/N15 -> 8129.7228 | Q15: 457.548 | R15: 386768.7 | S15: =R15/Q15 -> 845.30738 | T15: 112.944 | U15: 266570 | V15: =U15/T15 -> 2360.1962 | W15: 502.548 | X15: 1213930.9 | Y15: =X15/W15 -> 2415.5521
A16: 12월 | B16: 35387 | C16: 42876693 | D16: =C16/B16 -> 1211.651 | E16: 26760 | F16: 24311051 | G16: =F16/E16 -> 908.48472 | H16: 1181 | I16: 4892532 | J16: =I16/H16 -> 4142.7028 | K16: 22.642 | L16: 182213 | M16: =L16/K16 -> 8047.5665 | N16: 52.532 | O16: 441693 | P16: =O16/N16 -> 8408.0751 | Q16: 809.288 | R16: 578252.1 | S16: =R16/Q16 -> 714.51955 | T16: 1696.228 | U16: 4358290.9 | V16: =U16/T16 -> 2569.4016 | W16: 330.366 | X16: 1002300.9 | Y16: =X16/W16 -> 3033.9106
A17: 합 계 | B17: =SUM(B5:B16) -> 124327.37 | C17: =SUM(C5:C16) -> 2.3346971e+08 | D17: =C17/B17 -> 1877.8625 | E17: =SUM(E5:E16) -> 75789.198 | F17: =SUM(F5:F16)+1 -> 97813606 | G17: =F17/E17 -> 1290.6009 | H17: =SUM(H5:H16) -> 9678 | I17: =SUM(I5:I16)+1 -> 39891248 | J17: =I17/H17 -> 4121.8483 | K17: =SUM(K5:K16)-1 -> 2571.858 | L17: =SUM(L5:L16)+1 -> 16634887 | M17: =L17/K17-1 -> 6467.0427 | N17: =SUM(N5:N16)+1 -> 1423.098 | O17: =SUM(O5:O16) -> 11922255 | P17: =O17/N17 -> 8377.6767 | Q17: =SUM(Q5:Q16)-1 -> 8483.62 | R17: =SUM(R5:R16)+1 -> 10321044 | S17: =R17/Q17 -> 1216.5849 | T17: =SUM(T5:T16)+1 -> 4527.974 | U17: =SUM(U5:U16)+1 -> 9506591.3 | V17: =U17/T17-1 -> 2098.5243 | W17: =SUM(W5:W16) -> 3440.123 | X17: =SUM(X5:X16) -> 10287951 | Y17: =X17/W17-1 -> 2989.5764
A18: 2019년도 월별 어종별 | N18: 위판고 및 단가(계속)
A19: (단위 - 수량 : 톤, 금액 : 천원, 단가 : 원/kg)
A20: 구 분 | B20: 병 어 | E20: 참 조 기 | H20: 가 자 미 류 | K20: 다 랑 어 류 | N20: 기 타 돔 류 | Q20: 쥐 치 | T20: 아 귀 | W20: 기 타
B21: 수 량 | C21: 금 액 | D21: 단 가 | E21: 수 량 | F21: 금 액 | G21: 단 가 | H21: 수 량 | I21: 금 액 | J21: 단 가 | K21: 수 량 | L21: 금 액 | M21: 단 가 | N21: 수 량 | O21: 금 액 | P21: 단 가 | Q21: 수 량 | R21: 금 액 | S21: 단 가 | T21: 수 량 | U21: 금 액 | V21: 단 가 | W21: 수 량 | X21: 금 액 | Y21: 단 가
A22: 1월 | B22: 123.355 | C22: 780058.6 | D22: =C22/B22 -> 6323.6885 | E22: 5.292 | F22: 24562 | G22: =F22/E22 -> 4641.3454 | H22: 107.136 | I22: 683491 | J22: =I22/H22 -> 6379.6576 | K22: 91.25 | L22: 605579 | M22: =L22/K22 -> 6636.4822 | N22: 53.532 | O22: 282912 | P22: =O22/N22 -> 5284.9137 | Q22: 6.876 | R22: 41401 | S22: =R22/Q22 -> 6021.0878 | T22: 75.423 | U22: 138753 | V22: =U22/T22 -> 1839.6643 | W22: 5523.651 | X22: 4052256 | Y22: =X22/W22 -> 733.61912
A23: 2월 | B23: 49.752 | C23: 287545 | D23: =C23/B23 -> 5779.5667 | E23: 0.27 | F23: 1317 | G23: =F23/E23 -> 4877.7778 | H23: 125.334 | I23: 615747 | J23: =I23/H23 -> 4912.8489 | K23: 229.58 | L23: 1194558 | M23: =L23/K23 -> 5203.232 | N23: 14.616 | O23: 74398 | P23: =O23/N23 -> 5090.1752 | Q23: 8.82 | R23: 47401 | S23: =R23/Q23 -> 5374.263 | T23: 64.134 | U23: 92644.2 | V23: =U23/T23 -> 1444.5411 | W23: 375.494 | X23: 898680.2 | Y23: =X23/W23 -> 2393.3277
A24: 3월 | B24: 44.478 | C24: 332460 | D24: =C24/B24 -> 7474.7066 | E24: 0.99 | F24: 5955 | G24: =F24/E24 -> 6015.1515 | H24: 96.498 | I24: 557891 | J24: =I24/H24 -> 5781.3737 | K24: 90.12 | L24: 574000 | M24: =L24/K24 -> 6369.2854 | N24: 72.846 | O24: 314141 | P24: =O24/N24 -> 4312.3988 | Q24: 16.92 | R24: 153289 | S24: =R24/Q24 -> 9059.6336 | T24: 79.992 | U24: 126616 | V24: =U24/T24 -> 1582.8583 | W24: 433.014 | X24: 1400229.6 | Y24: =X24/W24 -> 3233.6821
A25: 4월 | B25: 61.998 | C25: 502766 | D25: =C25/B25 -> 8109.3906 | E25: 0.972 | F25: 7765 | G25: =F25/E25 -> 7988.6831 | H25: 127.152 | I25: 631853 | J25: =I25/H25 -> 4969.273 | K25: 2.286 | L25: 7978 | M25: =L25/K25 -> 3489.9388 | N25: 73.044 | O25: 352069 | P25: =O25/N25 -> 4819.9578 | Q25: 3.798 | R25: 32337 | S25: =R25/Q25 -> 8514.218 | T25: 81.306 | U25: 118596 | V25: =U25/T25 -> 1458.6377 | W25: 1445.65 | X25: 2126313 | Y25: =X25/W25 -> 1470.8353
A26: 5월 | B26: 3.618 | C26: 42882 | D26: - | E26: 1.908 | F26: 14885 | G26: =F26/E26 -> 7801.3627 | H26: 91.422 | I26: 441406.5 | J26: =I26/H26 -> 4828.2306 | K26: 0 | L26: 0 | M26: - | N26: 51.318 | O26: 216574 | P26: =O26/N26 -> 4220.2346 | Q26: 0.954 | R26: 6498 | S26: =R26/Q26 -> 6811.3208 | T26: 43.974 | U26: 78252 | V26: =U26/T26 -> 1779.5061 | W26: 158.828 | X26: 630926.5 | Y26: =X26/W26 -> 3972.3884
A27: 6월 | B27: 16.164 | C27: 75501 | D27: =C27/B27 -> 4670.9354 | E27: 1.998 | F27: 10723 | G27: =F27/E27 -> 5366.8669 | H27: 30.852 | I27: 157940 | J27: =I27/H27 -> 5119.2791 | K27: 0.036 | L27: 20 | M27: =L27/K27 -> 555.55556 | N27: 13.32 | O27: 56350 | P27: =O27/N27 -> 4230.4805 | Q27: 0 | R27: 0 | S27: - | T27: 29.286 | U27: 58300 | V27: =U27/T27 -> 1990.7123 | W27: 81.64 | X27: 382430.1 | Y27: =X27/W27 -> 4684.3471
A28: 7월 | B28: 0.252 | C28: 2275 | D28: =C28/B28 -> 9027.7778 | E28: 1.512 | F28: 6153 | G28: =F28/E28 -> 4069.4444 | H28: 20.286 | I28: 100116 | J28: =I28/H28 -> 4935.2263 | K28: 0.342 | L28: 1760 | M28: =L28/K28 -> 5146.1988 | N28: 27.738 | O28: 110424 | P28: =O28/N28 -> 3980.9647 | Q28: 0 | R28: 0 | S28: - | T28: 58.194 | U28: 90576 | V28: =U28/T28 -> 1556.4491 | W28: 147.67 | X28: 740623.5 | Y28: =X28/W28 -> 5015.3958
A29: 8월 | B29: 0.66 | C29: 6380 | D29: =C29/B29 -> 9666.6667 | E29: 9 | F29: 39121.5 | G29: =F29/E29 -> 4346.8333 | H29: 22.536 | I29: 107802.5 | J29: =I29/H29 -> 4783.5685 | K29: 7.908 | L29: 10731 | M29: =L29/K29 -> 1356.9803 | N29: 52.308 | O29: 234215 | P29: =O29/N29 -> 4477.6134 | Q29: 3.834 | R29: 19360 | S29: =R29/Q29 -> 5049.5566 | T29: 44.856 | U29: 86026 | V29: =U29/T29 -> 1917.8259 | W29: 295.546 | X29: 716087.4 | Y29: =X29/W29 -> 2422.9304
A30: 9월 | B30: 10.315 | C30: 23558.7 | D30: =C30/B30 -> 2283.9263 | E30: 47.268 | F30: 198503 | G30: =F30/E30 -> 4199.5219 | H30: 16.146 | I30: 90828 | J30: =I30/H30 -> 5625.4181 | K30: 1.476 | L30: 3132 | M30: =L30/K30 -> 2121.9512 | N30: 41.454 | O30: 203934 | P30: =O30/N30 -> 4919.5253 | Q30: 3.744 | R30: 21666 | S30: =R30/Q30 -> 5786.859 | T30: 42.75 | U30: 114236 | V30: =U30/T30 -> 2672.1871 | W30: 422.215 | X30: 763408.8 | Y30: =X30/W30 -> 1808.1044
A31: 10월 | B31: 33.156 | C31: 311206 | D31: =C31/B31 -> 9386.1141 | E31: 245.214 | F31: 928028 | G31: =F31/E31 -> 3784.5637 | H31: 51.66 | I31: 263072 | J31: =I31/H31 -> 5092.3732 | K31: 2.934 | L31: 3027.5 | M31: =L31/K31 -> 1031.8678 | N31: 45.36 | O31: 219038 | P31: =O31/N31 -> 4828.8801 | Q31: 3.024 | R31: 14745 | S31: =R31/Q31 -> 4875.9921 | T31: 48.816 | U31: 98769 | V31: =U31/T31 -> 2023.2915 | W31: 679.584 | X31: 1251732.5 | Y31: =X31/W31 -> 1841.9099
A32: 11월 | B32: 98.91 | C32: 770335.5 | D32: =C32/B32 -> 7788.2469 | E32: 173.394 | F32: 662975.2 | G32: =F32/E32 -> 3823.5187 | H32: 73.692 | I32: 400752 | J32: =I32/H32 -> 5438.2022 | K32: 22.464 | L32: 41312 | M32: =L32/K32 -> 1839.0313 | N32: 51.894 | O32: 221585 | P32: =O32/N32 -> 4269.9541 | Q32: 1.35 | R32: 7030 | S32: =R32/Q32 -> 5207.4074 | T32: 44.586 | U32: 112330 | V32: =U32/T32 -> 2519.4007 | W32: 1013.842 | X32: 1746665 | Y32: =X32/W32 -> 1722.8178
A33: 12월 | B33: 92.304 | C33: 580417 | D33: =C33/B33 -> 6288.1024 | E33: 146.628 | F33: 478131.4 | G33: =F33/E33 -> 3260.8465 | H33: 130.176 | I33: 605434.5 | J33: =I33/H33 -> 4650.8919 | K33: 98.056 | L33: 89131.4 | M33: =L33/K33 -> 908.98466 | N33: 38.592 | O33: 217667 | P33: =O33/N33 -> 5640.2104 | Q33: 2.78 | R33: 22860 | S33: =R33/Q33 -> 8223.0216 | T33: 66.564 | U33: 161984.5 | V33: =U33/T33 -> 2433.5151 | W33: 3959.596 | X33: 4954733.8 | Y33: =X33/W33 -> 1251.3231
A34: 합 계 | B34: =SUM(B22:B33)-1 -> 533.962 | C34: =SUM(C22:C33)+1 -> 3715385.8 | D34: =C34/B34-1 -> 6957.1465 | E34: =SUM(E22:E33) -> 634.446 | F34: =SUM(F22:F33) -> 2378119.1 | G34: =F34/E34 -> 3748.3397 | H34: =SUM(H22:H33)-1 -> 891.89 | I34: =SUM(I22:I33)+1 -> 4656334.5 | J34: =I34/H34-1 -> 5219.7498 | K34: =SUM(K22:K33)-1 -> 545.452 | L34: =SUM(L22:L33) -> 2531228.9 | M34: =L34/K34+3 -> 4643.608 | N34: =SUM(N22:N33) -> 536.022 | O34: =SUM(O22:O33) -> 2503307 | P34: =O34/N34 -> 4670.1572 | Q34: =SUM(Q22:Q33)+1 -> 53.1 | R34: =SUM(R22:R33) -> 366587 | S34: =R34/Q34 -> 6903.71 | T34: =SUM(T22:T33) -> 679.881 | U34: =SUM(U22:U33) -> 1277082.7 | V34: =U34/T34 -> 1878.3915 | W34: =SUM(W22:W33)+2 -> 14538.73 | X34: =SUM(X22:X33)+1 -> 19664087 | Y34: =X34/W34 -> 1352.5313

Sheet 6~7.최고최저평균위판고
A1: 6. 2019년도 1일 최고·최저 위판고
A2: (단위 - 수량 : 톤, 금액 : 천원, 단가 : 원/kg)
A3: 구 분 | B3: 수 량 | C3: 금 액 | D3: 단 가
A4: 1일 최고 (12/9) | B4: 1482 | C4: 3135095 | D4: =C4/B4 -> 2115.4487 | AD4: ]
A5: 1일 최저 (5/22) | B5: 3 | C5: 1512 | D5: =C5/B5 -> 504
A7: 7. 2019년도 1일 평균 위판고
A8: (단위 - 수량 : 톤, 금액 : 천원, 단가 : 원/kg)
A9: 구 분 | B9: 수 량 | C9: 금 액 | D9: 단 가
A10: 일 평 균 | B10: =124328/(365-65) -> 414.42667 | C10: =233469708/(365-65) -> 778232.36 | D10: =C10/B10 -> 1877.853

Sheet 8.월중 최고최저위판고
A1: 8. 2019년도 월 중 1일 최고·최저 위판고
A2: (단위 - 수량 : 톤, 금액 : 천원, 단가 : 원/kg)
A3: 구 분 | B3: 월 중 1일 최고 | F3: 월 중 1일 최저
B4: 일 자 | C4: 수 량 | D4: 금 액 | E4: 단 가 | F4: 일 자 | G4: 수 량 | H4: 금 액 | I4: 단 가
A5: 1월 | B5: 2 | C5: 1189 | D5: 2824213 | E5: =D5/C5 -> 2375.2843 | F5: 19 | G5: 7 | H5: 49681 | I5: =H5/G5 -> 7097.2857
A6: 2월 | B6: 11 | C6: 873 | D6: 2638415 | E6: =D6/C6 -> 3022.2394 | F6: 9 | G6: 3 | H6: 15695 | I6: =H6/G6 -> 5231.6667
A7: 3월 | B7: 11 | C7: 554 | D7: 2992853 | E7: =D7/C7 -> 5402.2617 | F7: 26 | G7: 4 | H7: 20319 | I7: =H7/G7 -> 5079.75
A8: 4월 | B8: 5 | C8: 434 | D8: 2001733 | E8: =D8/C8 -> 4612.288 | F8: 26 | G8: 8 | H8: 38033 | I8: =H8/G8 -> 4754.125
A9: 5월 | B9: 7 | C9: 129 | D9: 455448 | E9: =D9/C9 -> 3530.6047 | F9: 22 | G9: 3 | H9: 1512 | I9: =H9/G9 -> 504
A10: 6월 | B10: 3 | C10: 104 | D10: 431776 | E10: =D10/C10 -> 4151.6923 | F10: 20 | G10: 5 | H10: 17473 | I10: =H10/G10 -> 3494.6
A11: 7월 | B11: 26 | C11: 536 | D11: 1300416 | E11: =D11/C11 -> 2426.1493 | F11: 3 | G11: 13 | H11: 44661 | I11: =H11/G11 -> 3435.4615
A12: 8월 | B12: 5 | C12: 926 | D12: 2109632 | E12: =D12/C12 -> 2278.2203 | F12: 16 | G12: 1 | H12: 1911 | I12: =H12/G12 -> 1911
A13: 9월 | B13: 30 | C13: 910 | D13: 1890387 | E13: =D13/C13 -> 2077.3484 | F13: 23 | G13: 5 | H13: 25927 | I13: =H13/G13 -> 5185.4
A14: 10월 | B14: 24 | C14: 813 | D14: 1892248 | E14: =D14/C14 -> 2327.4883 | F14: 5 | G14: 21 | H14: 90336 | I14: =H14/G14 -> 4301.7143
A15: 11월 | B15: 19 | C15: 895 | D15: 2460617 | E15: =D15/C15 -> 2749.2927 | F15: 30 | G15: 3 | H15: 9102 | I15: =H15/G15 -> 3034
A16: 12월 | B16: 9 | C16: 1482 | D16: 3135095 | E16: =D16/C16 -> 2115.4487 | F16: 14 | G16: 15 | H16: 56888 | I16: =H16/G16 -> 3792.5333

Sheet 9.어업별 척당 1회 평균 위판고
A1: 9. 2019년도 월별 어업별 | H1: 척당 1회 평균 위판고
A2: (단위 - 수량 : 톤, 금액 : 천원)
A3: 구 분 | B3: 대 형 선 망 | D3: 대 형 기 선 | H3: 저 인 망 | J3: 중형기선저인망 | L3: 기 타
D4: 외 끌 이 | F4: 쌍 끌 이 | H4: 대형트롤
B5: 수 량 | C5: 금 액 | D5: 수 량 | E5: 금 액 | F5: 수 량 | G5: 금 액 | H5: 수 량 | I5: 금 액 | J5: 수 량 | K5: 금 액 | L5: 수 량 | M5: 금 액
A6: 1월 | B6: 93.66171 | C6: 100515.12 | D6: 10.333333 | E6: 76965.222 | F6: 50.454545 | G6: 181910.23 | H6: 9 | I6: 54524.143 | J6: 2.119403 | K6: 12047.612 | L6: 22.25 | M6: 12143.461
A7: 2월 | B7: 47.239669 | C7: 121656.87 | D7: 8.625 | E7: 49744.625 | F7: 23.863636 | G7: 76320.545 | H7: 6 | I7: 31350 | J7: 3.5961538 | K7: 16673.827 | L7: 0.75 | M7: 42597.333
A8: 3월 | B8: 32.656716 | C8: 101746.96 | D8: 9.7142857 | E8: 62296.286 | F8: 50.625 | G8: 127104.62 | H8: 10.428571 | I8: 40604.571 | J8: 3.3108108 | K8: 18448.297 | L8: 9.25 | M8: 18729.622
A9: 4월 | B9: 31.670103 | C9: 60953.505 | D9: 6.7083333 | E9: 43191.708 | F9: 36.1 | G9: 116972.25 | H9: 7.75 | I9: 30864 | J9: 2.7008547 | K9: 11967.291 | L9: 0 | M9: 0
A10: 5월 | B10: 0 | C10: 0 | D10: 4.9032258 | E10: 27318.71 | F10: 0 | G10: 0 | H10: 0 | I10: 0 | J10: 3.047619 | K10: 16273.563 | L10: 15.555556 | M10: 29927.379
A11: 6월 | B11: 0 | C11: 0 | D11: 0 | E11: 0 | F11: 0 | G11: 0 | H11: 0 | I11: 0 | J11: 2.2786885 | K11: 15582.205 | L11: 7.3846154 | M11: 96465.552
A12: 7월 | B12: 36.027027 | C12: 64360.392 | D12: 4.8333333 | E12: 31428.25 | F12: 143 | G12: 800107.5 | H12: 0 | I12: 0 | J12: 2.6203209 | K12: 20579.717 | L12: 0 | M12: 0
A13: 8월 | B13: 30.700405 | C13: 48683.223 | D13: 3.5409836 | E13: 18861.525 | F13: 84.571429 | G13: 495045.71 | H13: 1 | I13: 4480 | J13: 1.7058824 | K13: 12156.565 | L13: 84 | M13: 3192
A14: 9월 | B14: 31.87574 | C14: 54745.793 | D14: 2.53125 | E14: 12178.125 | F14: 75.909091 | G14: 408954.64 | H14: 34 | I14: 69505 | J14: 2.1388889 | K14: 10702.875 | L14: 25.2 | M14: 20367.222
A15: 10월 | B15: 44.414365 | C15: 80624.431 | D15: 9.375 | E15: 31276.844 | F15: 177.46154 | G15: 623988.85 | H15: 9.625 | I15: 25461.125 | J15: 2.8740157 | K15: 10146.764 | L15: 30.111111 | M15: 41096.491
A16: 11월 | B16: 57.121693 | C16: 96566.646 | D16: 10.384615 | E16: 37609.654 | F16: 194.2 | G16: 800489 | H16: 21.4375 | I16: 45897.531 | J16: 4.1545455 | K16: 14197.255 | L16: 9.25 | M16: 67504.541
A17: 12월 | B17: 118.51812 | C17: 120419.47 | D17: 16.95 | E17: 62441.3 | F17: 71.214286 | G17: 301519.43 | H17: 0 | I17: 0 | J17: 3.2923077 | K17: 13832.862 | L17: 13.909091 | M17: 47517.771
A18: 평 균 | B18: =AVERAGE(B6:B17) -> 43.657129 | C18: =AVERAGE(C6:C17) -> 70856.035 | D18: =AVERAGE(D6:D17) -> 7.3249467 | E18: =AVERAGE(E6:E17) -> 37776.021 | F18: =AVERAGE(F6:F17) -> 75.616627 | G18: =AVERAGE(G6:G17) -> 327701.06 | H18: =AVERAGE(H6:H17) -> 8.2700893 | I18: =AVERAGE(I6:I17) -> 25223.864 | ... M18: =AVERAGE(M6:M17) -> 31628.448

Sheet 10.선상 경매 현황
A1: 10. 2019년도 월별 어종별 | K1: 선상 경매 현황
A2: (단위 - 수량 : 톤, 금액 : 백만원, 단가 : 원/kg)
A3: 구 분 | B3: 계 | E3: 고 등 어 | H3: 눈 퉁 멸 | K3: 삼 치 | N3: 전 갱 이 | Q3: 오 징 어 | T3: 기 타
B4: 수 량 | C4: 금 액 | D4: 단 가 | E4: 수 량 | F4: 금 액 | G4: 단 가 | H4: 수 량 | I4: 금 액 | J4: 단 가 | K4: 수 량 | L4: 금 액 | M4: 단 가 | N4: 수 량 | O4: 금 액 | P4: 단 가 | Q4: 수 량 | R4: 금 액 | S4: 단 가 | T4: 수 량 | U4: 금 액 | V4: 단 가
A5: 1월 | B5: 6951 | C5: 5593 | D5: =IF(B5=0,0,((C5/B5)*1000)) -> 804.63243 | E5: 5311 | F5: 4625 | G5: =IF(E5=0,0,((F5/E5)*1000)) -> 870.83412 | H5: 59 | I5: 31 | J5: =IF(H5=0,0,((I5/H5)*1000)) -> 525.42373 | K5: 5 | L5: 7 | M5: =IF(K5=0,0,((L5/K5)*1000)) -> 1400 | N5: 7 | O5: 5 | P5: =IF(N5=0,0,((O5/N5)*1000)) -> 714.28571 | Q5: 2 | R5: 1 | S5: =IF(Q5=0,0,((R5/Q5)*1000)) -> 500 | T5: 1567 | U5: 924 | V5: =IF(T5=0,0,((U5/T5)*1000)) -> 589.66177
A6: 2월 | B6: 465 | C6: 890 | D6: =IF(B6=0,0,((C6/B6)*1000)) -> 1913.9785 | E6: 297 | F6: 330 | G6: =IF(E6=0,0,((F6/E6)*1000)) -> 1111.1111 | H6: 0 | I6: 0 | J6: =IF(H6=0,0,((I6/H6)*1000)) -> 0 | K6: 3 | L6: 12 | M6: =IF(K6=0,0,((L6/K6)*1000)) -> 4000 | N6: 25 | O6: 15 | P6: =IF(N6=0,0,((O6/N6)*1000)) -> 600 | Q6: 1 | R6: 1 | S6: =IF(Q6=0,0,((R6/Q6)*1000)) -> 1000 | T6: 139 | U6: 532 | V6: =IF(T6=0,0,((U6/T6)*1000)) -> 3827.3381
A7: 3월 | B7: 89 | C7: 243 | D7: =IF(B7=0,0,((C7/B7)*1000)) -> 2730.3371 | E7: 27 | F7: 29 | G7: =IF(E7=0,0,((F7/E7)*1000)) -> 1074.0741 | H7: 0 | I7: 0 | J7: =IF(H7=0,0,((I7/H7)*1000)) -> 0 | K7: 0 | L7: 0 | M7: =IF(K7=0,0,((L7/K7)*1000)) -> 0 | N7: 11 | O7: 8 | P7: =IF(N7=0,0,((O7/N7)*1000)) -> 727.27273 | Q7: 0 | R7: 0 | S7: =IF(Q7=0,0,((R7/Q7)*1000)) -> 0 | T7: 51 | U7: 206 | V7: =IF(T7=0,0,((U7/T7)*1000)) -> 4039.2157
A8: 4월 | B8: 58 | C8: 58 | D8: =IF(B8=0,0,((C8/B8)*1000)) -> 1000 | E8: 17 | F8: 19 | G8: =IF(E8=0,0,((F8/E8)*1000)) -> 1117.6471 | H8: 0 | I8: 0 | J8: =IF(H8=0,0,((I8/H8)*1000)) -> 0 | K8: 2 | L8: 1 | M8: =IF(K8=0,0,((L8/K8)*1000)) -> 500 | N8: 30 | O8: 26 | P8: =IF(N8=0,0,((O8/N8)*1000)) -> 866.66667 | Q8: 0 | R8: 0 | S8: =IF(Q8=0,0,((R8/Q8)*1000)) -> 0 | T8: 9 | U8: 12 | V8: =IF(T8=0,0,((U8/T8)*1000)) -> 1333.3333
A9: 5월 | B9: 0 | C9: 0 | D9: =IF(B9=0,0,((C9/B9)*1000)) -> 0 | E9: 0 | F9: 0 | G9: =IF(E9=0,0,((F9/E9)*1000)) -> 0 | H9: 0 | I9: 0 | J9: =IF(H9=0,0,((I9/H9)*1000)) -> 0 | K9: 0 | L9: 0 | M9: =IF(K9=0,0,((L9/K9)*1000)) -> 0 | N9: 0 | O9: 0 | P9: =IF(N9=0,0,((O9/N9)*1000)) -> 0 | Q9: 0 | R9: 0 | S9: =IF(Q9=0,0,((R9/Q9)*1000)) -> 0 | T9: 0 | U9: 0 | V9: =IF(T9=0,0,((U9/T9)*1000)) -> 0
A10: 6월 | B10: 0 | C10: 0 | D10: =IF(B10=0,0,((C10/B10)*1000)) -> 0 | E10: 0 | F10: 0 | G10: =IF(E10=0,0,((F10/E10)*1000)) -> 0 | H10: 0 | I10: 0 | J10: =IF(H10=0,0,((I10/H10)*1000)) -> 0 | K10: 0 | L10: 0 | M10: =IF(K10=0,0,((L10/K10)*1000)) -> 0 | N10: 0 | O10: 0 | P10: =IF(N10=0,0,((O10/N10)*1000)) -> 0 | Q10: 0 | R10: 0 | S10: =IF(Q10=0,0,((R10/Q10)*1000)) -> 0 | T10: 0 | U10: 0 | V10: =IF(T10=0,0,((U10/T10)*1000)) -> 0
A11: 7월 | B11: 1506 | C11: 2460 | D11: =IF(B11=0,0,((C11/B11)*1000)) -> 1633.4661 | E11: 527 | F11: 607 | G11: =IF(E11=0,0,((F11/E11)*1000)) -> 1151.8027 | H11: 0 | I11: 0 | J11: =IF(H11=0,0,((I11/H11)*1000)) -> 0 | K11: 0 | L11: 0 | M11: =IF(K11=0,0,((L11/K11)*1000)) -> 0 | N11: 972 | O11: 1849 | P11: =IF(N11=0,0,((O11/N11)*1000)) -> 1902.2634 | Q11: 1 | R11: 1 | S11: =IF(Q11=0,0,((R11/Q11)*1000)) -> 1000 | T11: 6 | U11: 3 | V11: =IF(T11=0,0,((U11/T11)*1000)) -> 500
A12: 8월 | B12: 2068 | C12: 3249 | D12: =IF(B12=0,0,((C12/B12)*1000)) -> 1571.0832 | E12: 658 | F12: 811 | G12: =IF(E12=0,0,((F12/E12)*1000)) -> 1232.5228 | H12: 0 | I12: 0 | J12: =IF(H12=0,0,((I12/H12)*1000)) -> 0 | K12: 0 | L12: 0 | M12: =IF(K12=0,0,((L12/K12)*1000)) -> 0 | N12: 1378 | O12: 2400 | P12: =IF(N12=0,0,((O12/N12)*1000)) -> 1741.6546 | Q12: 2 | R12: 4 | S12: =IF(Q12=0,0,((R12/Q12)*1000)) -> 2000 | T12: 30 | U12: 34 | V12: =IF(T12=0,0,((U12/T12)*1000)) -> 1133.3333
A13: 9월 | B13: 898 | C13: 997 | D13: =IF(B13=0,0,((C13/B13)*1000)) -> 1110.245 | E13: 342 | F13: 342 | G13: =IF(E13=0,0,((F13/E13)*1000)) -> 1000 | H13: 0 | I13: 0 | J13: =IF(H13=0,0,((I13/H13)*1000)) -> 0 | K13: 0 | L13: 0 | M13: =IF(K13=0,0,((L13/K13)*1000)) -> 0 | N13: 430 | O13: 565 | P13: =IF(N13=0,0,((O13/N13)*1000)) -> 1313.9535 | Q13: 0 | R13: 0 | S13: =IF(Q13=0,0,((R13/Q13)*1000)) -> 0 | T13: 126 | U13: 90 | V13: =IF(T13=0,0,((U13/T13)*1000)) -> 714.28571
A14: 10월 | B14: 384 | C14: 511 | D14: =IF(B14=0,0,((C14/B14)*1000)) -> 1330.7292 | E14: 254 | F14: 408 | G14: =IF(E14=0,0,((F14/E14)*1000)) -> 1606.2992 | H14: 0 | I14: 0 | J14: =IF(H14=0,0,((I14/H14)*1000)) -> 0 | K14: 0 | L14: 0 | M14: =IF(K14=0,0,((L14/K14)*1000)) -> 0 | N14: 72 | O14: 60 | P14: =IF(N14=0,0,((O14/N14)*1000)) -> 833.33333 | Q14: 0 | R14: 0 | S14: =IF(Q14=0,0,((R14/Q14)*1000)) -> 0 | T14: 58 | U14: 43 | V14: =IF(T14=0,0,((U14/T14)*1000)) -> 741.37931
A15: 11월 | B15: 135 | C15: 130 | D15: =IF(B15=0,0,((C15/B15)*1000)) -> 962.96296 | E15: 67 | F15: 68 | G15: =IF(E15=0,0,((F15/E15)*1000)) -> 1014.9254 | H15: 0 | I15: 0 | J15: =IF(H15=0,0,((I15/H15)*1000)) -> 0 | K15: 1 | L15: 1 | M15: =IF(K15=0,0,((L15/K15)*1000)) -> 1000 | N15: 66 | O15: 60 | P15: =IF(N15=0,0,((O15/N15)*1000)) -> 909.09091 | Q15: 0 | R15: 0 | S15: =IF(Q15=0,0,((R15/Q15)*1000)) -> 0 | T15: 1 | U15: 1 | V15: =IF(T15=0,0,((U15/T15)*1000)) -> 1000
A16: 12월 | B16: 1544 | C16: 970 | D16: =IF(B16=0,0,((C16/B16)*1000)) -> 628.23834 | E16: 812 | F16: 581 | G16: =IF(E16=0,0,((F16/E16)*1000)) -> 715.51724 | H16: 0 | I16: 0 | J16: =IF(H16=0,0,((I16/H16)*1000)) -> 0 | K16: 2 | L16: 1 | M16: =IF(K16=0,0,((L16/K16)*1000)) -> 500 | N16: 7 | O16: 3 | P16: =IF(N16=0,0,((O16/N16)*1000)) -> 428.57143 | Q16: 0 | R16: 0 | S16: =IF(Q16=0,0,((R16/Q16)*1000)) -> 0 | T16: 723 | U16: 385 | V16: =IF(T16=0,0,((U16/T16)*1000)) -> 532.50346
A17: 합계 | B17: =SUM(B5:B16) -> 14098 | C17: =SUM(C5:C16) -> 15101 | D17: =IF(B17=0,0,((C17/B17)*1000)) -> 1071.1448 | E17: =SUM(E5:E16) -> 8312 | F17: =SUM(F5:F16) -> 7820 | G17: =IF(E17=0,0,((F17/E17)*1000)) -> 940.80847 | H17: =SUM(H5:H16) -> 59 | I17: =SUM(I5:I16) -> 31 | J17: =IF(H17=0,0,((I17/H17)*1000)) -> 525.42373 | K17: =SUM(K5:K16) -> 13 | L17: =SUM(L5:L16) -> 22 | M17: =IF(K17=0,0,((L17/K17)*1000)) -> 1692.3077 | N17: =SUM(N5:N16) -> 2998 | O17: =SUM(O5:O16) -> 4991 | P17: =IF(N17=0,0,((O17/N17)*1000)) -> 1664.7765 | Q17: =SUM(Q5:Q16) -> 6 | R17: =SUM(R5:R16) -> 7 | S17: =IF(Q17=0,0,((R17/Q17)*1000)) -> 1166.6667 | T17: =SUM(T5:T16) -> 2710 | U17: =SUM(U5:U16) -> 2230 | V17: =IF(T17=0,0,((U17/T17)*1000)) -> 822.87823

Sheet 11.수입수산물 위판고
A1: 11. 연도별 월별 수입수산물 위판고
A2: (단위 - 수량 : 톤, 금액 : 천원, 단가 : 원/kg)
A3: 구 분 | B3: 2017년 | E3: 2018년 | H3: 2019년
B4: 수 량 | C4: 금 액 | D4: 단 가 | E4: 수 량 | F4: 금 액 | G4: 단 가 | H4: 수 량 | I4: 금 액 | J4: 단 가
A5: 1월 | B5: 0 | C5: 0 | D5: =IF(B5=0,0,((C5/B5)*1000)) -> 0 | E5: 0 | F5: 0 | G5: =IF(E5=0,0,((F5/E5)*1000)) -> 0 | H5: 0 | I5: 0 | J5: =IF(H5=0,0,((I5/H5)*1000)) -> 0
A6: 2월 | B6: 0 | C6: 0 | D6: =IF(B6=0,0,((C6/B6)*1000)) -> 0 | E6: 0 | F6: 0 | G6: =IF(E6=0,0,((F6/E6)*1000)) -> 0 | H6: 0 | I6: 0 | J6: =IF(H6=0,0,((I6/H6)*1000)) -> 0
A7: 3월 | B7: 0 | C7: 0 | D7: =IF(B7=0,0,((C7/B7)*1000)) -> 0 | E7: 0 | F7: 0 | G7: =IF(E7=0,0,((F7/E7)*1000)) -> 0 | H7: 0 | I7: 0 | J7: =IF(H7=0,0,((I7/H7)*1000)) -> 0
A8: 4월 | B8: 0 | C8: 0 | D8: =IF(B8=0,0,((C8/B8)*1000)) -> 0 | E8: 0 | F8: 0 | G8: =IF(E8=0,0,((F8/E8)*1000)) -> 0 | H8: 0 | I8: 0 | J8: =IF(H8=0,0,((I8/H8)*1000)) -> 0
A9: 5월 | B9: 0 | C9: 0 | D9: =IF(B9=0,0,((C9/B9)*1000)) -> 0 | E9: 0 | F9: 0 | G9: =IF(E9=0,0,((F9/E9)*1000)) -> 0 | H9: 0 | I9: 0 | J9: =IF(H9=0,0,((I9/H9)*1000)) -> 0
A10: 6월 | B10: 0 | C10: 0 | D10: =IF(B10=0,0,((C10/B10)*1000)) -> 0 | E10: 0 | F10: 0 | G10: =IF(E10=0,0,((F10/E10)*1000)) -> 0 | H10: 0 | I10: 0 | J10: =IF(H10=0,0,((I10/H10)*1000)) -> 0
A11: 7월 | B11: 0 | C11: 0 | D11: =IF(B11=0,0,((C11/B11)*1000)) -> 0 | E11: 0 | F11: 0 | G11: =IF(E11=0,0,((F11/E11)*1000)) -> 0 | H11: 0 | I11: 0 | J11: =IF(H11=0,0,((I11/H11)*1000)) -> 0
A12: 8월 | B12: 0 | C12: 0 | D12: =IF(B12=0,0,((C12/B12)*1000)) -> 0 | E12: 0 | F12: 0 | G12: =IF(E12=0,0,((F12/E12)*1000)) -> 0 | H12: 0 | I12: 0 | J12: =IF(H12=0,0,((I12/H12)*1000)) -> 0
A13: 9월 | B13: 0 | C13: 0 | D13: =IF(B13=0,0,((C13/B13)*1000)) -> 0 | E13: 0 | F13: 0 | G13: =IF(E13=0,0,((F13/E13)*1000)) -> 0 | H13: 0 | I13: 0 | J13: =IF(H13=0,0,((I13/H13)*1000)) -> 0
A14: 10월 | B14: 0 | C14: 0 | D14: =IF(B14=0,0,((C14/B14)*1000)) -> 0 | E14: 0 | F14: 0 | G14: =IF(E14=0,0,((F14/E14)*1000)) -> 0 | H14: 0 | I14: 0 | J14: =IF(H14=0,0,((I14/H14)*1000)) -> 0
A15: 11월 | B15: 0 | C15: 0 | D15: =IF(B15=0,0,((C15/B15)*1000)) -> 0 | E15: 0 | F15: 0 | G15: =IF(E15=0,0,((F15/E15)*1000)) -> 0 | H15: 0 | I15: 0 | J15: =IF(H15=0,0,((I15/H15)*1000)) -> 0
A16: 12월 | B16: 0 | C16: 0 | D16: =IF(B16=0,0,((C16/B16)*1000)) -> 0 | E16: 0 | F16: 0 | G16: =IF(E16=0,0,((F16/E16)*1000)) -> 0 | H16: 0 | I16: 0 | J16: =IF(H16=0,0,((I16/H16)*1000)) -> 0
A17: 합 계 | B17: =SUM(B5:B16) -> 0 | C17: =SUM(C5:C16) -> 0 | D17: =IF(B17=0,0,((C17/B17)*1000)) -> 0 | E17: =SUM(E5:E16) -> 0 | F17: =SUM(F5:F16) -> 0 | G17: =IF(E17=0,0,((F17/E17)*1000)) -> 0 | H17: =SUM(H5:H16) -> 0 | I17: =SUM(I5:I16) -> 0 | J17: =IF(H17=0,0,((I17/H17)*1000)) -> 0

Sheet 제2장 어가동향
A8: 제2장 어 가 동 향

Sheet 1.어업별 평균어가
A1: 1. 2019년도 월별 | F1: 어업별 평균어가
A2: (단위 - 원/kg)
A3: 구 분 | B3: 계 | C3: 대 형 선 망 | D3: 대 형 기 선 | F3: 저 인 망 | H3: 중형기선저인망 | I3: 안 강 망 | J3: 기 타 | L3: 결산서상 어가랑 안맞음
D4: 소 계 | E4: 외 끌 이 | F4: 쌍 끌 이 | G4: 대형트롤
A5: 1월 | B5: 1263 | C5: 1073.172 | D5: 4009.7796 | E5: 7410 | F5: 3607 | G5: 6101 | H5: 5678 | I5: 3535 | J5: 4053
A6: 2월 | B6: 2760.0127 | C6: 2575.3116 | D6: 3772.417 | E6: 5751 | F6: 3199 | G6: 5144 | H6: 4634 | I6: 0 | J6: 5987
A7: 3월 | B7: 3290.1618 | C7: 3115.652 | D7: 3539.4414 | E7: 6394 | F7: 2508 | G7: 3895 | H7: 5580 | I7: 4480 | J7: 4906
A8: 4월 | B8: 2526 | C8: 1924.6387 | D8: 3828.7768 | E8: 6450 | F8: 3242 | G8: 3954 | H8: 4426 | I8: 5344 | J8: 2533
A9: 5월 | B9: 4756 | C9: 0 | D9: 4656.3879 | E9: 5569 | F9: 2927 | G9: 0 | H9: 5334 | I9: 3806 | J9: 3724
A10: 6월 | B10: 5536 | C10: 0 | D10: 4826.3571 | E10: 3468 | F10: 8555 | G10: 0 | H10: 6832 | I10: 3277 | J10: 4929
A11: 7월 | B11: 3329 | C11: 1786.4475 | D11: 5806.7654 | E11: 6498 | F11: 5596 | G11: 0 | H11: 7860 | I11: 0 | J11: 3175
A12: 8월 | B12: 2324.0926 | C12: 1585.7518 | D12: 5771.3583 | E12: 5323 | F12: 5853 | G12: 5600 | H12: 7124 | I12: 4843 | J12: 2295
A13: 9월 | B13: 2369.6986 | C13: 1717.4752 | D13: 5086.3014 | E13: 4818 | F13: 5389 | G13: 2056 | H13: 4998 | I13: 4332 | J13: 2878
A14: 10월 | B14: 2327.2757 | C14: 1815.2783 | D14: 3471.089 | E14: 3336.1967 | F14: 3516.192 | G14: 2638 | H14: 3529 | I14: 4965 | J14: 1844
A15: 11월 | B15: 2017.274 | C15: 1690.5424 | D15: 3346.6617 | E15: 3620 | F15: 4120 | G15: 2140 | H15: 3414 | I15: 6204 | J15: 1645
A16: 12월 | B16: 1211.651 | C16: 1016.0428 | D16: 3428.0272 | E16: 3682 | F16: 4233.9739 | G16: 2256 | H16: 4201.5701 | I16: 4346 | J16: 7344
A17: 평 균 | B17: 1878 | C17: 1454 | D17: =AVERAGE(D5:D16) -> 4295.2802 | E17: 4910 | F17: 4147 | G17: 2484 | H17: 5221 | I17: 4638 | J17: 4116

Sheet 2.어종별 평균어가
A1: 2. 2019년도 월별 | I1: 어종별 평균어가
A2: (단위 - 원/kg)
A3: 구 분 | B3: 참 돔 | C3: 병 어 | D3: 민 어 | E3: 조 기(5단) | F3: 조기6단) | G3: 조기(7단) | H3: 조기(8단) | I3: 조기(9단) | J3: 부세(6단) | K3: 눈볼대 | L3: 붕장어 | M3: 고등어(상) | N3: 고등어(중) | O3: 고등어(하)
A4: 1월 | B4: 5191.5141 | C4: 6323.6885 | D4: 9647.1742 | E4: 30555.556 | F4: 0 | G4: 17500 | H4: 9869.281 | I4: 10731.481 | J4: 19259.259 | K4: 10386.898 | L4: 9806.9286 | M4: 6927.8611 | N4: 3976.3894 | O4: 1573.5599
A5: 2월 | B5: 5556.1821 | C5: 5779.5667 | D5: 6705.8552 | E5: 0 | F5: 0 | G5: 0 | H5: 0 | I5: 10555.556 | J5: 22222.222 | K5: 11755.201 | L5: 9609.8427 | M5: 7389.0962 | N5: 5375.6683 | O5: 3207.0484
A6: 3월 | B6: 5124.7911 | C6: 7474.7066 | D6: 6704.5908 | E6: 0 | F6: 0 | G6: 0 | H6: 14305.556 | I6: 5833.3333 | J6: 9814.8148 | K6: 9172.2301 | L6: 9835.8844 | M6: 5907.0402 | N6: 4120.7046 | O6: 3412.36
A7: 4월 | B7: 4694.2579 | C7: 8109.3906 | D7: 6437.0092 | E7: 0 | F7: 22777.778 | G7: 0 | H7: 14555.556 | I7: 12777.778 | J7: 15000 | K7: 5880.3519 | L7: 11402.162 | M7: 5745.947 | N7: 4829.3664 | O7: 3897.0882
A8: 5월 | B8: 3981.6943 | C8: 11852.405 | D8: 7359.6987 | E8: 0 | F8: 0 | G8: 0 | H8: 0 | I8: 0 | J8: 0 | K8: 6452.6416 | L8: 8952.4786 | M8: 0 | N8: 0 | O8: 0
A9: 6월 | B9: 4021.2528 | C9: 4670.9354 | D9: 5833.3333 | E9: 0 | F9: 0 | G9: 0 | H9: 0 | I9: 0 | J9: 0 | K9: 8838.7632 | L9: 9717.0841 | M9: 12638.889 | N9: 10591.445 | O9: 5962.683
A10: 7월 | B10: 3773.9595 | C10: 9027.7778 | D10: 0 | E10: 0 | F10: 0 | G10: 0 | H10: 0 | I10: 0 | J10: 0 | K10: 9375.5551 | L10: 7825.8547 | M10: 5311.1718 | N10: 3966.4331 | O10: 2062.0299
A11: 8월 | B11: 5180.0841 | C11: 9666.6667 | D11: 4000 | E11: 0 | F11: 0 | G11: 0 | H11: 9840.1826 | I11: 2941.0962 | J11: 1411.1739 | K11: 9537.2195 | L11: 8051.2821 | M11: 5621.1211 | N11: 3020.5622 | O11: 1676.7442
A12: 9월 | B12: 6235.2308 | C12: 2283.9263 | D12: 0 | E12: 30000 | F12: 0 | G12: 21388.889 | H12: 10081.197 | I12: 3963.2753 | J12: 1127.3148 | K12: 8993.1682 | L12: 8538.0282 | M12: 7666.0791 | N12: 3472.5027 | O12: 2308.623
A13: 10월 | B13: 5614.7159 | C13: 9386.1141 | D13: 4201.1026 | E13: 30740.741 | F13: 24657.407 | G13: 18601.852 | H13: 10453.311 | I13: 3822.4213 | J13: 1500 | K13: 7261.4397 | L13: 7764.4402 | M13: 5634.5136 | N13: 3279.619 | O13: 2372.164
A14: 11월 | B14: 6128.232 | C14: 7788.2469 | D14: 4665.5983 | E14: 28888.889 | F14: 24166.667 | G14: 17905.983 | H14: 11989.221 | I14: 7764.8148 | J14: 2145.027 | K14: 8129.7228 | L14: 7350.2017 | M14: 5729.3754 | N14: 4243.1493 | O14: 3387.726
A15: 12월 | B15: 5799.985 | C15: 6288.1132 | D15: 7335.2747 | E15: 30416.667 | F15: 21666.667 | G15: 19143.519 | H15: 14159.064 | I15: 6219.8866 | J15: 12690.741 | K15: 8251.0087 | L15: 7694.7177 | M15: 3440.8575 | N15: 5001.2788 | O15: 3809.6095
A16: 평 균 | B16: =SUM(B4:B15)/12 -> 5108.4916 | C16: 6957 | D16: =SUM(D4:D15)/12 -> 5240.8031 | E16: =SUM(E4:E15)/12 -> 12550.154 | F16: =SUM(F4:F15)/12 -> 7772.3765 | G16: =SUM(G4:G15)/12 -> 7878.3535 | H16: =SUM(H4:H15)/12 -> 7937.7806 | I16: =SUM(I4:I15)/12 -> 5384.1369 | J16: =SUM(J4:J15)/12 -> 7097.5461 | K16: 8378 | L16: =SUM(L4:L15)/12 -> 8879.0754 | M16: 5383 | N16: 3901 | O16: 2307
A17: 2019년도 월별 어 | I17: 종별 평균어가 (계속)
O18: (단위 - 원/kg)
A19: 구 분 | B19: 가오리 | C19: 아 귀 | D19: 새 우 | E19: 게 | F19: 갑오징어 | G19: 문 어 | H19: 낙 지 | I19: 갈치(상) | J19: 갈치(중) | K19: 갈치(하) | L19: 오징어 | M19: 상 어 | N19: 가자미 | O19: 삼 치
A20: 1월 | B20: 4488.7335 | C20: 1839.6643 | D20: 4263.1313 | E20: 3712.806 | F20: 9693.7374 | G20: 10988.593 | H20: 4722.2222 | I20: 7592.7687 | J20: 3575.2371 | K20: 1517.9115 | L20: 7004.0632 | M20: 666.66667 | N20: 6379.6576 | O20: 4766.9037
A21: 2월 | B21: 4852.1711 | C21: 1444.5411 | D21: 6322.2222 | E21: 0 | F21: 9455.9061 | G21: 9999.7605 | H21: 6958.3333 | I21: 5175.9259 | J21: 3266.6667 | K21: 1380.037 | L21: 6455.8761 | M21: 925.92593 | N21: 4912.8489 | O21: 4570.083
A22: 3월 | B22: 4497.9664 | C22: 1582.8583 | D22: 8247.0449 | E22: 0 | F22: 11468.032 | G22: 9451.6322 | H22: 7107.4074 | I22: 11183.952 | J22: 3706.8654 | K22: 1437.1385 | L22: 5993.9954 | M22: 3271.6049 | N22: 5781.3737 | O22: 4844.1513
A23: 4월 | B23: 4189.5102 | C23: 1458.6377 | D23: 5361.1111 | E23: 3981.4815 | F23: 13131.024 | G23: 9310.2277 | H23: 0 | I23: 8024.4134 | J23: 4090.3814 | K23: 2028.9592 | L23: 7528.4912 | M23: 611.11111 | N23: 4969.273 | O23: 5290.1136
A24: 5월 | B24: 3372.9214 | C24: 1779.5061 | D24: 4240.3199 | E24: 4050.9259 | F24: 9515.8455 | G24: 8187.7611 | H24: 0 | I24: 9297.491 | J24: 3336.9071 | K24: 1971.1111 | L24: 6133.254 | M24: 1368.6869 | N24: 4828.2306 | O24: 3140.0266
A25: 6월 | B25: 3449.1094 | C25: 1990.7123 | D25: 8945.1567 | E25: 3368.0556 | F25: 5411.1111 | G25: 8138.6593 | H25: 0 | I25: 11025.366 | J25: 5462.8265 | K25: 2255.9242 | L25: 5859.637 | M25: 1537.037 | N25: 5119.2791 | O25: 7476.1905
A26: 7월 | B26: 2711.9205 | C26: 1556.4491 | D26: 7765.3309 | E26: 3703.7037 | F26: 4070.6215 | G26: 6903.2567 | H26: 0 | I26: 11363.831 | J26: 5892.4808 | K26: 2537.1819 | L26: 5637.0114 | M26: 2740.7407 | N26: 4935.2263 | O26: 1420.0913
A27: 8월 | B27: 2811.8341 | C27: 1917.8259 | D27: 6816.1376 | E27: 3368.6869 | F27: 4623.2439 | G27: 6364.7587 | H27: 0 | I27: 8677.2827 | J27: 4183.5117 | K27: 1678.0717 | L27: 6181.2878 | M27: 3254.2735 | N27: 4783.5685 | O27: 2062.3758
A28: 9월 | B28: 2738.6654 | C28: 2672.1871 | D28: 6214.924 | E28: 3798.6111 | F28: 5166.6667 | G28: 6871.5278 | H28: 0 | I28: 8149.6379 | J28: 3932.5785 | K28: 1716.8921 | L28: 7895.6712 | M28: 3130.8204 | N28: 5625.4181 | O28: 3293.5657
A29: 10월 | B29: 2980.1402 | C29: 2023.2915 | D29: 2963.093 | E29: 4074.0741 | F29: 4191.4191 | G29: 7304.3651 | H29: 0 | I29: 9140.3383 | J29: 3944.1814 | K29: 2136.4559 | L29: 7500.7715 | M29: 1228.8889 | N29: 5092.3732 | O29: 3201.3134
A30: 11월 | B30: 3832.3816 | C30: 2519.4007 | D30: 2926.8652 | E30: 0 | F30: 6935.4418 | G30: 6884.2105 | H30: 0 | I30: 7811.8408 | J30: 3981.0736 | K30: 2102.6057 | L30: 7962.9763 | M30: 1420.0542 | N30: 5438.2022 | O30: 3834.2561
A31: 12월 | B31: 3585.1438 | C31: 2433.5151 | D31: 3339.4126 | E31: 1583.9793 | F31: 8957.5835 | G31: 6960.1925 | H31: 12187.5 | I31: 10417.095 | J31: 4248.4265 | K31: 2269.2444 | L31: 8303.2055 | M31: 5445.9259 | N31: 4658.5815 | O31: 4123.9519
A32: 평 균 | B32: =SUM(B20:B31)/12 -> 3625.8748 | C32: =SUM(C20:C31)/12 -> 1934.8824 | D32: =SUM(D20:D31)/12 -> 5617.0625 | E32: =SUM(E20:E31)/12 -> 2636.8603 | F32: =SUM(F20:F31)/12 -> 7718.386 | G32: =SUM(G20:G31)/12 -> 8113.7454 | H32: =SUM(H20:H31)/12 -> 2581.2886 | I32: 9883 | J32: 4202 | K32: 1881 | L32: 6467 | M32: =SUM(M20:M31)/12 -> 2133.478 | N32: 5220 | O32: 4122

Sheet 제3장 어선입항
A8: 제3장 어 선 입 항

Sheet 1.어업별 입항척수
A1: 1. 2019년도 월별 | G1: 어업별 입항척수
A2: (단위 - 척)
A3: 구 분 | B3: 계 | C3: 대 형 선 망 | D3: 대 형 기 선 | F3: 저 인 망 | H3: 중형기선저인망 | I3: 소 형 선 망 | J3: 채 낚 기 | K3: 기 타
D4: 소 계 | E4: 외 끌 이 | F4: 쌍 끌 이 | G4: 대형트롤
A5: 1월 | B5: =C5+D5+H5+I5+J5+K5 -> 449 | C5: 269 | D5: =E5+F5+G5 -> 38 | E5: 9 | F5: 22 | G5: 7 | H5: 134 | I5: 6 | J5: 2 | K5: 0
A6: 2월 | B6: =C6+D6+H6+I6+J6+K6 -> 222 | C6: 121 | D6: =E6+F6+G6 -> 41 | E6: 16 | F6: 22 | G6: 3 | H6: 52 | I6: 0 | J6: 7 | K6: 1
A7: 3월 | B7: =C7+D7+H7+I7+J7+K7 -> 241 | C7: 134 | D7: =E7+F7+G7 -> 29 | E7: 14 | F7: 8 | G7: 7 | H7: 74 | I7: 0 | J7: 4 | K7: 0
A8: 4월 | B8: =C8+D8+H8+I8+J8+K8 -> 262 | C8: 97 | D8: =E8+F8+G8 -> 48 | E8: 24 | F8: 20 | G8: 4 | H8: 117 | I8: 0 | J8: 0 | K8: 0
A9: 5월 | B9: =C9+D9+H9+I9+J9+K9 -> 168 | C9: 0 | D9: =E9+F9+G9 -> 33 | E9: 31 | F9: 2 | G9: 0 | H9: 126 | I9: 3 | J9: 6 | K9: 0
A10: 6월 | B10: =C10+D10+H10+I10+J10+K10 -> 150 | C10: 0 | D10: =E10+F10+G10 -> 2 | E10: 0 | F10: 2 | G10: 0 | H10: 122 | I10: 5 | J10: 21 | K10: 0
A11: 7월 | B11: =C11+D11+H11+I11+J11+K11 -> 308 | C11: 74 | D11: =E11+F11+G11 -> 40 | E11: 36 | F11: 4 | G11: 0 | H11: 187 | I11: 3 | J11: 4 | K11: 0
A12: 8월 | B12: =C12+D12+H12+I12+J12+K12 -> 409 | C12: 247 | D12: =E12+F12+G12 -> 76 | E12: 61 | F12: 14 | G12: 1 | H12: 85 | I12: 1 | J12: 0
A13: 9월 | B13: =C13+D13+H13+I13+J13+K13 -> 323 | C13: 169 | D13: =E13+F13+G13 -> 77 | E13: 64 | F13: 11 | G13: 2 | H13: 72 | I13: 3 | J13: 2
A14: 10월 | B14: =C14+D14+H14+I14+J14+K14 -> 370 | C14: 181 | D14: =E14+F14+G14 -> 53 | E14: 32 | F14: 13 | G14: 8 | H14: 127 | I14: 9 | J14: 0 | K14: 0
A15: 11월 | B15: =C15+D15+H15+I15+J15+K15 -> 378 | C15: 189 | D15: =E15+F15+G15 -> 63 | E15: 26 | F15: 5 | G15: 32 | H15: 110 | I15: 16 | J15: 0 | K15: 0
A16: 12월 | B16: =C16+D16+H16+I16+J16+K16 -> 478 | C16: 276 | D16: =E16+F16+G16 -> 61 | E16: 20 | F16: 14 | G16: 27 | H16: 130 | I16: 6 | J16: 5 | K16: 0
A17: 합 계 | B17: =SUM(B5:B16) -> 3758 | C17: =SUM(C5:C16) -> 1757 | D17: =SUM(D5:D16) -> 561 | E17: =SUM(E5:E16) -> 333 | F17: =SUM(F5:F16) -> 137 | G17: =SUM(G5:G16) -> 91 | H17: =SUM(H5:H16) -> 1336 | I17: =SUM(I5:I16) -> 52 | ... K17: =SUM(K5:K16) -> 1

Sheet 제4장 선어유통
J8: 제4장 선 어 유 통

Sheet 1.지역별 반출량
A1: 1. 2019년도 월별 | G1: 지역별 반출량
A2: (단위 - 톤)
A3: 구 분 | B3: 계 | C3: 부 산 | D3: 서 울 | E3: 춘 천 | F3: 대 전 | G3: 청 주 | H3: 대 구 | I3: 전 주 | J3: 광 주 | K3: 진 주 | L3: 기 타
A4: 1월
A5: 2월
A6: 3월
A7: 4월
A8: 5월
A9: 6월
A10: 7월
A11: 8월
A12: 9월
A13: 10월
A14: 11월
A15: 12월
A16: 합 계 | B16: =SUM(B4:B15) -> 0 | C16: =SUM(C4:C15) -> 0 | D16: =SUM(D4:D15) -> 0 | E16: =SUM(E4:E15) -> 0 | F16: =SUM(F4:F15) -> 0 | G16: =SUM(G4:G15) -> 0 | H16: =SUM(H4:H15) -> 0 | I16: =SUM(I4:I15) -> 0 | J16: =SUM(J4:J15) -> 0 | L16: =SUM(L4:L15) -> 0

Sheet 2.이용배분 동향
A1: 2. 2019년도 월별 이용배분 동향
A2: (단위 - 톤)
A3: 구 분 | B3: 계 | C3: 식 용 | D3: 가 공 | E3: 사 료
A4: 1월
A5: 2월
A6: 3월
A7: 4월
A8: 5월
A9: 6월
A10: 7월
A11: 8월
A12: 9월
A13: 10월
A14: 11월
A15: 12월
A16: 합 계 | B16: =SUM(B4:B15) -> 0 | C16: =SUM(C4:C15) -> 0 | D16: =SUM(D4:D15) -> 0 | E16: =SUM(E4:E15) -> 0

Sheet 제4장 이용가공사업
A8: 제4장 이 용 가 공 사 업

Sheet 1. 어종별 동결냉장량 및 금액
A1: 1. 2019년도 월별 어종별 | K1: 동결·냉장량 및 금액
A2: (단위 - 동결 : 톤, 냉장 : 톤, 금액 : 천원)
A3: 구 분 | B3: 계 | E3: 고 등 어 | H3: 갈 치 | K3: 전 갱 이 | N3: 가 자 미 | Q3: 오 징 어 | T3: 기 타
B4: 동 결 | C4: 냉 장 | D4: 금 액 | E4: 동 결 | F4: 냉 장 | G4: 금 액 | H4: 동 결 | I4: 냉 장 | J4: 금 액 | K4: 동 결 | L4: 냉 장 | M4: 금 액 | N4: 동 결 | O4: 냉 장 | P4: 금 액 | Q4: 동 결 | R4: 냉 장 | S4: 금 액 | T4: 동 결 | U4: 냉 장 | V4: 금 액
A5: 1월 | B5: 223.76 | C5: 40499.82 | D5: 27526.129 | E5: 130.86 | F5: 20859.76 | G5: 14931.849 | H5: 0.48 | I5: 4521.1 | J5: 2518.9762 | K5: 19.44 | L5: 3071.2 | M5: 2202.889 | N5: 0 | O5: 67.8 | P5: 37.590262 | Q5: 0 | R5: 497.84 | S5: 276.01676 | T5: 72.98 | U5: 11258.36 | V5: 7558.8077
A6: 2월 | B6: 59.9 | C6: 35229.04 | D6: 20700.799 | E6: 1.5 | F6: 19283.34 | G6: 10729.826 | H6: 0 | I6: 3934.78 | J6: 2181.5547 | K6: 14.46 | L6: 2462.58 | M6: 1737.3335 | N6: 8.44 | O6: 163.8 | P6: 307.94907 | Q6: 1.1 | R6: 332.62 | S6: 212.71347 | T6: 34.4 | U6: 8992.02 | V6: 5531.4221
A7: 3월 | B7: 134.26 | C7: 35653 | D7: 22302.038 | E7: 47.04 | F7: 20310.14 | G7: 12470.709 | H7: 5.72 | I7: 3987.36 | J7: 2357.8635 | K7: 41.02 | L7: 1261.4 | M7: 1754.667 | N7: 0.72 | O7: 338.2 | P7: 206.03102 | Q7: 1.48 | R7: 275.18 | S7: 190.64324 | T7: 38.28 | U7: 9346.46 | V7: 5322.1242
A8: 4월 | B8: 190.96 | C8: 34064.44 | D8: 23401.987 | E8: 17.46 | F8: 17737.56 | G8: 10283.4 | H8: 0.04 | I8: 3579.5 | J8: 1985.6064 | K8: 90.56 | L8: 2098.6 | M8: 3493.3372 | N8: 0.24 | O8: 320 | P8: 183.59158 | Q8: 0.3 | R8: 202.66 | S8: 120.07853 | T8: 82.36 | U8: 9935.16 | V8: 7335.9732
A9: 5월 | B9: 18.66 | C9: 30052.82 | D9: 16989.947 | E9: 0.52 | F9: 13554.52 | G9: 7528.392 | H9: 0 | I9: 2717.7 | J9: 1506.7707 | K9: 18.1 | L9: 3131.48 | M9: 2201.8361 | N9: 0 | O9: 312.06 | P9: 173.015 | Q9: 0 | R9: 140.4 | S9: 77.841782 | T9: 0.04 | U9: 10178 | V9: 5502.0913
A10: 6월 | B10: 0 | C10: 21644.74 | D10: 12081.777 | E10: 0 | F10: 8243.84 | G10: 4570.621 | H10: 0 | I10: 1830.08 | J10: 1014.6488 | K10: 0 | L10: 2160.86 | M10: 1198.0427 | N10: 0 | O10: 286.78 | P10: 158.99905 | Q10: 0 | R10: 96.04 | S10: 53.247327 | T10: 0 | U10: 9027.14 | V10: 5086.2181
A11: 7월 | B11: 52.74 | C11: 15215.9 | D11: 10120.205 | E11: 36.6 | F11: 4629.32 | G11: 3508.2262 | H11: 0 | I11: 1602.08 | J11: 888.23904 | K11: 9.08 | L11: 1724.74 | M11: 1189.844 | N11: 0.04 | O11: 297.68 | P11: 166.07139 | Q11: 0 | R11: 86.98 | S11: 48.224203 | T11: 7.02 | U11: 6822.36 | V11: 4319.6002
A12: 8월 | B12: 156.2 | C12: 13754.58 | D12: 12039.114 | E12: 84.28 | F12: 4568.42 | G12: 4701.1122 | H12: 5.14 | I12: 938.54 | J12: 652.58888 | K12: 45 | L12: 1643.74 | M12: 2069.0397 | N12: 0 | O12: 295.48 | P12: 163.82258 | Q12: 1.38 | R12: 115.68 | S12: 99.639201 | T12: 20.4 | U12: 6036.52 | V12: 4352.9114
A13: 9월 | B13: 139.14 | C13: 14548.22 | D13: 11883.611 | E13: 72.96 | F13: 5666.46 | G13: 5018.6704 | H13: 6.26 | I13: 1078.1 | J13: 758.77889 | K13: 41.18 | L13: 1254.68 | M13: 1755.0575 | N13: 0 | O13: 268.3 | P13: 148.75321 | Q13: 0 | R13: 212.84 | S13: 118.00459 | T13: 18.74 | U13: 5928.7 | V13: 4084.3464
A14: 10월 | B14: 238.64 | C14: 17737.78 | D14: 15880.996 | E14: 75.58 | F14: 6103.2 | G14: 5328.2156 | H14: 13.64 | I14: 1654.8 | J14: 1268.3812 | K14: 79.02 | L14: 1878.34 | M14: 3074.3322 | N14: 0 | O14: 254.56 | P14: 141.13536 | Q14: 0 | R14: 528.76 | S14: 293.15969 | T14: 70.4 | U14: 7079.48 | V14: 5775.7719
A15: 11월 | B15: 258.9 | C15: 23574.12 | D15: 20164.263 | E15: 143.96 | F15: 7658.1 | G15: 7949.4909 | H15: 8.94 | I15: 2808.82 | J15: 1787.2873 | K15: 24.62 | L15: 3037.98 | M15: 2317.7354 | N15: 0.56 | O15: 244.7 | P15: 150.07566 | Q15: 0 | R15: 452.38 | S15: 250.81243 | T15: 80.82 | U15: 9113.24 | V15: 7708.8613
A16: 12월 | B16: 457.4 | C16: 27569.98 | D16: 27126.088 | E16: 262.1 | F16: 10342.32 | G16: 12477.056 | H16: 0 | I16: 3767.22 | J16: 2088.6547 | K16: 7.88 | L16: 2743.06 | M16: 1723.5577 | N16: 2.9 | O16: 240.54 | P16: 207.9698 | Q16: 0 | R16: 394.08 | S16: 218.48924 | T16: 184.52 | U16: 9625.36 | V16: 10410.361
A17: 합계 | B17: =SUM(B5:B16) -> 1930.56 | C17: =SUM(C5:C16) -> 309544.44 | D17: =SUM(D5:D16) -> 220216.95 | E17: =SUM(E5:E16) -> 872.86 | F17: =SUM(F5:F16) -> 138956.98 | G17: =SUM(G5:G16) -> 99497.569 | H17: =SUM(H5:H16) -> 40.22 | I17: =SUM(I5:I16) -> 32420.08 | ... V17: =SUM(V5:V16) -> 72988.488

Sheet 2~3. 동결냉장어종별출고량, 얼음판매량
A1: 2. 2019년도 월별 동결·냉장 어종별 출고량 | I1: 3. 2019년도 월별 얼음 판매량 및 금액
A2: (단위 - 톤) | I2: (단위 - 수량 : 톤, 금액 : 천원)
A3: 구 분 | B3: 계 | C3: 고 등 어 | D3: 갈 치 | E3: 전 갱 이 | F3: 가 자 미 | G3: 오 징 어 | H3: 기 타 | I3: 구 분 | J3: 수 량 | K3: 금 액 | L3: 단 가
A4: 1월 | B4: =SUM(C4:H4) -> 318 | C4: 94.76 | D4: 28.8 | E4: 33.62 | F4: 0 | G4: 6.42 | H4: 154.4 | I4: 1월 | J4: 1912.5 | K4: 76500 | L4: =IF(J4=0,0,((K4/J4)*1000)) -> 40000
A5: 2월 | B5: =SUM(C5:H5) -> 257.46 | C5: 78 | D5: 16.82 | E5: 84.68 | F5: 0.32 | G5: 4.68 | H5: 72.96 | I5: 2월 | J5: 1240 | K5: 49600 | L5: =IF(J5=0,0,((K5/J5)*1000)) -> 40000
A6: 3월 | B6: =SUM(C6:H6) -> 394.8 | C6: 154.16 | D6: 37.26 | E6: 81.7 | F6: 0.46 | G6: 5.74 | H6: 115.48 | I6: 3월 | J6: 1384 | K6: 55360 | L6: =IF(J6=0,0,((K6/J6)*1000)) -> 40000
A7: 4월 | B7: =SUM(C7:H7) -> 350.04 | C7: 196.54 | D7: 51 | E7: 22.22 | F7: 0.44 | G7: 3.8 | H7: 76.04 | I7: 4월 | J7: 847.5 | K7: 33900 | L7: =IF(J7=0,0,((K7/J7)*1000)) -> 40000
A8: 5월 | B8: =SUM(C8:H8) -> 479.34 | C8: 283.06 | D8: 61.82 | E8: 47.6 | F8: 0.76 | G8: 2.06 | H8: 84.04 | I8: 5월 | J8: 499.5 | K8: 19980 | L8: =IF(J8=0,0,((K8/J8)*1000)) -> 40000
A9: 6월 | B9: =SUM(C9:H9) -> 297.78 | C9: 197.96 | D9: 47.34 | E9: 4.94 | F9: 0.76 | G9: 0.76 | H9: 46.02 | I9: 6월 | J9: 506 | K9: 20240 | L9: =IF(J9=0,0,((K9/J9)*1000)) -> 40000
A10: 7월 | B10: =SUM(C10:H10) -> 428.4 | C10: 200.62 | D10: 53.48 | E10: 29.92 | F10: 0.2 | G10: 0.44 | H10: 143.74 | I10: 7월 | J10: 1738.5 | K10: 69540 | L10: =IF(J10=0,0,((K10/J10)*1000)) -> 40000
A11: 8월 | B11: =SUM(C11:H11) -> 272.42 | C11: 113.28 | D11: 37.28 | E11: 61.96 | F11: 0.34 | G11: 0.32 | H11: 59.24 | I11: 8월 | J11: 2705.5 | K11: 108220 | L11: =IF(J11=0,0,((K11/J11)*1000)) -> 40000
A12: 9월 | B12: =SUM(C12:H12) -> 259.42 | C12: 82.26 | D12: 16.66 | E12: 77.72 | F12: 0.86 | G12: 1.5 | H12: 80.42 | I12: 9월 | J12: 1843.5 | K12: 73740 | L12: =IF(J12=0,0,((K12/J12)*1000)) -> 40000
A13: 10월 | B13: =SUM(C13:H13) -> 276.08 | C13: 149.16 | D13: 24.82 | E13: 26.04 | F13: 0.3 | G13: 7.8 | H13: 67.96 | I13: 10월 | J13: 2617 | K13: 104680 | L13: =IF(J13=0,0,((K13/J13)*1000)) -> 40000
A14: 11월 | B14: =SUM(C14:H14) -> 334.4 | C14: 197.7 | D14: 19.22 | E14: 41.98 | F14: 0.54 | G14: 6.16 | H14: 68.8 | I14: 11월 | J14: 2209 | K14: 88360 | L14: =IF(J14=0,0,((K14/J14)*1000)) -> 40000
A15: 12월 | B15: =SUM(C15:H15) -> 481.88 | C15: 215.98 | D15: 21.6 | E15: 26.06 | F15: 3.5 | G15: 2.44 | H15: 212.3 | I15: 12월 | J15: 1696 | K15: 67840 | L15: =IF(J15=0,0,((K15/J15)*1000)) -> 40000
A16: 합 계 | B16: =SUM(B4:B15) -> 4150.02 | C16: =SUM(C4:C15) -> 1963.48 | D16: =SUM(D4:D15) -> 416.1 | E16: =SUM(E4:E15) -> 538.44 | F16: =SUM(F4:F15) -> 8.48 | G16: =SUM(G4:G15) -> 42.12 | H16: =SUM(H4:H15) -> 1181.4 | I16: 합 계 | J16: =SUM(J4:J15) -> 19199 | K16: =SUM(K4:K15) -> 767960 | L16: =IF(J16=0,0,((K16/J16)*1000)) -> 40000

Sheet 4. 어업별 어선 급수량 및 금액
A1: 4. 2019년도 월별 어업별 | K1: 어선 급수량 및 금액
A2: (단위 - 척수 : 척, 급수량 : ㎥, 금액 : 원)
A3: 구 분 | B3: 계 | E3: 대 형 선 망 | K3: 대 형 기 선 저 인 망 | T3: 기 타
H4: 소 계 | K4: 외 끌 이 | N4: 쌍 끌 이 | Q4: 대 형 트 롤
B5: 척 수 | C5: 급수량 | D5: 금 액 | E5: 척 수 | F5: 급수량 | G5: 금 액 | H5: 척 수 | I5: 급수량 | J5: 금 액 | K5: 척 수 | L5: 급수량 | M5: 금 액 | N5: 척 수 | O5: 급수량 | P5: 금 액 | Q5: 척 수 | R5: 급수량 | S5: 금 액 | T5: 척 수 | U5: 급수량 | V5: 금 액
A6: 1월 | B6: =SUM(E6,H6,T6) -> 179 | C6: =SUM(F6,I6,U6) -> 2738 | D6: =SUM(G6,J6,V6) -> 4791500 | E6: 109 | F6: 1677 | G6: 2934750 | H6: =K6+N6+Q6 -> 69 | I6: =L6+O6+R6 -> 1049 | J6: =M6+P6+S6 -> 1835750 | K6: 57 | L6: 872 | M6: 1526000 | N6: 9 | O6: 134 | P6: 234500 | Q6: 3 | R6: 43 | S6: 75250 | T6: 1 | U6: 12 | V6: 21000
A7: 2월 | B7: =SUM(E7,H7,T7) -> 108 | C7: =SUM(F7,I7,U7) -> 1533 | D7: =SUM(G7,J7,V7) -> 2682750 | E7: 59 | F7: 836 | G7: 1463000 | H7: =K7+N7+Q7 -> 45 | I7: =L7+O7+R7 -> 643 | J7: =M7+P7+S7 -> 1125250 | K7: 33 | L7: 470 | M7: 822500 | N7: 11 | O7: 152 | P7: 266000 | Q7: 1 | R7: 21 | S7: 36750 | T7: 4 | U7: 54 | V7: 94500
A8: 3월 | B8: =SUM(E8,H8,T8) -> 162 | C8: =SUM(F8,I8,U8) -> 2329 | D8: =SUM(G8,J8,V8) -> 4075750 | E8: 90 | F8: 1295 | G8: 2266250 | H8: =K8+N8+Q8 -> 69 | I8: =L8+O8+R8 -> 995 | J8: =M8+P8+S8 -> 1741250 | K8: 59 | L8: 850 | M8: 1487500 | N8: 5 | O8: 77 | P8: 134750 | Q8: 5 | R8: 68 | S8: 119000 | T8: 3 | U8: 39 | V8: 68250
A9: 4월 | B9: =SUM(E9,H9,T9) -> 148 | C9: =SUM(F9,I9,U9) -> 2019 | D9: =SUM(G9,J9,V9) -> 3533250 | E9: 55 | F9: 747 | G9: 1307250 | H9: =K9+N9+Q9 -> 93 | I9: =L9+O9+R9 -> 1272 | J9: =M9+P9+S9 -> 2226000 | K9: 80 | L9: 1087 | M9: 1902250 | N9: 11 | O9: 154 | P9: 269500 | Q9: 2 | R9: 31 | S9: 54250 | T9: 0 | U9: 0 | V9: 0
A10: 5월 | B10: =SUM(E10,H10,T10) -> 55 | C10: =SUM(F10,I10,U10) -> 279 | D10: =SUM(G10,J10,V10) -> 488250 | E10: 1 | F10: 5 | G10: 8750 | H10: =K10+N10+Q10 -> 52 | I10: =L10+O10+R10 -> 264 | J10: =M10+P10+S10 -> 462000 | K10: 51 | L10: 261 | M10: 456750 | N10: 1 | O10: 3 | P10: 5250 | Q10: 0 | R10: 0 | S10: 0 | T10: 2 | U10: 10 | V10: 17500
A11: 6월 | B11: =SUM(E11,H11,T11) -> 50 | C11: =SUM(F11,I11,U11) -> 313 | D11: =SUM(G11,J11,V11) -> 547750 | E11: 2 | F11: 10 | G11: 17500 | H11: =K11+N11+Q11 -> 41 | I11: =L11+O11+R11 -> 259 | J11: =M11+P11+S11 -> 453250 | K11: 40 | L11: 255 | M11: 446250 | N11: 1 | O11: 4 | P11: 7000 | Q11: 0 | R11: 0 | S11: 0 | T11: 7 | U11: 44 | V11: 77000
A12: 7월 | B12: =SUM(E12,H12,T12) -> 208 | C12: =SUM(F12,I12,U12) -> 2480 | D12: =SUM(G12,J12,V12) -> 4340000 | E12: 52 | F12: 620 | G12: 1085000 | H12: =K12+N12+Q12 -> 156 | I12: =L12+O12+R12 -> 1860 | J12: =M12+P12+S12 -> 3255000 | K12: 150 | L12: 1796 | M12: 3143000 | N12: 3 | O12: 32 | P12: 56000 | Q12: 3 | R12: 32 | S12: 56000 | T12: 0 | U12: 0 | V12: 0
A13: 8월 | B13: =SUM(E13,H13,T13) -> 271 | C13: =SUM(F13,I13,U13) -> 3712 | D13: =SUM(G13,J13,V13) -> 6496000 | E13: 164 | F13: 2251 | G13: 3939250 | H13: =K13+N13+Q13 -> 107 | I13: =L13+O13+R13 -> 1461 | J13: =M13+P13+S13 -> 2556750 | K13: 97 | L13: 1325 | M13: 2318750 | N13: 9 | O13: 127 | P13: 222250 | Q13: 1 | R13: 9 | S13: 15750 | T13: 0 | U13: 0 | V13: 0
A14: 9월 | B14: =SUM(E14,H14,T14) -> 156 | C14: =SUM(F14,I14,U14) -> 2382 | D14: =SUM(G14,J14,V14) -> 4168500 | E14: 83 | F14: 1268 | G14: 2219000 | H14: =K14+N14+Q14 -> 72 | I14: =L14+O14+R14 -> 1099 | J14: =M14+P14+S14 -> 1923250 | K14: 66 | L14: 1003 | M14: 1755250 | N14: 5 | O14: 81 | P14: 141750 | Q14: 1 | R14: 15 | S14: 26250 | T14: 1 | U14: 15 | V14: 26250
A15: 10월 | B15: =SUM(E15,H15,T15) -> 240 | C15: =SUM(F15,I15,U15) -> 3849 | D15: =SUM(G15,J15,V15) -> 6735750 | E15: 123 | F15: 1977 | G15: 3459750 | H15: =K15+N15+Q15 -> 117 | I15: =L15+O15+R15 -> 1872 | J15: =M15+P15+S15 -> 3276000 | K15: 104 | L15: 1654 | M15: 2894500 | N15: 8 | O15: 135 | P15: 236250 | Q15: 5 | R15: 83 | S15: 145250 | T15: 0 | U15: 0 | V15: 0
A16: 11월 | B16: =SUM(E16,H16,T16) -> 203 | C16: =SUM(F16,I16,U16) -> 3280 | D16: =SUM(G16,J16,V16) -> 5740000 | E16: 110 | F16: 1779 | G16: 3113250 | H16: =K16+N16+Q16 -> 93 | I16: =L16+O16+R16 -> 1501 | J16: =M16+P16+S16 -> 2626750 | K16: 73 | L16: 1180 | M16: 2065000 | N16: 3 | O16: 43 | P16: 75250 | Q16: 17 | R16: 278 | S16: 486500 | T16: 0 | U16: 0 | V16: 0
A17: 12월 | B17: =SUM(E17,H17,T17) -> 224 | C17: =SUM(F17,I17,U17) -> 4035 | D17: =SUM(G17,J17,V17) -> 7061250 | E17: 134 | F17: 2380 | G17: 4165000 | H17: =K17+N17+Q17 -> 90 | I17: =L17+O17+R17 -> 1613 | J17: =M17+P17+S17 -> 2822750 | K17: 70 | L17: 1267 | M17: 2217250 | N17: 7 | O17: 118 | P17: 206500 | Q17: 13 | R17: 228 | S17: 399000 | T17: 0 | U17: 42 | V17: 73500
A18: 합계 | B18: =SUM(B6:B17) -> 2004 | C18: =SUM(C6:C17) -> 28949 | D18: =SUM(D6:D17) -> 50660750 | E18: =SUM(E6:E17) -> 982 | F18: =SUM(F6:F17) -> 14845 | G18: =SUM(G6:G17) -> 25978750 | H18: =SUM(H6:H17) -> 1004 | I18: =SUM(I6:I17) -> 13888 | ... V18: =SUM(V6:V17) -> 378000

Sheet 5.상자(규격별) 이용료율
A1: 5. 2019년도 상자(규격별) 이용료율
A2: (단위 - 원)
A3: 규 격 별 | B3: 동 결 료 | C3: 냉 장 료
A4: 대 상 자 (25kg 이상) | B4: 650 | C4: 16 | AC4: ]
A5: 중 상 자 (20 ~ 25kg) | B5: 550 | C5: 13
A6: 소 상 자 (20kg 미만) | B6: 450 | C6: 11
A7: 팬 상 자 (15kg 미만) | B7: 360 | C7: 8

Sheet 제5장 중도매인및매매참가인
A8: 제5장 중도매인 및 매매참가인

Sheet 1~2. 중도매인수 및 분포
A1: 1. 2019년도 중도매인 및 매매참가인 수
A2: (단위 - 명)
A3: 구 분 | B3: 계 | D3: 중 도 매 인 | F3: 매매참가인
B4: 선 어 | C4: 활 어 | D4: 선 어 | E4: 활 어 | F4: 선 어 | G4: 활 어
A5: 인 원 | B5: =D5+F5 -> 98 | C5: =E5+G5 -> 0 | D5: 89 | E5: 0 | F5: 9 | G5: 0 | AG5: ]
A7: 2. 2019년도 중도매인 분포
A8: ◎ 경 력 별
A9: (단위 - 명)
A10: 구 분 | B10: 계 | C10: 5년 미만 | D10: 5 ~ 10년 | E10: 10 ~ 20년 | F10: 20 ~ 30년 | G10: 30년 이상
A11: 인 원 | B11: =SUM(C11:G11) -> 89 | C11: 26 | D11: 7 | E11: 30 | F11: 19 | G11: 7
A13: ◎ 연 령 별
A14: (단위 - 명)
A15: 구 분 | B15: 계 | C15: 30세 이하 | D15: 31 ~ 40 | E15: 41 ~ 50 | F15: 51 ~ 60 | G15: 61세 이상
A16: 인 원 | B16: =SUM(C16:G16) -> 89 | C16: 0 | D16: 4 | E16: 20 | F16: 33 | G16: 32

Sheet 3.중도매인현황
A1: 3. 중도매인 현황
A3: 번 호 | B3: 성 명 | C3: 전 화 번 호 | E3: 번 호 | F3: 성 명 | G3: 전 화 번 호
A4: 1 | B4: 임 재 하 | C4: 242-2117 | E4: 27 | F4: 문수철 | G4: 255-7501
A5: 2 | B5: 강 석 준 | C5: 254-8591 | E5: 28 | F5: 박희석 | G5: 243-6173
A6: 3 | B6: 장경진 | C6: 254-8859 | E6: 29 | F6: 우한철 | G6: 246-5077
A7: 4 | B7: 채남훈 | C7: 248-2114 | E7: 30 | F7: 이한열 | G7: -
A8: 6 | B8: 최민재 | C8: 254-9097 | E8: 32 | F8: 김철 | G8: 254-7956
A9: 7 | B9: 백창선 | C9: 254-7760 | E9: 33 | F9: 최영진 | G9: 244-8818
A10: 8 | B10: 한종대 | C10: 254-9470 | E10: 34 | F10: 장경민 | G10: 244-0034
A11: 9 | B11: 김종용 | C11: 246-7640 | E11: 35 | F11: 최영제 | G11: 254-8762
A12: 10 | B12: 김상호 | C12: 242-8616 | E12: 36 | F12: 최성훈 | G12: 244-1882
A13: 11 | B13: 정준우 | C13: 254-7035 | E13: 37 | F13: 홍연할 | G13: 248-2289
A14: 12 | B14: 정병욱 | C14: 245-6760 | E14: 38 | F14: 이종석 | G14: 241-3854
A15: 13 | B15: 한영덕 | C15: 256-2433 | E15: 39 | F15: 김재동 | G15: 242-4801
... A47: 82 | B47: 조선섭 | C47: 244-2782 | E47: 108 | F47: 홍동희 | G47: 246-8985
A48: 83 | B48: 이준관 | C48: 254-8962 | E48: 소 계 | F48: 89명

Sheet 4.매매참가인현황
A1: 4. 매매참가인 현황
A2: [2020. 2. 현재]
A3: 번 호 | B3: 상 호 | C3: 전 화 번 호
A4: 201 | B4: 수협중앙회 | C4: 02) 2240-2114
A5: 206 | B5: 부산시수협 | C5: 254-7851
A6: 208 | B6: 대형선망수협(A) | C6: 254-9012
A7: 210 | B7: 수협유통 | C7: 02) 405-8351
A8: 216 | B8: 대형기선저인망수협(A) | C8: 242-7511
A9: 232 | B9: 국립수산과학원 | C9: 720-2114
A10: 233 | B10: 부산공동어시장 | C10: 254-8961
A11: 235 | B11: 대형선망수협(B) | C11: 254-9012
A12: 236 | B12: 대형기선저인망수협(B) | C12: 242-7511

Sheet 5. 중매인 최고 및 평균 매상
A1: 5. 2019년도 중도매인 1인 최고 및 평균 매상고
A2: (단위 - 수량 : 톤, 금액 : 백만원)
A3: 구 분 | C3: 연 최 고 | E3: 연 평 균 | G3: 1인 1일 최고
C4: 수 량 | D4: 금 액 | E4: 수 량 | F4: 금 액 | G4: 수 량 | H4: 금 액
A5: 선 어 | B5: 중 도 매 인 | C5: 6294 | D5: 11028 | E5: 1445 | F5: 2623 | G5: 130 | H5: 446 | Z5: ]
B6: 매매참가인 | C6: 1356 | D6: 3567 | E6: 383 | F6: 946 | G6: 51 | H6: 273
A7: 활 어 | B7: 중 도 매 인 | C7: 0 | D7: 0 | E7: 0 | F7: 0 | G7: 0 | H7: 0
B8: 매매참가인 | C8: 0 | D8: 0 | E8: 0 | F8: 0 | G8: 0 | H8: 0

Sheet 제6장 기타
A8: 제6장 기 타

Sheet 1.취업근로자수
A1: 1. 2019년도 월별 취업근로자 수
A2: (단위 - 명)
A3: 구 분 | B3: 계 | C3: 반 별 | E3: 비 고
C4: 양 배 반 | D4: 본 선 반
A5: 1월 | B5: =C5+D5 -> 4687 | C5: 4621 | D5: 66
A6: 2월 | B6: =C6+D6 -> 3236 | C6: 3236 | D6: 0
A7: 3월 | B7: =C7+D7 -> 4037 | C7: 4026 | D7: 11
A8: 4월 | B8: =C8+D8 -> 3172 | C8: 3013 | D8: 159
A9: 5월 | B9: =C9+D9 -> 2788 | C9: 2613 | D9: 175
A10: 6월 | B10: =C10+D10 -> 2290 | C10: 2188 | D10: 102
A11: 7월 | B11: =C11+D11 -> 2968 | C11: 2924 | D11: 44
A12: 8월 | B12: =C12+D12 -> 4942 | C12: 4843 | D12: 99
A13: 9월 | B13: =C13+D13 -> 4099 | C13: 4020 | D13: 79
A14: 10월 | B14: =C14+D14 -> 5110 | C14: 4990 | D14: 120
A15: 11월 | B15: =C15+D15 -> 5322 | C15: 5267 | D15: 55
A16: 12월 | B16: =C16+D16 -> 5410 | C16: 5390 | D16: 20
A17: 합 계 | B17: =SUM(B5:B16) -> 48061 | C17: =SUM(C5:C16) -> 47131 | D17: =SUM(D5:D16) -> 930

Sheet 2~3. 노임 및 어상자 단가
A1: 2. 2019년도 작업부문별 노임
A2: (단위 - 원)
A3: 구 분 | B3: 양 배 비 | E3: 하 조 비 | F3: 상 차 비 | G3: 하 차 비
B4: 선망 5호 | C4: 선망 4호 | D4: 저인망 4호
A5: 노 임 | B5: 553 | C5: 506 | D5: 585 | E5: 291 | F5: 160 | G5: 117 | AG5: ]
A7: 3. 2019년도 어상자 사용량 및 단가
A8: (단위 - 사용량 : 개, 단가 : 원)
A9: 구 분 | B9: 계 | D9: 나 무 상 자 | F9: 골판지상자 | G9: 스치로폼상자
B10: 신 품 | C10: 재사용품 | D10: 신 품 | E10: 재사용품 | F10: 신 품 | G10: 신 품
A11: 사 용 량 | B11: =D11+F11+G11 -> 2838000 | C11: =E11 -> 3811000 | D11: 2079000 | E11: 3811000 | F11: 528000 | G11: 231000 | AG11: ]
A12: 단 가 | B12: 0 | D12: 1500 | E12: 650 | F12: 517~857 | G12: 1190 | AG12: ]

Sheet 4.환원사업
A1: 4. 2019년도 환원 사업
A2: ◎ 위판조성금
A3: (단위 - 원)
A4: 수 협 별 | B4: 지 급 액 | C4: 지 급 율
A5: 대형선망수협 | B5: 920549927 | C5: 소속 수협 위판고 × 6/1,000
A6: 대형기선저인망수협 | B6: 320272765 | C6: ″
A7: 서남구기선저인망수협 | B7: 116639476 | C7: ″
A8: 근해안강망수협 | B8: 14784600 | C8: ″
A9: 통여수협 | B9: 3651492 | C9: ″
A10: 삼천포수협 | B10: 3405072 | C10: ″
A11: 여수수협 | B11: 3195582 | C11: ″
A12: 마산수협 | B12: 456954 | C12: ″
A13: 기타수협 | B13: 5982927 | C13: ″
A14: 계 | B14: =SUM(B5:B13) -> 1388938795
A16: ◎ 매수인장려금
A17: (단위 - 원)
A18: 구 분 | B18: 지 급 액 | C18: 지 급 율
A19: 매 수 인 장 려 금 | B19: 516960422 | C19: 중도매인 매수액 × 2/1,000

Sheet 제7장 부록
A8: 제7장 부 록

Sheet 1.임원현황
A1: 1. 임원 현황
A2: [2020. 2. 현재]
A3: 직 위 | B3: 성 명 | C3: 소속 및 직명
A4: 대 표 이 사 | B4: 박 극 제 | C4: 부산공동어시장 조합공동사업법인
A5: 이 표 이 사 | B5: 정 연 송 | C5: 대형기선저인망수산업협동조합장
A6: 감 표 이 사 | B6: 김 재 호 | C6: 대형선망수산업협동조합 상임이사

Sheet 2.간부직원현황
A1: 2. 간부직원 현황
A2: ◎ 부산공동어시장 조합공동사업법인
A4: 직 위 | B4: 성 명 | C4: 전화번호 | E4: 직 위 | F4: 성 명 | G4: 전화번호
A5: 대 표 이 사 | B5: 박 극 제 | C5: 254-9961 | E5: 운 영 과 장 | F5: 박 경 호 | G5: 255-9121
A6: 전 무 | C6: 254-9962 | E6: 경제지원과장 | F6: 조 영 제 | G6: 254-8966
A7: 총 무 상 무 | B7: 허 창 경 (직무대행) | C7: 254-9963 | E7: 검 사 실 장 | F7: 윤 영 진 (겸 직) | G7: 254-8962
A8: 경 제 상 무 | B8: 이 정 희 | C8: 254-8968 | E8: 경 매 팀 장 | G8: 254-8969
A9: 현대화사업 추 진 단 장 | B9: 허 창 경 (직무대행) | C9: 711-8930 | E9: 정 산 팀 장 | F9: 김 상 진 | G9: 255-6525
A10: 총 무 과 장 | B10: 윤 영 진 (겸 직) | C10: 254-8961 | E10: 운영 1팀장 | G10: 254-8970
A11: 기 획 과 장 | B11: 윤 영 진 | C11: 254-8962 | E11: 운영 2팀장 | F11: 하 정 민 | G11: 254-8970
A12: 안전관리과장 | B12: 류 성 기 | C12: 254-8963 | E12: 이용가공팀장 | G12: 254-8966
A13: 판매관리과장 | B13: 고 영 현 | C13: 2548-969 | E13: 환경관리팀장 | F13: 송 언 진 | G13: 257-0349
A15: ◎ ㈜부산수산물공판장
A17: 직 위 | D17: 성 명 | F17: 전 화 번 호
A18: 본 부 장 | D18: 백 기 점 | F18: 220-8201

Sheet 어시장의 동태
C3: 어시장의 동태
C8: 인쇄일 | D8: 2020년 3월
C9: 발행일 | D9: =D8 -> 2020년 3월
C10: 발행인 | D10: 대표이사 박 극 제
C11: 편집인 | D11: 기획과장 윤 영 진
C12: 발행처 | D12: 부산광역시 서구 충무대로 202 (남부민동)
D13: 부산공동어시장 조합공동사업법인
D14: Tel : 051) 254-8961
D15: Fax : 051) 243-8579
D16: Homepage : www.bcfm.co.kr
C17: ※ 본 책자는 비매품임.
