Workbook

Sheet 겉표지
A3: 어시장의 동태
A7: 2023년도

Sheet 참고사항
C3: 이용자를 위한 참고사항
A8: 1. 1963년 11월 1일 개장 이래 1964년부터 1978년까지 15
A9: 개년간의 사업실적을 1979년 총괄하여 발간한 바 있습니다.
A12: 2. 그 이후 분은 당해연도 사업실적을 수록한 동태지를 매년
A13: 발간하고 있습니다.
A16: 3. 본 책자는 2022년도 말 현재의 자료를 수록하였습니다.
A19: 4. 수록된 자료는 표시 단위 미만을 반올림하였으므로 합계수치와
A20: 내용의 수치가 일치하지 않는 경우도 있습니다.

Sheet 차례
A1: 차 례
A4: 제1장 | B4: 위탁판매사업 | D4: 제4장 | E4: 이용가공사업
A5: 1. | B5: 연도별 어업별 위판고 ‥‥‥‥‥‥‥‥‥‥‥‥‥‥‥‥‥‥ | C5: 6 | D5: 1. | E5: 2022년도 월별 어종별 동결·냉장량 및 금액 ‥‥‥‥‥‥‥‥‥‥ | F5: 40
A6: 2. | B6: 연도별 월별 위판고 (최근 10개년) ‥‥‥‥‥‥‥‥‥‥‥‥‥ | C6: 10 | D6: 2. | E6: 2022년도 월별 동결·냉장 어종별 출고량‥‥‥‥‥‥‥‥‥‥‥‥ | F6: 42
A7: 3. | B7: 2022년도 월별 어업별 위판고 ‥‥‥‥‥‥‥‥‥‥‥‥‥‥‥‥ | C7: 12 | D7: 3. | E7: 2022년도 월별 인조빙 판매량 및 금액 ‥‥‥‥‥‥‥‥‥‥‥‥ | F7: 43
A8: 4. | B8: 2022년도 월별 수협별 위판고 ‥‥‥‥‥‥‥‥‥‥‥‥‥‥‥‥ | C8: 14 | D8: 4. | E8: 2022년도 월별 어업별 어선 급수량 및 금액‥‥‥‥‥‥‥‥‥‥‥‥ | F8: 44
A9: 5. | B9: 2022년도 월별 어종별 위판고 및 단가 ‥‥‥‥‥‥‥‥‥‥‥‥‥‥‥ | C9: 16 | D9: 5. | E9: 2022년도 상자별(규격별) 이용료율‥‥‥‥‥‥‥‥‥‥‥‥‥‥‥‥‥‥‥‥ | F9: 46
A10: 6. | B10: 2022년도 1일 최고·최저 위판고 ‥‥‥‥‥‥‥‥‥‥‥‥‥‥ | C10: 20 | D10: 제5장 | E10: 중도매인 및 매매참가인
A11: 7. | B11: 2022년도 1일 평균 위판고 ‥‥‥‥‥‥‥‥‥‥‥‥‥‥‥‥‥‥ | C11: 20 | D11: 1. | E11: 2022년도 중도매인 및 매매참가인 수 ‥‥‥‥‥‥‥‥‥‥‥‥‥‥ | F11: 48
A12: 8. | B12: 2022년도 월중 1일 최고·최저 위판고‥‥‥‥‥‥‥‥‥‥‥‥‥‥‥‥ | C12: 21 | D12: 2. | E12: 2022년도 중도매인 분포‥‥‥‥‥‥‥‥‥‥‥‥‥‥‥‥. | F12: 48
A13: 9. | B13: 2022년도 월별 어업별 척당 1회 평균 위판고 ‥‥‥‥‥‥‥‥‥‥‥‥‥‥ | C13: 22 | D13: 3. | E13: 중도매인 현황 ‥‥‥‥‥‥‥‥‥‥‥‥‥‥‥‥‥‥‥‥‥‥‥‥‥‥ | F13: 49
A14: 10. | B14: 2022년도 월별 어종별 선상 경매 현황 ‥‥‥‥‥‥‥‥‥‥‥‥‥‥‥ | C14: 24 | D14: 4. | E14: 매매참가인 현황 ‥‥‥‥‥‥‥‥‥‥‥‥‥‥‥‥‥‥‥‥‥‥ | F14: 51
A15: 11. | B15: 연도별 월별 수입수산물 위판고 ‥‥‥‥‥‥‥‥‥‥‥‥‥‥‥‥‥‥‥ | C15: 26 | D15: 5. | E15: 2022년도 중도매인 1인 최고 및 평균 매상고 ‥‥‥‥‥‥‥‥ | F15: 52
A16: 제2장 | B16: 어가동향 | D16: 제6장 | E16: 기 타
A17: 1. | B17: 2022년도 월별 어업별 평균어가 ‥‥‥‥‥‥‥‥‥‥‥‥‥‥‥‥‥‥ | C17: 28 | D17: 1. | E17: 2022년도 환원 사업 ‥‥‥‥‥‥‥‥‥‥‥‥‥‥‥‥‥‥‥‥ | F17: 54
A18: 2. | B18: 2022년도 월별 어종별 평균어가 ‥‥‥‥‥‥‥‥‥‥‥‥‥‥‥‥‥ | C18: 30 | D18: 제7장 | E18: 부 록
A19: 제3장 | B19: 어선입항 | D19: 1. | E19: 임원 현황 ‥‥‥‥‥‥‥‥‥‥‥‥‥‥‥‥‥‥‥‥‥‥‥‥‥‥ | F19: 56
A20: 1. | B20: 2022년도 월별 어업별 입항 척수 ‥‥‥‥‥‥‥‥‥‥‥‥‥‥‥‥‥‥ | C20: 36 | D20: 2. | E20: 간부직원 현황 ‥‥‥‥‥‥‥‥‥‥‥‥‥‥‥‥‥‥‥‥‥‥‥‥‥‥‥‥‥‥ | F20: 57

Sheet 제1장 위탁판매사업
A8: 제1장 위 탁 판 매 사 업

Sheet 1. 연도별 어업별 위판고
A1: 1. 연도별 어업 | L1: 별 위판고
A2: (단위 - 수량 : 톤, 금액 : 천원)
A3: 구 분 | B3: 계 | D3: 대 형 선 망 | F3: 대 형 기 선 저 인 망 | N3: 중형기선저인망 | P3: 안 강 망 | R3: 상어유망 | T3: 기 타
F4: 소 계 | H4: 외 끌 이 | J4: 쌍 끌 이 | L4: 대형트롤
B5: 수 량 | C5: 금 액 | D5: 수 량 | E5: 금 액 | F5: 수 량 | G5: 금 액 | H5: 수 량 | I5: 금 액 | J5: 수 량 | K5: 금 액 | L5: 수 량 | M5: 금 액 | N5: 수 량 | O5: 금 액 | P5: 수 량 | Q5: 금 액 | R5: 수 량 | S5: 금 액 | T5: 수 량 | U5: 금 액
A6: 1975 | B6: 182276 | C6: 18288879 | D6: 70067 | E6: 7430900 | F6: 79413 | G6: 7718141 | H6: 30147 | I6: 2116494 | J6: 49266 | K6: 5601647 | L6: 0 | M6: 0 | N6: 2531 | O6: 188630 | P6: 22234 | Q6: 1960681 | R6: 3073 | S6: 640320 | T6: 4958 | U6: 350207
A7: 1976 | B7: 222549 | C7: 26895325 | D7: 110311 | E7: 12243196 | F7: 84874 | G7: 11233581 | H7: 29200 | I7: 2353071 | J7: 55674 | K7: 8880510 | L7: 0 | M7: 0 | N7: 1846 | O7: 145469 | P7: 15444 | Q7: 1830439 | R7: 4477 | S7: 899218 | T7: 5597 | U7: 543422
A8: 1977 | B8: 260563 | C8: 40236529 | D8: 151376 | E8: 18613484 | F8: 81905 | G8: 16585556 | H8: 28964 | I8: 4426670 | J8: 52941 | K8: 12158886 | L8: 0 | M8: 0 | N8: 830 | O8: 99138 | P8: 15316 | Q8: 2937953 | R8: 3513 | S8: 866474 | T8: 7623 | U8: 1133924
A9: 1978 | B9: 251347 | C9: 45227336 | D9: 159930 | E9: 21600681 | F9: 69878 | G9: 18205710 | H9: 26593 | I9: 4671766 | J9: 43285 | K9: 13533944 | L9: 0 | M9: 0 | N9: 561 | O9: 79899 | P9: 14726 | Q9: 3435659 | R9: 3972 | S9: 1516132 | T9: 2280 | U9: 389255
A10: 1979 | B10: 256320 | C10: 50972461 | D10: 164356 | E10: 26555087 | F10: 68283 | G10: 19082993 | H10: 23478 | I10: 4932470 | J10: 42098 | K10: 13686198 | L10: 2707 | M10: 464325 | N10: 6 | O10: 1929 | P10: 18185 | Q10: 3864637 | R10: 3001 | S10: 897507 | T10: 2489 | U10: 570308
A11: 1980 | B11: 263529 | C11: 73593137 | D11: 177019 | E11: 42542174 | F11: 67914 | G11: 24569205 | H11: 17722 | I11: 5498047 | J11: 43559 | K11: 17521240 | L11: 6633 | M11: 1549918 | N11: 0 | O11: 0 | P11: 14827 | Q11: 4697101 | R11: 2342 | S11: 1278938 | T11: 1427 | U11: 505719
A12: 1981 | B12: 296415 | C12: 97296949 | D12: 204216 | E12: 52724976 | F12: 70943 | G12: 34772893 | H12: 17168 | I12: 6415068 | J12: 43099 | K12: 25321539 | L12: 10676 | M12: 3036286 | N12: 0 | O12: 0 | P12: 16785 | Q12: 7555615 | R12: 1854 | S12: 1326005 | T12: 2617 | U12: 917460
A13: 1982 | B13: 293975 | C13: 109157920 | D13: 212816 | E13: 64319729 | F13: 64932 | G13: 35966152 | H13: 13756 | I13: 5477836 | J13: 39499 | K13: 26197413 | L13: 11677 | M13: 4290903 | N13: 61 | O13: 9008 | P13: 11871 | Q13: 6236490 | R13: 2782 | S13: 1946774 | T13: 1513 | U13: 679767
A14: 1983 | B14: 335636 | C14: 116150346 | D14: 242920 | E14: 63236036 | F14: 74244 | G14: 41684769 | H14: 13660 | I14: 6558469 | J14: 44568 | K14: 30091441 | L14: 16016 | M14: 5034859 | N14: 121 | O14: 24872 | P14: 15602 | Q14: 9222210 | R14: 2644 | S14: 1915892 | T14: 105 | U14: 66567
A15: 1984 | B15: 350369 | C15: 125399448 | D15: 258303 | E15: 72932499 | F15: 68889 | G15: 40915595 | H15: 11694 | I15: 6003061 | J15: 44520 | K15: 30788786 | L15: 12675 | M15: 4123748 | N15: 0 | O15: 0 | P15: 21222 | Q15: 9614651 | R15: 1955 | S15: 1936703 | T15: 0 | U15: 0
A16: 1985 | B16: 298694 | C16: 150268189 | D16: 208274 | E16: 92733449 | F16: 68769 | G16: 45098820 | H16: 10786 | I16: 6591475 | J16: 49070 | K16: 34994211 | L16: 8913 | M16: 3513134 | N16: 0 | O16: 0 | P16: 19895 | Q16: 10503247 | R16: 1756 | S16: 1932673 | T16: 0 | U16: 0
A17: 1986 | B17: 385736 | C17: 177047300 | D17: 280844 | E17: 103972181 | F17: 80762 | G17: 57335083 | H17: 15486 | I17: 8635620 | J17: 53577 | K17: 44973285 | L17: 11699 | M17: 3726178 | N17: 0 | O17: 0 | P17: 22506 | Q17: 13697771 | R17: 1624 | S17: 2042265 | T17: 0 | U17: 0
... A29: 1998 | B29: 313894 | C29: 373824198 | D29: 172667 | E29: 172363964 | F29: 132644 | G29: 187147717 | H29: 7945 | I29: 18386309 | J29: 57507 | K29: 86478461 | L29: 67192 | M29: 82282947 | N29: 0 | O29: 0 | P29: 1251 | Q29: 1817967 | R29: 177 | S29: 633702 | T29: 7155 | U29: 11860848
A30: 연도별 어업별 | L30: 위판고 (계속)
A31: (단위 - 수량 : 톤, 금액 : 천원)
A32: 구 분 | B32: 계 | D32: 대 형 선 망 | F32: 대 형 기 선 저 인 망 | N32: 중형기선저인망 | P32: 안 강 망 | R32: 상어유망 | T32: 기 타
F33: 소 계 | H33: 외 끌 이 | J33: 쌍 끌 이 | L33: 대형트롤
B34: 수 량 | C34: 금 액 | D34: 수 량 | E34: 금 액 | F34: 수 량 | G34: 금 액 | H34: 수 량 | I34: 금 액 | J34: 수 량 | K34: 금 액 | L34: 수 량 | M34: 금 액 | N34: 수 량 | O34: 금 액 | P34: 수 량 | Q34: 금 액 | R34: 수 량 | S34: 금 액 | T34: 수 량 | U34: 금 액
A35: 1999 | B35: 332277 | C35: 329954243 | D35: 182672 | E35: 149515503 | F35: 140174 | G35: 164772546 | H35: 5064 | I35: 12751469 | J35: 51652 | K35: 68094729 | L35: 83458 | M35: 83926348 | N35: 633 | O35: 1906466 | P35: 478 | Q35: 523615 | R35: 115 | S35: 379058 | T35: 8205 | U35: 12857055
A36: 2000 | B36: 282682 | C36: 311764259 | D36: 146248 | E36: 155691075 | F36: 127476 | G36: 143230103 | H36: 4731 | I36: 13852852 | J36: 45679 | K36: 59060744 | L36: 77066 | M36: 70316507 | N36: 1277 | O36: 3962373 | P36: 384 | Q36: 604488 | R36: 0 | S36: 0 | T36: 7297 | U36: 8276220
A37: 2001 | B37: 301280 | C37: 302399406 | D37: 181005 | E37: 172728887 | F37: 114493 | G37: 119997809 | H37: 3723 | I37: 12405864 | J37: 39020 | K37: 45342627 | L37: 71750 | M37: 62249318 | N37: 1019 | O37: 4260134 | P37: 320 | Q37: 548036 | R37: 0 | S37: 0 | T37: 4443 | U37: 4864540
A38: 2002 | B38: 258253 | C38: 300929816 | D38: 152622 | E38: 177595103 | F38: 99231 | G38: 109574988 | H38: 2358 | I38: 7679388 | J38: 38375 | K38: 46224358 | L38: 58498 | M38: 55671242 | N38: 1618 | O38: 6393443 | P38: 138 | Q38: 219501 | R38: 0 | S38: 0 | T38: 4644 | U38: 7146781
A39: 2003 | B39: 233119 | C39: 278427967 | D39: 147365 | E39: 170588212 | F39: 77745 | G39: 91762813 | H39: 3197 | I39: 9046395 | J39: 31565 | K39: 36701105 | L39: 42983 | M39: 46015313 | N39: 1791 | O39: 6207461 | P39: 146 | Q39: 236867 | R39: 0 | S39: 0 | T39: 6072 | U39: 9632614
A40: 2004 | B40: 246896 | C40: 342262321 | D40: 177955 | E40: 227700283 | F40: 55605 | G40: 90675046 | H40: 3315 | I40: 8837913 | J40: 27787 | K40: 40250963 | L40: 24503 | M40: 41586170 | N40: 2379 | O40: 7769414 | P40: 58 | Q40: 112284 | R40: 0 | S40: 0 | T40: 10899 | U40: 16005294
A41: 2005 | B41: 209804 | C41: 276712943 | D41: 144776 | E41: 171828106 | F41: 54176 | G41: 83052207 | H41: 4509 | I41: 13007191 | J41: 30717 | K41: 41756060 | L41: 18950 | M41: 28288956 | N41: 2383 | O41: 8457808 | P41: 445 | Q41: 637031 | R41: 0 | S41: 0 | T41: 8024 | U41: 12737791
A42: 2006 | B42: 194872 | C42: 259144340 | D42: 121905 | E42: 155600709 | F42: 62363 | G42: 81421258 | H42: 5116 | I42: 13608847 | J42: 38126 | K42: 45794320 | L42: 19121 | M42: 22018091 | N42: 2382 | O42: 7254117 | P42: 1133 | Q42: 1623392 | R42: 0 | S42: 0 | T42: 7089 | U42: 13244864
A43: 2007 | B43: 228000 | C43: 282856968 | D43: 153161 | E43: 179277125 | F43: 59628 | G43: 79428417 | H43: 4529 | I43: 13283817 | J43: 30658 | K43: 41587842 | L43: 24441 | M43: 24556758 | N43: 3614 | O43: 10481601 | P43: 1264 | Q43: 1559429 | R43: 0 | S43: 0 | T43: 10333 | U43: 12110396
A44: 2008 | B44: 254141 | C44: 337731136 | D44: 189959 | E44: 218084006 | F44: 43591 | G44: 83292181 | H44: 5601 | I44: 16588868 | J44: 21153 | K44: 41058647 | L44: 16837 | M44: 25644666 | N44: 3824 | O44: 11899744 | P44: 2205 | Q44: 5416835 | R44: 0 | S44: 0 | T44: 14562 | U44: 19038370
A45: 2009 | B45: 263325 | C45: 437419229 | D45: 198333 | E45: 295620803 | F45: 53170 | G45: 118629234 | H45: 5564 | I45: 21182700 | J45: 24193 | K45: 55563805 | L45: 23413 | M45: 41882729 | N45: 2005 | O45: 8134121 | P45: 532 | Q45: 1797510 | R45: 0 | S45: 0 | T45: 9285 | U45: 13237562
A46: 2010 | B46: 196607 | C46: 380744112 | D46: 149333 | E46: 255928052 | F46: 38046 | G46: 98827918 | H46: 4410 | I46: 17477613 | J46: 22459 | K46: 57339163 | L46: 11177 | M46: 24011142 | N46: 3328 | O46: 13378457 | P46: 138 | Q46: 371072 | R46: 0 | S46: 0 | T46: 5762 | U46: 12238613
... A54: 2018 | B54: 189595 | C54: 271909330 | D54: 171634 | E54: 191819069 | F54: 12951 | G54: 55023551 | H54: 2057 | I54: 11164246 | J54: 9519 | K54: 39022719 | L54: 1375 | M54: 4836586 | N54: 3254 | O54: 18720761 | P54: 867 | Q54: 3787288 | R54: 0 | S54: 0 | T54: 889 | U54: 2558661
A55: 2019 | B55: =D55+F55+N55+P55+R55+T55 -> 124328 | C55: =E55+G55+O55+Q55+S55+U55 -> 233469708 | D55: 105541 | E55: 153424988 | F55: =H55+J55+L55 -> 13639 | G55: =I55+K55+M55 -> 55247529 | H55: 2152 | I55: 10566839 | J55: 9711 | K55: 40269765 | L55: 1776 | M55: 4410925 | N55: 3734 | O55: 19499707 | P55: 531 | Q55: 2464101 | R55: 0 | S55: 0 | T55: 883 | U55: 2833383
A56: 2020 | B56: =D56+F56+N56+P56+R56+T56 -> 119700 | C56: =E56+G56+O56+Q56+S56+U56 -> 281175827 | D56: 93360 | E56: 173863834 | F56: =H56+J56+L56 -> 18182 | G56: =I56+K56+M56-1000 -> 73696186 | H56: 1907 | I56: 9368581 | J56: 13744 | K56: 56661553 | L56: 2531 | M56: 7667052 | N56: 3716 | O56: 20588524 | P56: 609 | Q56: 3073722 | R56: 0 | S56: 0 | T56: 3833 | U56: =9952561+1000 -> 9953561
A57: 2021 | B57: =D57+F57+N57+P57+R57+T57 -> 152800 | C57: =E57+G57+O57+Q57+S57+U57 -> 300128590 | D57: 130872 | E57: 204991474 | F57: =H57+J57+L57 -> 15414 | G57: 67575065 | H57: 1424 | I57: 6698511 | J57: 12384 | K57: 55711854 | L57: 1606 | M57: 5164700 | N57: 3563 | O57: 17654022 | P57: 498 | Q57: 2379420 | R57: 0 | S57: 0 | T57: 2453 | U57: 7528609
A58: 2022 | B58: 124858 | C58: 266249716 | D58: 104892 | E58: 177288845 | F58: 14602 | G58: 64212202 | H58: 1183 | I58: 6286043 | J58: 12177 | K58: 53245227 | L58: 1242 | M58: 4680932 | N58: 3219 | O58: 16888771 | P58: 267 | Q58: 1154720 | R58: 0 | S58: 0 | T58: 1878 | U58: 6705178

Sheet 2. 연도별 월별 위판고
A1: 2. 연도별 월별 | L1: 위판고 (최근 10개년)
A2: (단위 - 수량 : 톤, 금액 : 천원)
A3: 구 분 | B3: 2013년 | D3: 2014년 | F3: 2015년 | H3: 2016년 | J3: 2017년 | L3: 2018년 | N3: 2019년 | P3: 2020년 | R3: 2021년 | T3: 2022년 | W3: 어업별 | Y3: 수협별 | AA3: 어종별
B4: 수 량 | C4: 금 액 | D4: 수 량 | E4: 금 액 | F4: 수 량 | G4: 금 액 | H4: 수 량 | I4: 금 액 | J4: 수 량 | K4: 금 액 | L4: 수 량 | M4: 금 액 | N4: 수 량 | O4: 금 액 | P4: 수 량 | Q4: 금 액 | R4: 수 량 | S4: 금 액 | T4: 수 량 | U4: 금 액 | W4: 수량 | X4: 금액 | Y4: 수량 | Z4: 금액 | AA4: 수량 | AB4: 금액
A5: 1월 | B5: 33687 | C5: 51910611 | D5: 16704 | E5: 36874978 | F5: 18545 | G5: 35196208 | H5: 26680 | I5: 32912999 | J5: 14103 | K5: 24350030 | L5: 22438 | M5: 21566566 | N5: 26923 | O5: 33999520 | P5: 16352 | Q5: 20637535 | R5: 15293 | S5: 36134345 | T5: 18068 | U5: 37327008 | V5: =A5 -> 1월 | W5: ='3.어업별 위판고'!B6 -> 18068 | X5: ='3.어업별 위판고'!C6 -> 37327008 | Y5: ='4. 수협별 위판고'!B5 -> 18068 | Z5: ='4. 수협별 위판고'!C5 -> 37327008 | AA5: ='5.어종별 위판고 및 단가'!B5 -> 18069 | AB5: ='5.어종별 위판고 및 단가'!C5 -> 37326998
A6: 2월 | B6: 10375 | C6: 22471715 | D6: 8746 | E6: 18604741 | F6: 12891 | G6: 30002258 | H6: 8535 | I6: 22971723 | J6: 5254 | K6: 14387760 | L6: 7882 | M6: 23611739 | N6: 6590 | O6: 18188483 | P6: 11312 | Q6: 24007782 | R6: 10632 | S6: 31586244 | T6: 4658 | U6: 17232692 | V6: =A6 -> 2월 | W6: ='3.어업별 위판고'!B7 -> 4658 | X6: ='3.어업별 위판고'!C7 -> 17232692 | Y6: ='4. 수협별 위판고'!B6 -> 4658 | Z6: ='4. 수협별 위판고'!C6 -> 17232692 | AA6: ='5.어종별 위판고 및 단가'!B6 -> 4658 | AB6: ='5.어종별 위판고 및 단가'!C6 -> 17232691
A7: 3월 | B7: 14055 | C7: 24705707 | D7: 8949 | E7: 21952548 | F7: 21802 | G7: 31190743 | H7: 8829 | I7: 21719595 | J7: 5580 | K7: 17604674 | L7: 14683 | M7: 21170490 | N7: 5272 | O7: 17345733 | P7: 7246 | Q7: 22134225 | R7: 6376 | S7: 18668841 | T7: 7535 | U7: 26958607 | V7: =A7 -> 3월 | W7: ='3.어업별 위판고'!B8 -> 7535 | X7: ='3.어업별 위판고'!C8 -> 26958607 | Y7: ='4. 수협별 위판고'!B7 -> 7535 | Z7: ='4. 수협별 위판고'!C7 -> 26958607 | AA7: ='5.어종별 위판고 및 단가'!B7 -> 7535 | AB7: ='5.어종별 위판고 및 단가'!C7 -> 26958608
A8: 4월 | B8: 6762 | C8: 18194523 | D8: 4492 | E8: 13392246 | F8: 13676 | G8: 17429661 | H8: 8828 | I8: 15111316 | J8: 2717 | K8: 7508297 | L8: 4582 | M8: 8657555 | N8: 4332 | O8: 10945116 | P8: 1731 | Q8: 6744924 | R8: 4963 | S8: 11632740 | T8: 2398 | U8: 5688915 | V8: =A8 -> 4월 | W8: ='3.어업별 위판고'!B9 -> 2398 | X8: ='3.어업별 위판고'!C9 -> 5688915 | Y8: ='4. 수협별 위판고'!B8 -> 2398 | Z8: ='4. 수협별 위판고'!C8 -> 5688915 | AA8: ='5.어종별 위판고 및 단가'!B8 -> 2398 | AB8: ='5.어종별 위판고 및 단가'!C8 -> 5688917
A9: 5월 | B9: 1697 | C9: 6941297 | D9: 3971 | E9: 8643316 | F9: 964 | G9: 3775626 | H9: 2836 | I9: 7827417 | J9: 3713 | K9: 7438161 | L9: 568 | M9: 3095745 | N9: 756 | O9: 3596288 | P9: 842 | Q9: 2996021 | R9: 611 | S9: 3017288 | T9: 774 | U9: 3044509 | V9: =A9 -> 5월 | W9: ='3.어업별 위판고'!B10 -> 774 | X9: ='3.어업별 위판고'!C10 -> 3044509 | Y9: ='4. 수협별 위판고'!B9 -> 774 | Z9: ='4. 수협별 위판고'!C9 -> 3044509 | AA9: ='5.어종별 위판고 및 단가'!B9 -> 774 | AB9: ='5.어종별 위판고 및 단가'!C9 -> 3044510
A10: 6월 | B10: 4246 | C10: 11668205 | D10: 5179 | E10: 12687525 | F10: 14885 | G10: 15081143 | H10: 6181 | I10: 13374107 | J10: 7404 | K10: 18368943 | L10: 739 | M10: 4001730 | N10: 485 | O10: 2680959 | P10: 1717 | Q10: 6062515 | R10: 1323 | S10: 4617746 | T10: 1657 | U10: 4447086 | V10: =A10 -> 6월 | W10: ='3.어업별 위판고'!B11 -> 1657 | X10: ='3.어업별 위판고'!C11 -> 4447086 | Y10: ='4. 수협별 위판고'!B10 -> 1657 | Z10: ='4. 수협별 위판고'!C10 -> 4447086 | AA10: ='5.어종별 위판고 및 단가'!B10 -> 1658 | AB10: ='5.어종별 위판고 및 단가'!C10 -> 4447087
A11: 7월 | B11: 6757 | C11: 17921182 | D11: 8670 | E11: 20805470 | F11: 11457 | G11: 17269772 | H11: 6966 | I11: 15790541 | J11: 8334 | K11: 19740048 | L11: 13184 | M11: 21726286 | N11: 3951 | O11: 13150487 | P11: 9576 | Q11: 20136238 | R11: 9246 | S11: 20959461 | T11: 4190 | U11: 12590948 | V11: =A11 -> 7월 | W11: ='3.어업별 위판고'!B12 -> 4190 | X11: ='3.어업별 위판고'!C12 -> 12590948 | Y11: ='4. 수협별 위판고'!B11 -> 4190 | Z11: ='4. 수협별 위판고'!C11 -> 12590948 | AA11: ='5.어종별 위판고 및 단가'!B11 -> 4189 | AB11: ='5.어종별 위판고 및 단가'!C11 -> 12590948
A12: 8월 | B12: 14152 | C12: 29494666 | D12: 16334 | E12: 26534088 | F12: 18365 | G12: 20709450 | H12: 11279 | I12: 17956339 | J12: 15432 | K12: 31766735 | L12: 14450 | M12: 21238804 | N12: 9213 | O12: 21411865 | P12: 7094 | Q12: 26048631 | R12: 11010 | S12: 31345666 | T12: 10176 | U12: 27149948 | V12: =A12 -> 8월 | W12: ='3.어업별 위판고'!B13 -> 10176 | X12: ='3.어업별 위판고'!C13 -> 27149948 | Y12: ='4. 수협별 위판고'!B12 -> 10176 | Z12: ='4. 수협별 위판고'!C12 -> 27149948 | AA12: ='5.어종별 위판고 및 단가'!B12 -> 10178 | AB12: ='5.어종별 위판고 및 단가'!C12 -> 27149949
A13: 9월 | B13: 21334 | C13: 32929817 | D13: 16319 | E13: 24938145 | F13: 16247 | G13: 31706028 | H13: 18406 | I13: 26119658 | J13: 15968 | K13: 32158639 | L13: 29520 | M13: 37731478 | N13: 6732 | O13: 15952811 | P13: 11379 | Q13: 36849668 | R13: 19455 | S13: 35013193 | T13: 12916 | U13: 28173972 | V13: =A13 -> 9월 | W13: ='3.어업별 위판고'!B14 -> 12916 | X13: ='3.어업별 위판고'!C14 -> 28173972 | Y13: ='4. 수협별 위판고'!B13 -> 12916 | Z13: ='4. 수협별 위판고'!C13 -> 28173972 | AA13: ='5.어종별 위판고 및 단가'!B13 -> 12915 | AB13: ='5.어종별 위판고 및 단가'!C13 -> 28173972
A14: 10월 | B14: 16154 | C14: 32799379 | D14: 16827 | E14: 35105468 | F14: 15940 | G14: 37405259 | H14: 21578 | I14: 32470404 | J14: 10786 | K14: 24668062 | L14: 25919 | M14: 39503092 | N14: 11359 | O14: 26435525 | P14: 18652 | Q14: 41169473 | R14: 24160 | S14: 32744924 | T14: 14974 | U14: 29716445 | V14: =A14 -> 10월 | W14: ='3.어업별 위판고'!B15 -> 14974 | X14: ='3.어업별 위판고'!C15 -> 29716445 | Y14: ='4. 수협별 위판고'!B14 -> 14974 | Z14: ='4. 수협별 위판고'!C14 -> 29716445 | AA14: ='5.어종별 위판고 및 단가'!B14 -> 14974 | AB14: ='5.어종별 위판고 및 단가'!C14 -> 29716446
A15: 11월 | B15: 19431 | C15: 46576655 | D15: 28171 | E15: 54585398 | F15: 16800 | G15: 34389643 | H15: 32438 | I15: 46921378 | J15: 17397 | K15: 31113928 | L15: 35843 | M15: 42627086 | N15: 13328 | O15: 26886228 | P15: 15704 | Q15: 39991922 | R15: 20366 | S15: 35927645 | T15: 28681 | U15: 44588894 | V15: =A15 -> 11월 | W15: ='3.어업별 위판고'!B16 -> 28681 | X15: ='3.어업별 위판고'!C16 -> 44588894 | Y15: ='4. 수협별 위판고'!B15 -> 28681 | Z15: ='4. 수협별 위판고'!C15 -> 44588894 | AA15: ='5.어종별 위판고 및 단가'!B15 -> 28679 | AB15: ='5.어종별 위판고 및 단가'!C15 -> 44588894
A16: 12월 | B16: 37405 | C16: 51445954 | D16: 35208 | E16: 47678419 | F16: 29268 | G16: 47893331 | H16: 31384 | I16: 48184504 | J16: 31836 | K16: 38915486 | L16: 19787 | M16: 26978759 | N16: 35387 | O16: 42876693 | P16: 18095 | Q16: 34396893 | R16: 29365 | S16: 38480497 | T16: 18831 | U16: 29330692 | V16: =A16 -> 12월 | W16: ='3.어업별 위판고'!B17 -> 18831 | X16: ='3.어업별 위판고'!C17 -> 29330692 | Y16: ='4. 수협별 위판고'!B16 -> 18831 | Z16: ='4. 수협별 위판고'!C16 -> 29330692 | AA16: ='5.어종별 위판고 및 단가'!B16 -> 18831 | AB16: ='5.어종별 위판고 및 단가'!C16 -> 29330696
A17: 합 계 | B17: 186055 | C17: 347059711 | D17: 169570 | E17: 321802342 | F17: 190840 | G17: 322049122 | H17: 183940 | I17: 301359981 | J17: 138524 | K17: 268020763 | L17: 189595 | M17: 271909330 | N17: =SUM(N5:N16) -> 124328 | O17: =SUM(O5:O16) -> 233469708 | P17: =SUM(P5:P16) -> 119700 | Q17: =SUM(Q5:Q16) -> 281175827 | R17: =SUM(R5:R16) -> 152800 | S17: =SUM(S5:S16) -> 300128590 | T17: 124858 | U17: 266249716 | V17: =A17 -> 합 계 | W17: ='3.어업별 위판고'!B18 -> 124858 | X17: ='3.어업별 위판고'!C18 -> 266249716 | Y17: ='4. 수협별 위판고'!B17 -> 124858 | Z17: ='4. 수협별 위판고'!C17 -> 266249716 | AA17: ='5.어종별 위판고 및 단가'!B17 -> 124858 | AB17: ='5.어종별 위판고 및 단가'!C17 -> 266249716

Sheet 3.어업별 위판고
A1: 3. 2022년도 월별 | J1: 어업별 위판고
A2: (단위 - 수량 : 톤, 금액 : 천원)
A3: 구 분 | B3: 계 | D3: 대 형 선 망 | F3: 대 형 기 선 | J3: 저 인 망 | N3: 중형기선저인망 | P3: 근 해 안 강 망 | R3: 기 타
F4: 소 계 | H4: 외 끌 이 | J4: 쌍 끌 이 | L4: 대형트롤
B5: 수 량 | C5: 금 액 | D5: 수 량 | E5: 금 액 | F5: 수 량 | G5: 금 액 | H5: 수 량 | I5: 금 액 | J5: 수 량 | K5: 금 액 | L5: 수 량 | M5: 금 액 | N5: 수 량 | O5: 금 액 | P5: 수 량 | Q5: 금 액 | R5: 수 량 | S5: 금 액
A6: 1월 | B6: =D6+F6+N6+P6+R6 -> 18068 | C6: 37327008 | D6: 15867 | E6: 28816802 | F6: 1843 | G6: 6879722 | H6: 101 | I6: 555256 | J6: 1369 | K6: 4724730 | L6: 373 | M6: 1599736 | N6: 273 | O6: 1438871 | P6: 41 | Q6: 126247 | R6: 44 | S6: 65366
A7: 2월 | B7: =D7+F7+N7+P7+R7 -> 4658 | C7: 17232692 | D7: 3654 | E7: 13942292 | F7: 812 | G7: 2460241 | H7: 41 | I7: 199270 | J7: 526 | K7: 1543044 | L7: 245 | M7: 717927 | N7: 179 | O7: 773427 | P7: 0 | Q7: 0 | R7: 13 | S7: 56732
A8: 3월 | B8: =D8+F8+N8+P8+R8 -> 7535 | C8: 26958607 | D8: 6289 | E8: 22210881 | F8: 994 | G8: 3359232 | H8: 74 | I8: 477008 | J8: 825 | K8: 2399249 | L8: 95 | M8: 482975 | N8: 233 | O8: 1339975 | P8: 4 | Q8: 15329 | R8: 15 | S8: 33190
A9: 4월 | B9: =D9+F9+N9+P9+R9 -> 2398 | C9: 5688915 | D9: 1891 | E9: 2902221 | F9: 289 | G9: 1449655 | H9: 98 | I9: 676665 | J9: 164 | K9: 591772 | L9: 27 | M9: 181218 | N9: 211 | O9: 1320593 | P9: 0 | Q9: 0 | R9: 7 | S9: 16446
A10: 5월 | B10: =D10+F10+N10+P10+R10 -> 774 | C10: 3044509 | D10: 0 | E10: 0 | F10: 115 | G10: 695787 | H10: 77 | I10: 432964 | J10: 0 | K10: 0 | L10: 38 | M10: 262823 | N10: 249 | O10: 1097118 | P10: 11 | Q10: 34455 | R10: 399 | S10: 1217149
A11: 6월 | B11: =D11+F11+N11+P11+R11 -> 1657 | C11: 4447086 | D11: 981 | E11: 2012621 | F11: 20 | G11: 126546 | H11: 0 | I11: 0 | J11: 0 | K11: 0 | L11: 20 | M11: 126546 | N11: 328 | O11: 1305614 | P11: 72 | Q11: 210463 | R11: 256 | S11: 791842
A12: 7월 | B12: =D12+F12+N12+P12+R12 -> 4190 | C12: 12590948 | D12: 3342 | E12: 7844181 | F12: 369 | G12: 1991948 | H12: 102 | I12: 568947 | J12: 261 | K12: 1377134 | L12: 6 | M12: 45867 | N12: 389 | O12: 2452555 | P12: 17 | Q12: 57724 | R12: 73 | S12: 244540
A13: 8월 | B13: =D13+F13+N13+P13+R13 -> 10176 | C13: 27149948 | D13: 7557 | E13: 13135000 | F13: 2301 | G13: 11448301 | H13: 143 | I13: 889021 | J13: 2158 | K13: 10559280 | L13: 0 | M13: 0 | N13: 196 | O13: 1847805 | P13: 19 | Q13: 114033 | R13: 103 | S13: 604809
A14: 9월 | B14: =D14+F14+N14+P14+R14 -> 12916 | C14: 28173972 | D14: 10481 | E14: 15441248 | F14: 2288 | G14: 11954980 | H14: 72 | I14: 402476 | J14: 2175 | K14: 11513201 | L14: 41 | M14: 39303 | N14: 98 | O14: 547358 | P14: 8 | Q14: 54070 | R14: 41 | S14: 176316
A15: 10월 | B15: =D15+F15+N15+P15+R15 -> 14974 | C15: 29716445 | D15: 11357 | E15: 14775177 | F15: 2915 | G15: 12067773 | H15: 152 | I15: 664032 | J15: 2603 | K15: 11160555 | L15: 160 | M15: 243186 | N15: 289 | O15: 1240523 | P15: 14 | Q15: 116010 | R15: 399 | S15: 1516962
A16: 11월 | B16: =D16+F16+N16+P16+R16 -> 28681 | C16: 44588894 | D16: 26276 | E16: 34295156 | F16: 1827 | G16: 7803355 | H16: 251 | I16: 1002752 | J16: 1431 | K16: 6550997 | L16: 145 | M16: 249606 | N16: 370 | O16: 1592047 | P16: 25 | Q16: 143820 | R16: 183 | S16: 754516
A17: 12월 | B17: =D17+F17+N17+P17+R17 -> 18831 | C17: 29330692 | D17: 17197 | E17: 21913266 | F17: 829 | G17: 3974662 | H17: 72 | I17: 417652 | J17: 665 | K17: 2825265 | L17: 92 | M17: 731745 | N17: 404 | O17: 1932885 | P17: 56 | Q17: 282569 | R17: 345 | S17: 1227310
A18: 합 계 | B18: =SUM(B6:B17) -> 124858 | C18: =SUM(C6:C17) -> 266249716 | D18: =SUM(D6:D17) -> 104892 | E18: =SUM(E6:E17) -> 177288845 | F18: =SUM(F6:F17) -> 14602 | G18: =SUM(G6:G17) -> 64212202 | H18: =SUM(H6:H17) -> 1183 | I18: =SUM(I6:I17) -> 6286043 | ... S18: =SUM(S6:S17) -> 6705178

Sheet 4. 수협별 위판고
A1: 4. 2022년도 월별 | H1: 수협별 위판고
A2: (단위 - 수량 : 톤, 금액 : 천원)
A3: 구 분 | B3: 계 | D3: 대형선망수협 | F3: 대형기선저인망수협 | H3: 서남구기선저인망수협 | J3: 근해안강망수협 | L3: 기 타
B4: 수 량 | C4: 금 액 | D4: 수 량 | E4: 금 액 | F4: 수 량 | G4: 금 액 | H4: 수 량 | I4: 금 액 | J4: 수 량 | K4: 금 액 | L4: 수 량 | M4: 금 액
A5: 1월 | B5: =D5+F5+H5+J5+L5 -> 18068 | C5: 37327008 | D5: 15867 | E5: 28816802 | F5: 1843 | G5: 6879722 | H5: 273 | I5: 1438871 | J5: 41 | K5: 126247 | L5: 44 | M5: 65366
A6: 2월 | B6: =D6+F6+H6+J6+L6 -> 4658 | C6: 17232692 | D6: 3654 | E6: 13942292 | F6: 812 | G6: 2460241 | H6: 179 | I6: 773427 | J6: 0 | K6: 0 | L6: 13 | M6: 56732
A7: 3월 | B7: =D7+F7+H7+J7+L7 -> 7535 | C7: 26958607 | D7: 6289 | E7: 22210881 | F7: 994 | G7: 3359232 | H7: 233 | I7: 1339975 | J7: 4 | K7: 15329 | L7: 15 | M7: 33190
A8: 4월 | B8: =D8+F8+H8+J8+L8 -> 2398 | C8: 5688915 | D8: 1891 | E8: 2902221 | F8: 289 | G8: 1449655 | H8: 211 | I8: 1320593 | J8: 0 | K8: 0 | L8: 7 | M8: 16446
A9: 5월 | B9: =D9+F9+H9+J9+L9 -> 774 | C9: 3044509 | D9: 0 | E9: 0 | F9: 115 | G9: 695787 | H9: 249 | I9: 1097118 | J9: 11 | K9: 34455 | L9: 399 | M9: 1217149
A10: 6월 | B10: =D10+F10+H10+J10+L10 -> 1657 | C10: 4447086 | D10: 981 | E10: 2012621 | F10: 20 | G10: 126546 | H10: 328 | I10: 1305614 | J10: 72 | K10: 210463 | L10: 256 | M10: 791842
A11: 7월 | B11: =D11+F11+H11+J11+L11 -> 4190 | C11: 12590948 | D11: 3342 | E11: 7844181 | F11: 369 | G11: 1991948 | H11: 389 | I11: 2452555 | J11: 17 | K11: 57724 | L11: 73 | M11: 244540
A12: 8월 | B12: =D12+F12+H12+J12+L12 -> 10176 | C12: 27149948 | D12: 7557 | E12: 13135000 | F12: 2301 | G12: 11448301 | H12: 196 | I12: 1847805 | J12: 19 | K12: 114033 | L12: 103 | M12: 604809
A13: 9월 | B13: =D13+F13+H13+J13+L13 -> 12916 | C13: 28173972 | D13: 10481 | E13: 15441248 | F13: 2288 | G13: 11954980 | H13: 98 | I13: 547358 | J13: 8 | K13: 54070 | L13: 41 | M13: 176316
A14: 10월 | B14: =D14+F14+H14+J14+L14 -> 14974 | C14: 29716445 | D14: 11357 | E14: 14775177 | F14: 2915 | G14: 12067773 | H14: 289 | I14: 1240523 | J14: 14 | K14: 116010 | L14: 399 | M14: 1516962
A15: 11월 | B15: =D15+F15+H15+J15+L15 -> 28681 | C15: 44588894 | D15: 26276 | E15: 34295156 | F15: 1827 | G15: 7803355 | H15: 370 | I15: 1592047 | J15: 25 | K15: 143820 | L15: 183 | M15: 754516
A16: 12월 | B16: =D16+F16+H16+J16+L16 -> 18831 | C16: 29330692 | D16: 17197 | E16: 21913266 | F16: 829 | G16: 3974662 | H16: 404 | I16: 1932885 | J16: 56 | K16: 282569 | L16: 345 | M16: 1227310
A17: 합 계 | B17: =SUM(B5:B16) -> 124858 | C17: =SUM(C5:C16) -> 266249716 | D17: =SUM(D5:D16) -> 104892 | E17: =SUM(E5:E16) -> 177288845 | F17: =SUM(F5:F16) -> 14602 | G17: =SUM(G5:G16) -> 64212202 | H17: =SUM(H5:H16) -> 3219 | I17: =SUM(I5:I16) -> 16888771 | ... M17: =SUM(M5:M16) -> 6705178

Sheet 5.어종별 위판고 및 단가
A1: 5. 2022년도 월별 어종 | N1: 별 위판고 및 단가
A2: (단위 - 수량 : 톤, 금액 : 천원, 단가 : 원/kg)
A3: 구 분 | B3: 계 | E3: 고 등 어 류 | H3: 삼 치 류 | K3: 오 징 어 | N3: 눈 볼 대 | Q3: 전 갱 이 류 | T3: 방 어 | W3: 갈 치
B4: 수 량 | C4: 금 액 | D4: 단 가 | E4: 수 량 | F4: 금 액 | G4: 단 가 | H4: 수 량 | I4: 금 액 | J4: 단 가 | K4: 수 량 | L4: 금 액 | M4: 단 가 | N4: 수 량 | O4: 금 액 | P4: 단 가 | Q4: 수 량 | R4: 금 액 | S4: 단 가 | T4: 수 량 | U4: 금 액 | V4: 단 가 | W4: 수 량 | X4: 금 액 | Y4: 단 가
A5: 1월 | B5: =SUM(E5,H5,K5,N5,Q5,T5,W5,B22,E22,H22,K22,N22,Q22,T22,W22) -> 18069 | C5: =SUM(F5,I5,L5,O5,R5,U5,X5,C22,F22,I22,L22,O22,R22,U22,X22) -> 37326998 | D5: =IF(B5=0,0,((C5/B5))) -> 2065.8032 | E5: 11812 | F5: 13638007 | G5: 1155 | H5: 1150 | I5: 5225470 | J5: 4542 | K5: 6 | L5: 40491 | M5: 6235 | N5: 30 | O5: 286852 | P5: 9508 | Q5: 815 | R5: 900536 | S5: 1104 | T5: 2182 | U5: 3571406 | V5: 1637 | W5: 1055 | X5: 9940107 | Y5: 9424 | Z5: =E5+H5+K5+N5+Q5+T5+W5 -> 17050 | AA5: =F5+I5+L5+O5+R5+U5+X5 -> 33602869
A6: 2월 | B6: =SUM(E6,H6,K6,N6,Q6,T6,W6,B23,E23,H23,K23,N23,Q23,T23,W23) -> 4658 | C6: =SUM(F6,I6,L6,O6,R6,U6,X6,C23,F23,I23,L23,O23,R23,U23,X23) -> 17232691 | D6: =IF(B6=0,0,((C6/B6))) -> 3699.5902 | E6: 2057 | F6: 4455768 | G6: 2167 | H6: 293 | I6: 1321042 | J6: 4506 | K6: 14 | L6: 51223 | M6: 3619 | N6: 22 | O6: 203678 | P6: 9414 | Q6: 385 | R6: 355078 | S6: 921 | T6: 337 | U6: 631245 | V6: 1871 | W6: 512 | X6: 6593368 | Y6: 12887 | Z6: =E6+H6+K6+N6+Q6+T6+W6 -> 3620 | AA6: =F6+I6+L6+O6+R6+U6+X6 -> 13611402
A7: 3월 | B7: =SUM(E7,H7,K7,N7,Q7,T7,W7,B24,E24,H24,K24,N24,Q24,T24,W24) -> 7535 | C7: =SUM(F7,I7,L7,O7,R7,U7,X7,C24,F24,I24,L24,O24,R24,U24,X24) -> 26958608 | D7: =IF(B7=0,0,((C7/B7))) -> 3577.7847 | E7: 2572 | F7: 4388147 | G7: 1706 | H7: 1217 | I7: 6095242 | J7: 5010 | K7: 5 | L7: 19996 | M7: 4399 | N7: 33 | O7: 299275 | P7: 9100 | Q7: 256 | R7: 302927 | S7: 1185 | T7: 1409 | U7: 2213652 | V7: 1571 | W7: 758 | X7: 8970776 | Y7: 11832 | Z7: =E7+H7+K7+N7+Q7+T7+W7 -> 6250 | AA7: =F7+I7+L7+O7+R7+U7+X7 -> 22290015
A8: 4월 | B8: =SUM(E8,H8,K8,N8,Q8,T8,W8,B25,E25,H25,K25,N25,Q25,T25,W25) -> 2398 | C8: =SUM(F8,I8,L8,O8,R8,U8,X8,C25,F25,I25,L25,O25,R25,U25,X25) -> 5688917 | D8: =IF(B8=0,0,((C8/B8))) -> 2372.359 | E8: 94 | F8: 435092 | G8: 4625 | H8: 55 | I8: 288212 | J8: 5233 | K8: 0 | L8: 1806 | M8: 3961 | N8: 58 | O8: 545623 | P8: 9434 | Q8: 138 | R8: 196860 | S8: 1423 | T8: 565 | U8: 1156985 | V8: 2047 | W8: 360 | X8: 473019 | Y8: 1315 | Z8: =E8+H8+K8+N8+Q8+T8+W8 -> 1270 | AA8: =F8+I8+L8+O8+R8+U8+X8 -> 3097597
A9: 5월 | B9: =SUM(E9,H9,K9,N9,Q9,T9,W9,B26,E26,H26,K26,N26,Q26,T26,W26) -> 774 | C9: =SUM(F9,I9,L9,O9,R9,U9,X9,C26,F26,I26,L26,O26,R26,U26,X26) -> 3044510 | D9: =IF(B9=0,0,((C9/B9))) -> 3933.4755 | E9: 233 | F9: 928497 | G9: 3992 | H9: 2 | I9: 4136 | J9: 2553 | K9: 1 | L9: 10205 | M9: 9813 | N9: 42 | O9: 361056 | P9: 8620 | Q9: 138 | R9: 177930 | S9: 1291 | T9: 1 | U9: 1301 | V9: 1538 | W9: 23 | X9: 73265 | Y9: 3133 | Z9: =E9+H9+K9+N9+Q9+T9+W9 -> 440 | AA9: =F9+I9+L9+O9+R9+U9+X9 -> 1556390
A10: 6월 | B10: =SUM(E10,H10,K10,N10,Q10,T10,W10,B27,E27,H27,K27,N27,Q27,T27,W27) -> 1658 | C10: =SUM(F10,I10,L10,O10,R10,U10,X10,C27,F27,I27,L27,O27,R27,U27,X27) -> 4447087 | D10: =IF(B10=0,0,((C10/B10))) -> 2682.1996 | E10: 495 | F10: 1367276 | G10: 2762 | H10: 0 | I10: 130 | J10: 3611 | K10: 253 | L10: 889032 | M10: 3517 | N10: 18 | O10: 138521 | P10: 7901 | Q10: 524 | R10: 600830 | S10: 1147 | T10: 8 | U10: 10478 | V10: 1252 | W10: 226 | X10: 791701 | Y10: 3509 | Z10: =E10+H10+K10+N10+Q10+T10+W10 -> 1524 | AA10: =F10+I10+L10+O10+R10+U10+X10 -> 3797968
A11: 7월 | B11: =SUM(E11,H11,K11,N11,Q11,T11,W11,B28,E28,H28,K28,N28,Q28,T28,W28) -> 4189 | C11: =SUM(F11,I11,L11,O11,R11,U11,X11,C28,F28,I28,L28,O28,R28,U28,X28) -> 12590948 | D11: =IF(B11=0,0,((C11/B11))) -> 3005.7169 | E11: 2171 | F11: 5632786 | G11: 2594 | H11: 1 | I11: 1731 | J11: 3316 | K11: 449 | L11: 1971664 | M11: 4390 | N11: 169 | O11: 1882144 | P11: 11152 | Q11: 1059 | R11: 1600294 | S11: 1510 | T11: 1 | U11: 1199 | V11: 1448 | W11: 117 | X11: 562361 | Y11: 4789 | Z11: =E11+H11+K11+N11+Q11+T11+W11 -> 3967 | AA11: =F11+I11+L11+O11+R11+U11+X11 -> 11652179
A12: 8월 | B12: =SUM(E12,H12,K12,N12,Q12,T12,W12,B29,E29,H29,K29,N29,Q29,T29,W29) -> 10178 | C12: =SUM(F12,I12,L12,O12,R12,U12,X12,C29,F29,I29,L29,O29,R29,U29,X29) -> 27149949 | D12: =IF(B12=0,0,((C12/B12))) -> 2667.5132 | E12: 4839 | F12: 9065245 | G12: 1873 | H12: 24 | I12: 99494 | J12: 4232 | K12: 1768 | L12: 10087142 | M12: 5706 | N12: 159 | O12: 1838567 | P12: 11590 | Q12: 2557 | R12: 3366400 | S12: 1316 | T12: 4 | U12: 4582 | V12: 1236 | W12: 149 | X12: 935528 | Y12: 6289 | Z12: =E12+H12+K12+N12+Q12+T12+W12 -> 9500 | AA12: =F12+I12+L12+O12+R12+U12+X12 -> 25396958
A13: 9월 | B13: =SUM(E13,H13,K13,N13,Q13,T13,W13,B30,E30,H30,K30,N30,Q30,T30,W30) -> 12915 | C13: =SUM(F13,I13,L13,O13,R13,U13,X13,C30,F30,I30,L30,O30,R30,U30,X30) -> 28173972 | D13: =IF(B13=0,0,((C13/B13))) -> 2181.4922 | E13: 8196 | F13: 12639678 | G13: 1542 | H13: 1148 | I13: 5893695 | J13: 5133 | K13: 907 | L13: 5462277 | M13: 6020 | N13: 30 | O13: 368994 | P13: 12334 | Q13: 1766 | R13: 1682857 | S13: 953 | T13: 77 | U13: 182420 | V13: 2372 | W13: 78 | X13: 255760 | Y13: 3296 | Z13: =E13+H13+K13+N13+Q13+T13+W13 -> 12202 | AA13: =F13+I13+L13+O13+R13+U13+X13 -> 26485681
A14: 10월 | B14: =SUM(E14,H14,K14,N14,Q14,T14,W14,B31,E31,H31,K31,N31,Q31,T31,W31) -> 14974 | C14: =SUM(F14,I14,L14,O14,R14,U14,X14,C31,F31,I31,L31,O31,R31,U31,X31) -> 29716446 | D14: =IF(B14=0,0,((C14/B14))) -> 1984.5363 | E14: 9738 | F14: 11995192 | G14: 1232 | H14: 2157 | I14: 10219373 | J14: 4739 | K14: 277 | L14: 1639598 | M14: 5920 | N14: 40 | O14: 396059 | P14: 10020 | Q14: 1300 | R14: 1631279 | S14: 1255 | T14: 96 | U14: 228989 | V14: 2382 | W14: 192 | X14: 545265 | Y14: 2841 | Z14: =E14+H14+K14+N14+Q14+T14+W14 -> 13800 | AA14: =F14+I14+L14+O14+R14+U14+X14 -> 26655755
A15: 11월 | B15: =SUM(E15,H15,K15,N15,Q15,T15,W15,B32,E32,H32,K32,N32,Q32,T32,W32) -> 28679 | C15: =SUM(F15,I15,L15,O15,R15,U15,X15,C32,F32,I32,L32,O32,R32,U32,X32) -> 44588894 | D15: =IF(B15=0,0,((C15/B15))) -> 1554.7576 | E15: 23260 | F15: 28559870 | G15: 1228 | H15: 915 | I15: 5630143 | J15: 6155 | K15: 22 | L15: 146941 | M15: 6555 | N15: 31 | O15: 293900 | P15: 9352 | Q15: 2170 | R15: 3374039 | S15: 1555 | T15: 379 | U15: 951302 | V15: 2512 | W15: 184 | X15: 542866 | Y15: 2957 | Z15: =E15+H15+K15+N15+Q15+T15+W15 -> 26961 | AA15: =F15+I15+L15+O15+R15+U15+X15 -> 39499061
A16: 12월 | B16: =SUM(E16,H16,K16,N16,Q16,T16,W16,B33,E33,H33,K33,N33,Q33,T33,W33) -> 18831 | C16: =SUM(F16,I16,L16,O16,R16,U16,X16,C33,F33,I33,L33,O33,R33,U33,X33) -> 29330696 | D16: =IF(B16=0,0,((C16/B16))) -> 1557.5751 | E16: 15145 | F16: 17482982 | G16: 1154 | H16: 373 | I16: 2437010 | J16: 6527 | K16: 6 | L16: 33121 | M16: 5154 | N16: 21 | O16: 204296 | P16: 9742 | Q16: 584 | R16: 787261 | S16: 1347 | T16: 1678 | U16: 4302872 | V16: 2564 | W16: 76 | X16: 357116 | Y16: 4697 | Z16: =E16+H16+K16+N16+Q16+T16+W16 -> 17883 | AA16: =F16+I16+L16+O16+R16+U16+X16 -> 25604658
A17: 합 계 | B17: =SUM(B5:B16) -> 124858 | C17: =SUM(C5:C16) -> 266249716 | D17: =IF(B17=0,0,((C17/B17))) -> 2132.4202 | E17: =SUM(E5:E16) -> 80612 | F17: =SUM(F5:F16) -> 110588540 | G17: =IF(E17=0,0,((F17/E17))) -> 1371.862 | H17: =SUM(H5:H16) -> 7335 | I17: =SUM(I5:I16) -> 37215678 | J17: =IF(H17=0,0,((I17/H17))) -> 5073.7121 | K17: =SUM(K5:K16) -> 3708 | L17: =SUM(L5:L16) -> 20353496 | M17: =IF(K17=0,0,((L17/K17))) -> 5489.0766 | N17: =SUM(N5:N16) -> 653 | O17: =SUM(O5:O16) -> 6818965 | P17: =IF(N17=0,0,((O17/N17)))-1 -> 10441.519 | Q17: =SUM(Q5:Q16) -> 11692 | R17: =SUM(R5:R16) -> 14976291 | S17: =IF(Q17=0,0,((R17/Q17))) -> 1280.9007 | T17: =SUM(T5:T16) -> 6737 | U17: =SUM(U5:U16) -> 13256431 | V17: =IF(T17=0,0,((U17/T17))) -> 1967.7054 | W17: =SUM(W5:W16) -> 3730 | X17: =SUM(X5:X16) -> 30041132 | Y17: =IF(W17=0,0,((X17/W17))) -> 8053.9228 | Z17: =SUM(Z5:Z16) -> 114467 | AA17: =SUM(AA5:AA16) -> 233250533
A18: 2022년도 월별 어종별 | N18: 위판고 및 단가(계속)
A19: (단위 - 수량 : 톤, 금액 : 천원, 단가 : 원/kg)
A20: 구 분 | B20: 병 어 | E20: 참 조 기 | H20: 가 자 미 류 | K20: 다 랑 어 류 | N20: 기 타 돔 류 | Q20: 쥐 치 | T20: 아 귀 | W20: 기 타
B21: 수 량 | C21: 금 액 | D21: 단 가 | E21: 수 량 | F21: 금 액 | G21: 단 가 | H21: 수 량 | I21: 금 액 | J21: 단 가 | K21: 수 량 | L21: 금 액 | M21: 단 가 | N21: 수 량 | O21: 금 액 | P21: 단 가 | Q21: 수 량 | R21: 금 액 | S21: 단 가 | T21: 수 량 | U21: 금 액 | V21: 단 가 | W21: 수 량 | X21: 금 액 | Y21: 단 가
A22: 1월 | B22: 93 | C22: 836355 | D22: 9033 | E22: 5 | F22: 29251 | G22: 5662 | H22: 112 | I22: 612002 | J22: 5468 | K22: 3 | L22: 9020 | M22: 3112 | N22: 14 | O22: 69100 | P22: 4999 | Q22: 5 | R22: 34867 | S22: 6414 | T22: 56 | U22: 146870 | V22: 2608 | W22: 731 | X22: 1986664 | Y22: 2725 | Z22: =B22+E22+H22+K22+N22+Q22+T22+W22 -> 1019 | AA22: =C22+F22+I22+L22+O22+R22+U22+X22 -> 3724129
A23: 2월 | B23: 68 | C23: 504040 | D23: 7422 | E23: 1 | F23: 7021 | G23: 7360 | H23: 79 | I23: 337522 | J23: 4252 | K23: 92 | L23: 1185959 | M23: 12890 | N23: 16 | O23: 76953 | P23: 4825 | Q23: 3 | R23: 18425 | S23: 6690 | T23: 47 | U23: 109407 | V23: 2330 | W23: 732 | X23: 1381962 | Y23: 1888 | Z23: =B23+E23+H23+K23+N23+Q23+T23+W23 -> 1038 | AA23: =C23+F23+I23+L23+O23+R23+U23+X23 -> 3621289
A24: 3월 | B24: 56 | C24: 413422 | D24: 7435 | E24: 1 | F24: 7993 | G24: 9251 | H24: 89 | I24: 401104 | J24: 4500 | K24: 318 | L24: 1437004 | M24: 4514 | N24: 36 | O24: 175409 | P24: 4815 | Q24: 34 | R24: 337450 | S24: 9815 | T24: 44 | U24: 111688 | V24: 2548 | W24: 707 | X24: 1784523 | Y24: 2522 | Z24: =B24+E24+H24+K24+N24+Q24+T24+W24 -> 1285 | AA24: =C24+F24+I24+L24+O24+R24+U24+X24 -> 4668593
A25: 4월 | B25: 16 | C25: 134898 | D25: 8594 | E25: 1 | F25: 2920 | G25: 2616 | H25: 81 | I25: 420513 | J25: 5215 | K25: 1 | L25: 6296 | M25: 11283 | N25: 47 | O25: 216055 | P25: 4576 | Q25: 11 | R25: 97920 | S25: 8817 | T25: 26 | U25: 90225 | V25: 3469 | W25: 945 | X25: 1622493 | Y25: 1717 | Z25: =B25+E25+H25+K25+N25+Q25+T25+W25 -> 1128 | AA25: =C25+F25+I25+L25+O25+R25+U25+X25 -> 2591320
A26: 5월 | B26: 3 | C26: 21906 | D26: 6439 | E26: 0 | F26: 1435 | G26: 7972 | H26: 131 | I26: 533951 | J26: 4062 | K26: 0 | L26: 0 | M26: 0 | N26: 32 | O26: 129998 | P26: 4078 | Q26: 0 | R26: 1315 | S26: 8117 | T26: 38 | U26: 103091 | V26: 2718 | W26: 130 | X26: 696424 | Y26: 5365 | Z26: =B26+E26+H26+K26+N26+Q26+T26+W26 -> 334 | AA26: =C26+F26+I26+L26+O26+R26+U26+X26 -> 1488120
A27: 6월 | B27: 6 | C27: 31590 | D27: 5735 | E27: 0 | F27: 1483 | G27: 3296 | H27: 47 | I27: 209389 | J27: 4480 | K27: 0 | L27: 0 | M27: 0 | N27: 1 | O27: 4979 | P27: 3640 | Q27: 0 | R27: 0 | S27: 0 | T27: 16 | U27: 58062 | V27: 3703 | W27: 64 | X27: 343616 | Y27: 5381 | Z27: =B27+E27+H27+K27+N27+Q27+T27+W27 -> 134 | AA27: =C27+F27+I27+L27+O27+R27+U27+X27 -> 649119
A28: 7월 | B28: 1 | C28: 5939 | D28: 6469 | E28: 3 | F28: 10930 | G28: 0 | H28: 19 | I28: 95922 | J28: 4933 | K28: 0 | L28: 742 | M28: 1792 | N28: 24 | O28: 89832 | P28: 3772 | Q28: 0 | R28: 0 | S28: 0 | T28: 30 | U28: 99066 | V28: 3311 | W28: 145 | X28: 636338 | Y28: 4389 | Z28: =B28+E28+H28+K28+N28+Q28+T28+W28 -> 222 | AA28: =C28+F28+I28+L28+O28+R28+U28+X28 -> 938769
A29: 8월 | B29: 1 | C29: 8288 | D29: 6222 | E29: 3 | F29: 11830 | G29: 4661 | H29: 11 | I29: 62696 | J29: 5864 | K29: 3 | L29: 6460 | M29: 1930 | N29: 33 | O29: 157106 | P29: 4767 | Q29: 2 | R29: 11269 | S29: 5851 | T29: 29 | U29: 92219 | V29: 3230 | W29: 596 | X29: 1403123 | Y29: 2355 | Z29: =B29+E29+H29+K29+N29+Q29+T29+W29 -> 678 | AA29: =C29+F29+I29+L29+O29+R29+U29+X29 -> 1752991
A30: 9월 | B30: 6 | C30: 57985 | D30: 9257 | E30: 5 | F30: 38355 | G30: 7009 | H30: 23 | I30: 120932 | J30: 5286 | K30: 2 | L30: 2112 | M30: 903 | N30: 26 | O30: 125232 | P30: 4756 | Q30: 1 | R30: 3279 | S30: 4794 | T30: 17 | U30: 59829 | V30: 3566 | W30: 633 | X30: 1280567 | Y30: 2023 | Z30: =B30+E30+H30+K30+N30+Q30+T30+W30 -> 713 | AA30: =C30+F30+I30+L30+O30+R30+U30+X30 -> 1688291
A31: 10월 | B31: 31 | C31: 367053 | D31: 11925 | E31: 35 | F31: 179243 | G31: 5073 | H31: 96 | I31: 454227 | J31: 4720 | K31: 12 | L31: 28392 | M31: 2299 | N31: 26 | O31: 105791 | P31: 4020 | Q31: 1 | R31: 5402 | S31: 4920 | T31: 24 | U31: 84464 | V31: 3473 | W31: 949 | X31: 1836119 | Y31: 1935 | Z31: =B31+E31+H31+K31+N31+Q31+T31+W31 -> 1174 | AA31: =C31+F31+I31+L31+O31+R31+U31+X31 -> 3060691
A32: 11월 | B32: 57 | C32: 535372 | D32: 9327 | E32: 145 | F32: 580073 | G32: 3996 | H32: 95 | I32: 491480 | J32: 5160 | K32: 8 | L32: 13661 | M32: 1611 | N32: 24 | O32: 109315 | P32: 4587 | Q32: 1 | R32: 2530 | S32: 3904 | T32: 22 | U32: 90251 | V32: 4040 | W32: 1366 | X32: 3267151 | Y32: 2391 | Z32: =B32+E32+H32+K32+N32+Q32+T32+W32 -> 1718 | AA32: =C32+F32+I32+L32+O32+R32+U32+X32 -> 5089833
A33: 12월 | B33: 33 | C33: 363494 | D33: 11126 | E33: 14 | F33: 73679 | G33: 5450 | H33: 98 | I33: 548650 | J33: 5573 | K33: 1 | L33: 546 | M33: 722 | N33: 27 | O33: 197954 | P33: 7466 | Q33: 0 | R33: 1582 | S33: 3821 | T33: 29 | U33: 138158 | V33: 4843 | W33: 746 | X33: 2401975 | Y33: 3225 | Z33: =B33+E33+H33+K33+N33+Q33+T33+W33 -> 948 | AA33: =C33+F33+I33+L33+O33+R33+U33+X33 -> 3726038
A34: 합 계 | B34: =SUM(B22:B33) -> 371 | C34: =SUM(C22:C33) -> 3280342 | D34: =IF(B34=0,0,((C34/B34)))-1 -> 8840.8922 | E34: =SUM(E22:E33) -> 213 | F34: =SUM(F22:F33) -> 944213 | G34: =IF(E34=0,0,((F34/E34))) -> 4432.9249 | H34: =SUM(H22:H33) -> 881 | I34: =SUM(I22:I33) -> 4288388 | J34: =IF(H34=0,0,((I34/H34))) -> 4867.6368 | K34: =SUM(K22:K33) -> 440 | L34: =SUM(L22:L33) -> 2690192 | M34: =IF(K34=0,0,((L34/K34)))-1 -> 6113.0727 | N34: =SUM(N22:N33) -> 306 | O34: =SUM(O22:O33) -> 1457724 | P34: =IF(N34=0,0,((O34/N34))) -> 4763.8039 | Q34: =SUM(Q22:Q33) -> 58 | R34: =SUM(R22:R33) -> 514039 | S34: =IF(Q34=0,0,((R34/Q34))) -> 8862.7414 | T34: =SUM(T22:T33) -> 378 | U34: =SUM(U22:U33) -> 1183330 | V34: =IF(T34=0,0,((U34/T34))) -> 3130.5026 | W34: =SUM(W22:W33) -> 7744 | X34: =SUM(X22:X33) -> 18640955 | Y34: =IF(W34=0,0,((X34/W34))) -> 2407.1481 | Z34: =SUM(Z22:Z33) -> 10391 | AA34: =SUM(AA22:AA33) -> 32999183

Sheet 6~7.최고최저평균위판고
A1: 6. 2022년도 1일 최고·최저 위판고
A2: (단위 - 수량 : 톤, 금액 : 천원, 단가 : 원/kg)
A3: 구 분 | B3: 수 량 | C3: 금 액 | D3: 단 가
A4: 1일 최고 (1/27) | B4: 1026 | C4: 3649917 | D4: 3559 | AD4: ]
A5: 1일 최저 (5/20) | B5: 0.3 | C5: 1715 | D5: 6725
A7: 7. 2022년도 1일 평균 위판고
A8: (단위 - 수량 : 톤, 금액 : 천원, 단가 : 원/kg)
A9: 구 분 | B9: 수 량 | C9: 금 액 | D9: 단 가
A10: 일 평 균 | B10: 415 | C10: 884551 | D10: 2131

Sheet 8.월중 최고최저위판고
A1: 8. 2022년도 월 중 1일 최고·최저 위판고
A2: (단위 - 수량 : 톤, 금액 : 천원, 단가 : 원/kg)
A3: 구 분 | B3: 월 중 1일 최고 | F3: 월 중 1일 최저
B4: 일 자 | C4: 수 량 | D4: 금 액 | E4: 단 가 | F4: 일 자 | G4: 수 량 | H4: 금 액 | I4: 단 가
A5: 1월 | B5: 27 | C5: 1025.622 | D5: 3649917 | E5: =IF(C5=0,0,((D5/C5))) -> 3558.7351 | F5: 14 | G5: 2.934 | H5: 18481 | I5: =IF(G5=0,0,((H5/G5))) -> 6298.9093
A6: 2월 | B6: 8 | C6: 488.682 | D6: 2314206 | E6: =IF(C6=0,0,((D6/C6))) -> 4735.6072 | F6: 18 | G6: 2.214 | H6: 10480 | I6: =IF(G6=0,0,((H6/G6))) -> 4733.514
A7: 3월 | B7: 2 | C7: 815.12 | D7: 3517859 | E7: =IF(C7=0,0,((D7/C7))) -> 4315.756 | F7: 21 | G7: 1.044 | H7: 3413 | I7: =IF(G7=0,0,((H7/G7))) -> 3269.1571
A8: 4월 | B8: 11 | C8: 271.89 | D8: 673056 | E8: =IF(C8=0,0,((D8/C8))) -> 2475.4717 | F8: 15 | G8: 1.224 | H8: 5727 | I8: =IF(G8=0,0,((H8/G8))) -> 4678.9216
A9: 5월 | B9: 27 | C9: 97.025 | D9: 390060 | E9: =IF(C9=0,0,((D9/C9))) -> 4020.201 | F9: 20 | G9: 0.255 | H9: 1715 | I9: =IF(G9=0,0,((H9/G9))) -> 6725.4902
A10: 6월 | B10: 20 | C10: 469.02 | D10: 943046 | E10: =IF(C10=0,0,((D10/C10))) -> 2010.6733 | F10: 28 | G10: 1.35 | H10: 9839 | I10: =IF(G10=0,0,((H10/G10))) -> 7288.1481
A11: 7월 | B11: 25 | C11: 476.27 | D11: 1235899 | E11: =IF(C11=0,0,((D11/C11))) -> 2594.9545 | F11: 15 | G11: 7.164 | H11: 28925 | I11: =IF(G11=0,0,((H11/G11))) -> 4037.5489
A12: 8월 | B12: 19 | C12: 708.092 | D12: 2169077 | E12: =IF(C12=0,0,((D12/C12))) -> 3063.27 | F12: 13 | G12: 5.778 | H12: 46505 | I12: =IF(G12=0,0,((H12/G12))) -> 8048.6327
A13: 9월 | B13: 23 | C13: 1093.462 | D13: 2585737 | E13: =IF(C13=0,0,((D13/C13))) -> 2364.7251 | F13: 19 | G13: 84.936 | H13: 99438 | I13: =IF(G13=0,0,((H13/G13))) -> 1170.7403
A14: 10월 | B14: 4 | C14: 1392.978 | D14: 2122259 | E14: =IF(C14=0,0,((D14/C14))) -> 1523.5409 | F14: 15 | G14: 9.216 | H14: 65805 | I14: =IF(G14=0,0,((H14/G14))) -> 7140.2995
A15: 11월 | B15: 29 | C15: 1306.32 | D15: 2626926 | E15: =IF(C15=0,0,((D15/C15))) -> 2010.9361 | F15: 12 | G15: 51.868 | H15: 166253 | I15: =IF(G15=0,0,((H15/G15))) -> 3205.3096
A16: 12월 | B16: 6 | C16: 1349.826 | D16: 2325435 | E16: =IF(C16=0,0,((D16/C16))) -> 1722.7665 | F16: 24 | G16: 1.962 | H16: 9011 | I16: =IF(G16=0,0,((H16/G16))) -> 4592.7625

Sheet 9.어업별 척당 1회 평균 위판고
A1: 9. 2022년도 월별 어업별 | H1: 척당 1회 평균 위판고
A2: (단위 - 수량 : 톤, 금액 : 천원)
A3: 구 분 | B3: 대 형 선 망 | D3: 대 형 기 선 | H3: 저 인 망 | J3: 중형기선저인망 | L3: 기 타
D4: 외 끌 이 | F4: 쌍 끌 이 | H4: 대형트롤
B5: 수 량 | C5: 금 액 | D5: 수 량 | E5: 금 액 | F5: 수 량 | G5: 금 액 | H5: 수 량 | I5: 금 액 | J5: 수 량 | K5: 금 액 | L5: 수 량 | M5: 금 액
A6: 1월 | B6: 89.644068 | C6: 162806.79 | D6: 11.222222 | E6: 61695.111 | F6: 50.703704 | G6: 174990 | H6: 31.083333 | I6: 133311.33 | J6: 2.1162791 | K6: 11154.039 | L6: 10.625 | M6: 18034.165
A7: 2월 | B7: 48.078947 | C7: 183451.21 | D7: 0 | E7: 0 | F7: 43.833333 | G7: 128587 | H7: 30.625 | I7: 89740.875 | J7: 2.1058824 | K7: 9099.1412 | L7: 6.5 | M7: 8728
A8: 3월 | B8: 47.285714 | C8: 166999.11 | D8: 9.25 | E8: 59626 | F8: 45.833333 | G8: 133291.61 | H8: 23.75 | I8: 120743.75 | J8: 3.1486486 | K8: 18107.77 | L8: 19 | M8: 2553.6316
A9: 4월 | B9: 27.405797 | C9: 42061.174 | D9: 16.333333 | E9: 112777.5 | F9: 16.4 | G9: 59177.2 | H9: 13.5 | I9: 90609 | J9: 2.7763158 | K9: 17376.224 | L9: 0 | M9: 0
A10: 5월 | B10: 0 | C10: 0 | D10: 6.4166667 | E10: 36080.333 | F10: 0 | G10: 0 | H10: 19 | I10: 131411.5 | J10: 2.59375 | K10: 11428.312 | L10: 37.272727 | M10: 33579.62
A11: 6월 | B11: 26.513514 | C11: 54395.162 | D11: 0 | E11: 0 | F11: 0 | G11: 0 | H11: 10 | I11: 63273 | J11: 4.0493827 | K11: 16118.691 | L11: 9.6470588 | M11: 103897.47
A12: 7월 | B12: 28.322034 | C12: 66476.11 | D12: 11.333333 | E12: 63216.333 | F12: 261 | G12: 1377134 | H12: 0 | I12: 0 | J12: 3.5363636 | K12: 22295.955 | L12: 12.857143 | M12: 23509.422
A13: 8월 | B13: 50.718121 | C13: 88154.362 | D13: 6.2173913 | E13: 38653.087 | F13: 126.94118 | G13: 621134.12 | H13: 0 | I13: 0 | J13: 2.2022472 | K13: 20761.854 | L13: 40.666667 | M13: 17676.443
A14: 9월 | B14: 69.873333 | C14: 102941.65 | D14: 8 | E14: 44719.556 | F14: 135.9375 | G14: 719575.06 | H14: 20.5 | I14: 19651.5 | J14: 2.0851064 | K14: 11645.915 | L14: 24.5 | M14: 9403.5102
A15: 10월 | B15: 70.104938 | C15: 91204.796 | D15: 21.714286 | E15: 94861.714 | F15: 137 | G15: 587397.63 | H15: 32 | I15: 48637.2 | J15: 2.4285714 | K15: 10424.563 | L15: 137.66667 | M15: 11861.782
A16: 11월 | B16: 110.40336 | C16: 144097.29 | D16: 35.857143 | E16: 143250.29 | F16: 59.625 | G16: 272958.21 | H16: 48.333333 | I16: 83202 | J16: 3.4579439 | K16: 14878.944 | L16: 26 | M16: 34551.385
A17: 12월 | B17: 117.78767 | C17: 150090.86 | D17: 72 | E17: 417652 | F17: 31.666667 | G17: 134536.43 | H17: 18.4 | I17: 146349 | J17: 3.6071429 | K17: 17257.902 | L17: 200 | M17: 7549.395
A18: 평 균 | B18: =AVERAGE(B6:B17) -> 57.178125 | C18: =AVERAGE(C6:C17) -> 104389.88 | D18: =AVERAGE(D6:D17) -> 16.528698 | E18: =AVERAGE(E6:E17) -> 89377.66 | F18: =AVERAGE(F6:F17) -> 75.745059 | G18: =AVERAGE(G6:G17) -> 350731.77 | H18: =AVERAGE(H6:H17) -> 20.599306 | I18: =AVERAGE(I6:I17) -> 77244.097 | ... M18: =AVERAGE(M6:M17) -> 22612.069

Sheet 10.선상 경매 현황
A1: 10. 2022년도 월별 어종별 | K1: 선상 경매 현황
A2: (단위 - 수량 : 톤, 금액 : 백만원, 단가 : 원/kg)
A3: 구 분 | B3: 계 | E3: 고 등 어 | H3: 눈 퉁 멸 | K3: 삼 치 | N3: 전 갱 이 | Q3: 오 징 어 | T3: 기 타
B4: 수 량 | C4: 금 액 | D4: 단 가 | E4: 수 량 | F4: 금 액 | G4: 단 가 | H4: 수 량 | I4: 금 액 | J4: 단 가 | K4: 수 량 | L4: 금 액 | M4: 단 가 | N4: 수 량 | O4: 금 액 | P4: 단 가 | Q4: 수 량 | R4: 금 액 | S4: 단 가 | T4: 수 량 | U4: 금 액 | V4: 단 가
A5: 1월 | B5: =E5+H5+K5+N5+Q5+T5 -> 2162 | C5: =F5+I5+L5+O5+R5+U5 -> 1830 | D5: =IF(B5=0,0,((C5/B5)*1000)) -> 846.43848 | E5: 1917 | F5: 1555 | G5: 811 | H5: 0 | I5: 0 | J5: 0 | K5: 0 | L5: 0 | M5: 0 | N5: 71 | O5: 64 | P5: 899 | Q5: 0 | R5: 0 | S5: 0 | T5: 174 | U5: 211 | V5: 1210
A6: 2월 | B6: =E6+H6+K6+N6+Q6+T6 -> 61 | C6: =F6+I6+L6+O6+R6+U6 -> 1048 | D6: =IF(B6=0,0,((C6/B6)*1000)) -> 17180.328 | E6: 0 | F6: 0 | G6: 0 | H6: 0 | I6: 0 | J6: 0 | K6: 0 | L6: 0 | M6: 0 | N6: 0 | O6: 0 | P6: 0 | Q6: 0 | R6: 0 | S6: 0 | T6: 61 | U6: 1048 | V6: 17178
A7: 3월 | B7: =E7+H7+K7+N7+Q7+T7 -> 88 | C7: =F7+I7+L7+O7+R7+U7 -> 289 | D7: =IF(B7=0,0,((C7/B7)*1000)) -> 3284.0909 | E7: 64 | F7: 50 | G7: 787 | H7: 0 | I7: 0 | J7: 0 | K7: 0 | L7: 0 | M7: 0 | N7: 0 | O7: 0 | P7: 0 | Q7: 0 | R7: 0 | S7: 0 | T7: 24 | U7: 239 | V7: 9968
A8: 4월 | B8: =E8+H8+K8+N8+Q8+T8 -> 125 | C8: =F8+I8+L8+O8+R8+U8 -> 82 | D8: =IF(B8=0,0,((C8/B8)*1000)) -> 656 | E8: 1 | F8: 1 | G8: 1050 | H8: 0 | I8: 0 | J8: 0 | K8: 0 | L8: 0 | M8: 0 | N8: 106 | O8: 69 | P8: 648 | Q8: 0 | R8: 0 | S8: 0 | T8: 18 | U8: 12 | V8: 667
A9: 5월 | B9: =E9+H9+K9+N9+Q9+T9 -> 0 | C9: =F9+I9+L9+O9+R9+U9 -> 0 | D9: =IF(B9=0,0,((C9/B9)*1000)) -> 0 | E9: 0 | F9: 0 | G9: 0 | H9: 0 | I9: 0 | J9: 0 | K9: 0 | L9: 0 | M9: 0 | N9: 0 | O9: 0 | P9: 0 | Q9: 0 | R9: 0 | S9: 0 | T9: 0 | U9: 0 | V9: 0
A10: 6월 | B10: =E10+H10+K10+N10+Q10+T10 -> 0 | C10: =F10+I10+L10+O10+R10+U10 -> 0 | D10: =IF(B10=0,0,((C10/B10)*1000)) -> 0 | E10: 0 | F10: 0 | G10: 0 | H10: 0 | I10: 0 | J10: 0 | K10: 0 | L10: 0 | M10: 0 | N10: 0 | O10: 0 | P10: 0 | Q10: 0 | R10: 0 | S10: 0 | T10: 0 | U10: 0 | V10: 0
A11: 7월 | B11: =E11+H11+K11+N11+Q11+T11 -> 351 | C11: =F11+I11+L11+O11+R11+U11 -> 642 | D11: =IF(B11=0,0,((C11/B11)*1000)) -> 1829.0598 | E11: 173 | F11: 388 | G11: 2242 | H11: 0 | I11: 0 | J11: 0 | K11: 0 | L11: 0 | M11: 0 | N11: 164 | O11: 238 | P11: 1450 | Q11: 0 | R11: 0 | S11: 0 | T11: 14 | U11: 16 | V11: 1154
A12: 8월 | B12: =E12+H12+K12+N12+Q12+T12 -> 436 | C12: =F12+I12+L12+O12+R12+U12 -> 532.21 | D12: =IF(B12=0,0,((C12/B12)*1000)) -> 1220.6651 | E12: 304 | F12: 292 | G12: 960 | H12: 0 | I12: 0 | J12: 0 | K12: 0 | L12: 0 | M12: 0 | N12: 129 | O12: 240 | P12: 1857 | Q12: 1 | R12: 0.21 | S12: 210 | T12: 2 | U12: 0 | V12: 232
A13: 9월 | B13: =E13+H13+K13+N13+Q13+T13 -> 880 | C13: =F13+I13+L13+O13+R13+U13 -> 764 | D13: =IF(B13=0,0,((C13/B13)*1000)) -> 868.18182 | E13: 780 | F13: 680 | G13: 871 | H13: 0 | I13: 0 | J13: 0 | K13: 0 | L13: 0 | M13: 0 | N13: 97 | O13: 83 | P13: 858 | Q13: 0 | R13: 0 | S13: 0 | T13: 3 | U13: 1 | V13: 380
A14: 10월 | B14: =E14+H14+K14+N14+Q14+T14 -> 997 | C14: =F14+I14+L14+O14+R14+U14 -> 657 | D14: =IF(B14=0,0,((C14/B14)*1000)) -> 658.97693 | E14: 921 | F14: 602 | G14: 653 | H14: 17 | I14: 12 | J14: 724 | K14: 0 | L14: 0 | M14: 0 | N14: 56 | O14: 37 | P14: 654 | Q14: 0 | R14: 0 | S14: 0 | T14: 3 | U14: 6 | V14: 2146
A15: 11월 | B15: =E15+H15+K15+N15+Q15+T15 -> 2513 | C15: =F15+I15+L15+O15+R15+U15 -> 1557.15 | D15: =IF(B15=0,0,((C15/B15)*1000)) -> 619.63788 | E15: 2473 | F15: 1506 | G15: 609 | H15: 0 | I15: 0 | J15: 0 | K15: 1 | L15: 0.15 | M15: 150 | N15: 33 | O15: 42 | P15: 1266 | Q15: 0 | R15: 0 | S15: 0 | T15: 6 | U15: 9 | V15: 1435
A16: 12월 | B16: =E16+H16+K16+N16+Q16+T16 -> 1859 | C16: =F16+I16+L16+O16+R16+U16 -> 1306.1 | D16: =IF(B16=0,0,((C16/B16)*1000)) -> 702.58203 | E16: 1586 | F16: 1155 | G16: 728 | H16: 0 | I16: 0 | J16: 0 | K16: 1 | L16: 0.1 | M16: 100 | N16: 87 | O16: 55 | P16: 626 | Q16: 0 | R16: 0 | S16: 0 | T16: 185 | U16: 96 | V16: 519
A17: 합계 | B17: =SUM(B5:B16) -> 9472 | C17: =SUM(C5:C16) -> 8707.46 | D17: =IF(B17=0,0,((C17/B17)*1000)) -> 919.28421 | E17: =SUM(E5:E16) -> 8219 | F17: =SUM(F5:F16) -> 6229 | G17: =IF(E17=0,0,((F17/E17)*1000)) -> 757.87809 | H17: =SUM(H5:H16) -> 17 | I17: =SUM(I5:I16) -> 12 | J17: 724 | K17: =SUM(K5:K16) -> 2 | L17: =SUM(L5:L16) -> 0.25 | M17: =IF(K17=0,0,((L17/K17)*1000)) -> 125 | N17: =SUM(N5:N16) -> 743 | O17: =SUM(O5:O16) -> 828 | P17: =IF(N17=0,0,((O17/N17)*1000)) -> 1114.4011 | Q17: =SUM(Q5:Q16) -> 1 | R17: =SUM(R5:R16) -> 0.21 | S17: =IF(Q17=0,0,((R17/Q17)*1000)) -> 210 | T17: =SUM(T5:T16) -> 490 | U17: =SUM(U5:U16) -> 1638 | V17: =IF(T17=0,0,((U17/T17)*1000)) -> 3342.8571

Sheet 11.수입수산물 위판고
A1: 11. 연도별 월별 수입수산물 위판고
A2: (단위 - 수량 : 톤, 금액 : 천원, 단가 : 원/kg)
A3: 구 분 | B3: 2020년 | E3: 2021년 | H3: 2022년
B4: 수 량 | C4: 금 액 | D4: 단 가 | E4: 수 량 | F4: 금 액 | G4: 단 가 | H4: 수 량 | I4: 금 액 | J4: 단 가
A5: 1월 | B5: 0 | C5: 0 | D5: =IF(B5=0,0,((C5/B5)*1000)) -> 0 | E5: 0 | F5: 0 | G5: =IF(E5=0,0,((F5/E5)*1000)) -> 0 | H5: 0 | I5: 0 | J5: =IF(H5=0,0,((I5/H5)*1000)) -> 0
A6: 2월 | B6: 0 | C6: 0 | D6: =IF(B6=0,0,((C6/B6)*1000)) -> 0 | E6: 0 | F6: 0 | G6: =IF(E6=0,0,((F6/E6)*1000)) -> 0 | H6: 0 | I6: 0 | J6: =IF(H6=0,0,((I6/H6)*1000)) -> 0
A7: 3월 | B7: 0 | C7: 0 | D7: =IF(B7=0,0,((C7/B7)*1000)) -> 0 | E7: 0 | F7: 0 | G7: =IF(E7=0,0,((F7/E7)*1000)) -> 0 | H7: 0 | I7: 0 | J7: =IF(H7=0,0,((I7/H7)*1000)) -> 0
A8: 4월 | B8: 0 | C8: 0 | D8: =IF(B8=0,0,((C8/B8)*1000)) -> 0 | E8: 0 | F8: 0 | G8: =IF(E8=0,0,((F8/E8)*1000)) -> 0 | H8: 0 | I8: 0 | J8: =IF(H8=0,0,((I8/H8)*1000)) -> 0
A9: 5월 | B9: 0 | C9: 0 | D9: =IF(B9=0,0,((C9/B9)*1000)) -> 0 | E9: 0 | F9: 0 | G9: =IF(E9=0,0,((F9/E9)*1000)) -> 0 | H9: 0 | I9: 0 | J9: =IF(H9=0,0,((I9/H9)*1000)) -> 0
A10: 6월 | B10: 0 | C10: 0 | D10: =IF(B10=0,0,((C10/B10)*1000)) -> 0 | E10: 0 | F10: 0 | G10: =IF(E10=0,0,((F10/E10)*1000)) -> 0 | H10: 0 | I10: 0 | J10: =IF(H10=0,0,((I10/H10)*1000)) -> 0
A11: 7월 | B11: 0 | C11: 0 | D11: =IF(B11=0,0,((C11/B11)*1000)) -> 0 | E11: 0 | F11: 0 | G11: =IF(E11=0,0,((F11/E11)*1000)) -> 0 | H11: 0 | I11: 0 | J11: =IF(H11=0,0,((I11/H11)*1000)) -> 0
A12: 8월 | B12: 0 | C12: 0 | D12: =IF(B12=0,0,((C12/B12)*1000)) -> 0 | E12: 0 | F12: 0 | G12: =IF(E12=0,0,((F12/E12)*1000)) -> 0 | H12: 0 | I12: 0 | J12: =IF(H12=0,0,((I12/H12)*1000)) -> 0
A13: 9월 | B13: 0 | C13: 0 | D13: =IF(B13=0,0,((C13/B13)*1000)) -> 0 | E13: 0 | F13: 0 | G13: =IF(E13=0,0,((F13/E13)*1000)) -> 0 | H13: 0 | I13: 0 | J13: =IF(H13=0,0,((I13/H13)*1000)) -> 0
A14: 10월 | B14: 0 | C14: 0 | D14: =IF(B14=0,0,((C14/B14)*1000)) -> 0 | E14: 0 | F14: 0 | G14: =IF(E14=0,0,((F14/E14)*1000)) -> 0 | H14: 0 | I14: 0 | J14: =IF(H14=0,0,((I14/H14)*1000)) -> 0
A15: 11월 | B15: 0 | C15: 0 | D15: =IF(B15=0,0,((C15/B15)*1000)) -> 0 | E15: 0 | F15: 0 | G15: =IF(E15=0,0,((F15/E15)*1000)) -> 0 | H15: 0 | I15: 0 | J15: =IF(H15=0,0,((I15/H15)*1000)) -> 0
A16: 12월 | B16: 0 | C16: 0 | D16: =IF(B16=0,0,((C16/B16)*1000)) -> 0 | E16: 0 | F16: 0 | G16: =IF(E16=0,0,((F16/E16)*1000)) -> 0 | H16: 0 | I16: 0 | J16: =IF(H16=0,0,((I16/H16)*1000)) -> 0
A17: 합 계 | B17: =SUM(B5:B16) -> 0 | C17: =SUM(C5:C16) -> 0 | D17: =IF(B17=0,0,((C17/B17)*1000)) -> 0 | E17: =SUM(E5:E16) -> 0 | F17: =SUM(F5:F16) -> 0 | G17: =IF(E17=0,0,((F17/E17)*1000)) -> 0 | H17: =SUM(H5:H16) -> 0 | I17: =SUM(I5:I16) -> 0 | J17: =IF(H17=0,0,((I17/H17)*1000)) -> 0

Sheet 제2장 어가동향
A8: 제2장 어 가 동 향

Sheet 1.어업별 평균어가
A1: 1. 2022년도 월별 | F1: 어업별 평균어가
A2: (단위 - 원/kg)
A3: 구 분 | B3: 계 | C3: 대 형 선 망 | D3: 대 형 기 선 | F3: 저 인 망 | H3: 중형기선저인망 | I3: 안 강 망 | J3: 기 타
D4: 소 계 | E4: 외 끌 이 | F4: 쌍 끌 이 | G4: 대형트롤
A5: 1월 | B5: ='5.어종별 위판고 및 단가'!D5 -> 2065.8032 | C5: 1816.1468 | D5: =AVERAGE(E5:G5) -> 4412.5493 | E5: 5497.5842 | F5: 3451.2272 | G5: 4288.8365 | H5: 5270.5897 | I5: 3079.1951 | J5: 1485.5909
A6: 2월 | B6: ='5.어종별 위판고 및 단가'!D6 -> 3699.5902 | C6: 3815.6245 | D6: =AVERAGE(E6:G6) -> 3574.7006 | E6: 4860.2439 | F6: 2933.5437 | G6: 2930.3143 | H6: 4320.8212 | I6: 0 | J6: 4364
A7: 3월 | B7: ='5.어종별 위판고 및 단가'!D7 -> 3577.7847 | C7: 3531.7031 | D7: =AVERAGE(E7:G7) -> 4812.7273 | E7: 6446.0541 | F7: 2908.1806 | G7: 5083.9474 | H7: 5750.9657 | I7: 3832.25 | J7: 2212.6667
A8: 4월 | B8: ='5.어종별 위판고 및 단가'!D8 -> 2372.359 | C8: 1534.7546 | D8: =AVERAGE(E8:G8) -> 3504.3703 | E8: 6904.7449 | F8: 3608.3659 | G8: 0 | H8: 6258.7346 | I8: 0 | J8: 2349.4286
A9: 5월 | B9: ='5.어종별 위판고 및 단가'!D9 -> 3933.4755 | C9: 0 | D9: =AVERAGE(E9:G9) -> 1874.303 | E9: 5622.9091 | F9: 0 | G9: 0 | H9: 4406.0964 | I9: 3132.2727 | J9: 3050.4987
A10: 6월 | B10: ='5.어종별 위판고 및 단가'!D10 -> 2682.1996 | C10: 0 | D10: =AVERAGE(E10:G10) -> 0 | E10: 0 | F10: 0 | G10: 0 | H10: 3980.5305 | I10: 2923.0972 | J10: 3093.1328
A11: 7월 | B11: ='5.어종별 위판고 및 단가'!D11 -> 3005.7169 | C11: 2347.1517 | D11: =AVERAGE(E11:G11) -> 3618.0957 | E11: 5577.9118 | F11: 5276.3755 | G11: 0 | H11: 6304.7686 | I11: 0 | J11: 3349.863
A12: 8월 | B12: ='5.어종별 위판고 및 단가'!D12 -> 2667.5132 | C12: 1738.1236 | D12: =AVERAGE(E12:G12) -> 3703.3388 | E12: 6216.9301 | F12: 4893.0862 | G12: 0 | H12: 9427.5765 | I12: 6001.7368 | J12: 5871.932
A13: 9월 | B13: ='5.어종별 위판고 및 단가'!D13 -> 2181.4922 | C13: 1473.2609 | D13: =AVERAGE(E13:G13) -> 3947.3266 | E13: 5589.9444 | F13: 5293.4257 | G13: 958.60976 | H13: 5585.2857 | I13: 6758.75 | J13: 4300.3902
A14: 10월 | B14: ='5.어종별 위판고 및 단가'!D14 -> 1984.5363 | C14: 1300.9753 | D14: =AVERAGE(E14:G14) -> 3392.0393 | E14: 4368.6316 | F14: 4287.574 | G14: 1519.9125 | H14: 4292.4671 | I14: 8286.4286 | J14: 3801.9098
A15: 11월 | B15: ='5.어종별 위판고 및 단가'!D15 -> 1554.7576 | C15: 1305.1894 | D15: =AVERAGE(E15:G15) -> 3431.4547 | E15: 3995.0279 | F15: 4577.9154 | G15: 1721.4207 | H15: 4302.8297 | I15: 5752.8 | J15: 4123.0383
A16: 12월 | B16: ='5.어종별 위판고 및 단가'!D16 -> 1557.5751 | C16: 1274.2493 | D16: =AVERAGE(E16:G16) -> 6000.997 | E16: 5800.7222 | F16: 4248.5188 | G16: 7953.75 | H16: 4784.3688 | I16: 5045.875 | J16: 3567.7616
A17: 평 균 | B17: =AVERAGE(B5:B16) -> 2606.9003 | C17: =AVERAGE(C5:C16) -> 1678.0983 | D17: =AVERAGE(E17:G17) -> 3522.6586 | E17: =AVERAGE(E5:E16) -> 5073.392 | F17: =AVERAGE(F5:F16) -> 3456.5177 | G17: =AVERAGE(G5:G16) -> 2038.0659 | H17: =AVERAGE(H5:H16) -> 5390.4196 | I17: =AVERAGE(I5:I16) -> 3734.3671 | J17: =AVERAGE(J5:J16) -> 3464.1844

Sheet 2.어종별 평균어가
A1: 2. 2022년도 월별 | I1: 어종별 평균어가
A2: (단위 - 원/kg)
A3: 구 분 | B3: 참 돔 | C3: 병 어 | D3: 민 어 | E3: 조 기(5단) | F3: 조기6단) | G3: 조기(7단) | H3: 조기(8단) | I3: 조기(9단) | J3: 부세(6단) | K3: 눈볼대 | L3: 붕장어 | M3: 고등어(상) | N3: 고등어(중) | O3: 고등어(하)
A4: 1월 | B4: 5022.5397 | C4: 9032.6918 | D4: 5559.9144 | E4: 0 | F4: 23611.111 | G4: 20555.556 | H4: 16388.889 | I4: 6601.3072 | J4: 20287.879 | K4: 9508.4858 | L4: 8107.1554 | M4: 8012.4866 | N4: 5460.3759 | O4: 3832.4761
A5: 2월 | B5: 4917.993 | C5: 7421.7393 | D5: 5240.9007 | E5: 0 | F5: 0 | G5: 16666.667 | H5: 11507.937 | I5: 7777.7778 | J5: 16203.704 | K5: 9413.8473 | L5: 7884.7157 | M5: 7775.2033 | N5: 5922.97 | O5: 4833.7533
A6: 3월 | B6: 4849.2674 | C6: 7435.38 | D6: 5212.0612 | E6: 0 | F6: 0 | G6: 10833.333 | H6: 11736.111 | I6: 7222.2222 | J6: 18972.222 | K6: 9100.3771 | L6: 9330.963 | M6: 11272.287 | N6: 8107.4927 | O6: 5709.5245
A7: 4월 | B7: 5112.5731 | C7: 8594.419 | D7: 5600.1048 | E7: 0 | F7: 0 | G7: 0 | H7: 0 | I7: 0 | J7: 34212.963 | K7: 9434.2947 | L7: 9840.0831 | M7: 8498.6667 | N7: 8290.9564 | O7: 6974.6544
A8: 5월 | B8: 3850.4274 | C8: 6439.1534 | D8: 5587.2292 | E8: 0 | F8: 0 | G8: 0 | H8: 0 | I8: 0 | J8: 14444.444 | K8: 8619.9685 | L8: 8720.0885 | M8: 7672.5225 | N8: 6589.9498 | O8: 5055.5306
A9: 6월 | B9: 3469.2982 | C9: 5735.2941 | D9: 5467.5926 | E9: 0 | F9: 0 | G9: 16666.667 | H9: 0 | I9: 8518.5185 | J9: 0 | K9: 7901.0381 | L9: 7534.1608 | M9: 5353.4707 | N9: 4156.4717 | O9: 3179.2033
A10: 7월 | B10: 3580.562 | C10: 6469.4989 | D10: 4081.1966 | E10: 0 | F10: 0 | G10: 0 | H10: 0 | I10: 0 | J10: 0 | K10: 11152.256 | L10: 7889.8328 | M10: 6289.443 | N10: 4639.7214 | O10: 3037.3171
A11: 8월 | B11: 4889.4081 | C11: 6222.2222 | D11: 7541.2486 | E11: 0 | F11: 0 | G11: 0 | H11: 0 | I11: 0 | J11: 0 | K11: 11589.993 | L11: 8062.8438 | M11: 6698.6652 | N11: 5088.9933 | O11: 3296.986
A12: 9월 | B12: 4957.9365 | C12: 9256.8646 | D12: 8126.9841 | E12: 0 | F12: 0 | G12: 19444.444 | H12: 13333.333 | I12: 8402.7778 | J12: 0 | K12: 12334.336 | L12: 8236.6876 | M12: 7765.7233 | N12: 5469.5059 | O12: 3418.0374
A13: 10월 | B13: 4429.6537 | C13: 11925.049 | D13: 7632.567 | E13: 27592.593 | F13: 20411.111 | G13: 16666.667 | H13: 13851.852 | I13: 6355.6911 | J13: 0 | K13: 10019.695 | L13: 7698.3157 | M13: 9269.8827 | N13: 7385.8525 | O13: 5405.018
A14: 11월 | B14: 4464.6748 | C14: 9326.7134 | D14: 5684.5951 | E14: 28333.333 | F14: 23333.333 | G14: 19791.667 | H14: 14770.37 | I14: 9300.9479 | J14: 0 | K14: 9351.5337 | L14: 7358.7669 | M14: 7500.8943 | N14: 5907.3538 | O14: 5009.8678
A15: 12월 | B15: 7864.0881 | C15: 11126.232 | D15: 6879.6764 | E15: 0 | F15: 0 | G15: 0 | H15: 16851.852 | I15: 8784.7222 | J15: 0 | K15: 9742.2985 | L15: 8696.8872 | M15: 10705.784 | N15: 7211.6762 | O15: 4956.8675
A16: 평 균 | B16: =SUM(B4:B15)/12 -> 4784.0352 | C16: =SUM(C4:C15)/12 -> 8248.7715 | D16: =SUM(D4:D15)/12 -> 6051.1726 | E16: =SUM(E4:E15)/12 -> 4660.4938 | F16: =SUM(F4:F15)/12 -> 5612.963 | G16: =SUM(G4:G15)/12 -> 10052.083 | H16: =SUM(H4:H15)/12 -> 8203.362 | I16: =SUM(I4:I15)/12 -> 5246.9971 | ... O16: =SUM(O4:O15)/12 -> 4559.103
A17: 2022년도 월별 어 | I17: 종별 평균어가 (계속)
O18: (단위 - 원/kg)
A19: 구 분 | B19: 가오리 | C19: 아 귀 | D19: 새 우 | E19: 게 | F19: 갑오징어 | G19: 문 어 | H19: 낙 지 | I19: 갈치(상) | J19: 갈치(중) | K19: 갈치(하) | L19: 오징어 | M19: 상 어 | N19: 가자미 | O19: 삼 치
A20: 1월 | B20: 4304.6062 | C20: 2607.6844 | D20: 3075.1885 | E20: 2564.8148 | F20: 42170.116 | G20: 8323.7868 | H20: 5586.4198 | I20: 12539.211 | J20: 3935.8151 | K20: 1580.5678 | L20: 6235.1401 | M20: 1861.9048 | N20: 5468.014 | O20: 4542.2438
A21: 2월 | B21: 5126.6511 | C21: 2329.6921 | D21: 5283.6601 | E21: 325 | F21: 8427.6915 | G21: 5239.0613 | H21: 21135.802 | I21: 14252.719 | J21: 3963.1071 | K21: 6873.1229 | L21: 3619.4884 | M21: 1194.4444 | N21: 4251.9778 | O21: 4506.1228
A22: 3월 | B22: 4226.1845 | C22: 2548.1976 | D22: 9126.5432 | E22: 915.74074 | F22: 42908.721 | G22: 8517.037 | H22: 10434.783 | I22: 15570.862 | J22: 4298.1885 | K22: 1714.7481 | L22: 4398.5922 | M22: 1468.254 | N22: 4499.9046 | O22: 5009.98
A23: 4월 | B23: 4037.2389 | C23: 3468.8581 | D23: 9124.6612 | E23: 187.03704 | F23: 40311.407 | G23: 9255.9913 | H23: 12672.883 | I23: 11349.331 | J23: 3905.6704 | K23: 1503.76 | L23: 3960.5263 | M23: 1222.2222 | N23: 5214.6949 | O23: 5232.6071
A24: 5월 | B24: 3448.7746 | C24: 2718.2144 | D24: 8888.5135 | E24: 1889.8148 | F24: 6299.3348 | G24: 9415.5681 | H24: 13114.976 | I24: 8125.426 | J24: 3772.5958 | K24: 1858.1507 | L24: 9812.5 | M24: 833.33333 | N24: 4061.881 | O24: 2553.0864
A25: 6월 | B25: 4089.5062 | C25: 3703.406 | D25: 7482.0106 | E25: 244.44444 | F25: 8503.0864 | G25: 9494.9381 | H25: 14640 | I25: 8391.4913 | J25: 5876.9292 | K25: 1723.8397 | L25: 3517.0168 | M25: 708.33333 | N25: 4480.4318 | O25: 3611.1111
